BEGIN:VCALENDAR
VERSION:2.0
PRODID:-//Lumen Christi Institute - ECPv6.15.9//NONSGML v1.0//EN
CALSCALE:GREGORIAN
METHOD:PUBLISH
X-WR-CALNAME:Lumen Christi Institute
X-ORIGINAL-URL:https://lumenchristi.org
X-WR-CALDESC:Events for Lumen Christi Institute
REFRESH-INTERVAL;VALUE=DURATION:PT1H
X-Robots-Tag:noindex
X-PUBLISHED-TTL:PT1H
BEGIN:VTIMEZONE
TZID:America/Chicago
BEGIN:DAYLIGHT
TZOFFSETFROM:-0600
TZOFFSETTO:-0500
TZNAME:CDT
DTSTART:20250309T080000
END:DAYLIGHT
BEGIN:STANDARD
TZOFFSETFROM:-0500
TZOFFSETTO:-0600
TZNAME:CST
DTSTART:20251102T070000
END:STANDARD
BEGIN:DAYLIGHT
TZOFFSETFROM:-0600
TZOFFSETTO:-0500
TZNAME:CDT
DTSTART:20260308T080000
END:DAYLIGHT
BEGIN:STANDARD
TZOFFSETFROM:-0500
TZOFFSETTO:-0600
TZNAME:CST
DTSTART:20261101T070000
END:STANDARD
BEGIN:DAYLIGHT
TZOFFSETFROM:-0600
TZOFFSETTO:-0500
TZNAME:CDT
DTSTART:20270314T080000
END:DAYLIGHT
BEGIN:STANDARD
TZOFFSETFROM:-0500
TZOFFSETTO:-0600
TZNAME:CST
DTSTART:20271107T070000
END:STANDARD
END:VTIMEZONE
BEGIN:VEVENT
DTSTART;TZID=America/Chicago:20260306T100000
DTEND;TZID=America/Chicago:20260306T110000
DTSTAMP:20260421T061237
CREATED:20251001T150532Z
LAST-MODIFIED:20260121T003257Z
UID:10001905-1772791200-1772794800@lumenchristi.org
SUMMARY:Greek New Testament
DESCRIPTION:REGISTER BELOW\n10:00 a.m. – 11:00 a.m. | Refreshments Provided \n*Note: winter sessions have been shifted forward by one week \nThis event is designated for University of Chicago graduate and undergraduate students. Students will receive a copy of the texts. \n“In many and various ways God spoke of old to our fathers by the prophets; but in these last days he has spoken to us by a Son\, whom he appointed the heir of all things\, through whom also he created the world.” This dramatic opening salvo of the Letter to the Hebrews\, summarizing salvation history\, is one of the most famous and consequential one-liners in the New Testament. But who is this Son? How is he “appointed heir of all things”? What is the relationship between God’s message through him and His message through the prophets? In this reading group\, we will examine\, through careful study of the Koine Greek text\, how the Letter to the Hebrews answers these questions and more\, with an eye to the authorship\, audience\, and genre of this mysterious text. All levels of Greek proficiency are encouraged to join. Advance preparation is recommended but not required. \nSchedule:\n\nOct. 17: Introduction; Hebrews 1.1-4: God’s Son\nOct. 24: Hebrews 1.5-14: The Son’s Superiority to the Angels\nOct. 31: Hebrews 2.1-9\,:The Son’s Abasement\nNov. 7: Hebrews 2.10-18: The Son\, the Pioneer of Our Salvation\nNov. 14: Hebrews 3: The Son and Moses\nNov. 21: Hebrews 4.1-13: God’s Promised Rest\n\nJan. 30: Hebrews 4.14–5.14\n\n\nFeb. 6: Hebrews 6.1–20\n\n\nFeb. 13: Hebrews 7.1–22\n\n\nFeb. 20: Hebrews 7.23–8.13\n\n\nFeb. 27: Hebrews 9.1–14\n\n\nMarch. 6: Hebrews 9.15–28
URL:https://lumenchristi.org/event/greek-new-testament/2026-03-06/
LOCATION:Gavin House\, 1220 E 58th St.\, Chicago\, IL\, 60637
CATEGORIES:Reading Groups
ATTACH;FMTTYPE=image/jpeg:https://lumenchristi.org/wp-content/uploads/2025/09/Papyrus_13_-_British_Library_Papyrus_1532_-_Epistle_to_the_Hebrews_-_2.jpg
END:VEVENT
BEGIN:VEVENT
DTSTART;TZID=America/Chicago:20260318T183000
DTEND;TZID=America/Chicago:20260318T203000
DTSTAMP:20260421T061237
CREATED:20260122T164859Z
LAST-MODIFIED:20260303T155258Z
UID:10001906-1773858600-1773865800@lumenchristi.org
SUMMARY:Wisdom and the Tranquility of Order: Reflections on Popes Leo XIII and XIV – Ever Ancient\, Ever New: The Sources of Pope Leo XIV | West Suburban Catholic Culture Series
DESCRIPTION:The West Suburban Catholic Culture Series\n\nEver Ancient\, Ever New:\nThe Sources of Pope Leo XIV\nREGISTER BELOW\n\n  \nMarch 18th:\nWisdom and the Tranquility of Order: Reflections on Popes Leo XIII and XIV\nSchedule: 6:30 p.m. Drinks | 7:00 p.m. Dinner\, Lecture\, & Q&A | 8:30 p.m. End \nLECTURE DESCRIPTION \nIn this lecture\, Prof. Roniger will outline the historical context that instigated the development of modern Catholic social doctrine during the pontificate of Pope Leo XIII (1878-1903). He will discuss some of Leo’s most important contributions to Magisterial teaching on social issues\, contributions that illuminate perennial principles that transcend the circumstances prompting their articulation. He will focus on Leo’s presentation of the dignity of society in all its complementary forms – a social dignity based upon the truth of the human person\, created in the image and likeness of God and redeemed by Jesus Christ. Finally\, he will briefly show how these principles have already been put to good use in the nascent pontificate of Pope Leo XIV. \nBusiness casual attire encouraged. For questions\, or if you would like to request a comped ticket as a priest\, religious\, or high school teacher\, please email Margaux (Killackey) Taffet at mtaffet@lumenchristi.org.
URL:https://lumenchristi.org/event/on-new-and-old-things-rerum-novarum-and-the-foundations-of-catholic-social-thought-ever-ancient-ever-new-the-sources-of-pope-leo-xiv-west-suburban-catholic-culture-series/
LOCATION:Ruth Lake Country Club\, 6200 South Madison Street\, Hinsdale\, IL
CATEGORIES:West Suburban Series
ATTACH;FMTTYPE=image/jpeg:https://lumenchristi.org/wp-content/uploads/2025/07/cq5dam.thumbnail.cropped.750.422.jpeg
END:VEVENT
BEGIN:VEVENT
DTSTART;TZID=America/Chicago:20260319T130000
DTEND;TZID=America/Chicago:20260319T163000
DTSTAMP:20260421T061237
CREATED:20260112T234804Z
LAST-MODIFIED:20260317T180325Z
UID:10001900-1773925200-1773937800@lumenchristi.org
SUMMARY:Wonder at the Silence of God: Sin and the Mystery of the Divine Presence in Shūsaku Endō's Masterpiece
DESCRIPTION:REGISTER BELOW\n1:00 p.m – 4:30 p.m. (Detailed Schedule Below) \nThis event is designated for current graduate & advanced undergraduate students and faculty from the University of Chicago & regional colleges and universities. Others interested in auditing should contact William Hurley at whurley@lumenchristi.org. \nThis project is made possible through the support of In Lumine Tuo: Expanding and Sustaining the Catholic Intellectual Tradition Nationwide (grant #63614) from the John Templeton Foundation and the generous support of our donors. \nDescription:\nShūsaku Endō’s novel Silence was published in Japanese in 1966 and translated into English in 1969\, immediately generating acclaim and intense debate. The conversation surrounding the novel was reinvigorated a decade ago with the release of Martin Scorsese’s 2016 film adaptation. This most recent round of discussion was dominated by two opposing answers to the question: Was Fr. Rodrigues’s climactic action justified? Did he sin or simply do what Christian charity demanded?  \nIn this master class\, I will argue that neither side in the debate has it quite right because both sides are posing the wrong question. In order to make this argument\, we will begin by asking the question: What is a question? What does it mean to ask the right question\, and how is a good question related to philosophical and theological inquiry? After investigating the nature of a question\, we will turn to the philosophy and theology of Robert Sokolowski\, especially his articulation of the “Christian distinction\,” which will enable us to pose the question that opens the door to the deepest dimensions of Endo’s novel. Finally\, in light of Sokolowski’s recapitulation of fundamental metaphysical truths in the Catholic tradition\, we will discuss what Endo’s novel might reveal to us about ourselves.  \nSyllabus:  \n\nEndō\, Silence (at least p. 129-189 in the Johnston translation\, Picador Modern Classics\, 2016)\nAristotle\, Metaphysics\, VII.17\, 1041a5-1041b35\nRobert Sokolowski\, “Creation and Christian Understanding.”\n1 Kings 19\n\n(Metaphysics & Sokolowski can be found here) \nSchedule:\n\n12:30pm – Optional Lunch\n1:00pm – First Session\n2:30pm – Break\n2:45pm – Second Session\n4:15pm – Close\n4:30-m – Wine and Cheese Reception\n\nEvent Type:\nMaster Class \nEach quarter\, the Lumen Christi Institute hosts a master class at Gavin House (1220 E 58th St.). A master class is a seminar in miniature\, in which top scholars introduce students to a major figure or concept in the Catholic intellectual tradition. The two eighty-minute sessions contain a mixture of lecture\, seminar discussion\, and close reading. All participants are provided a copy of the text under consideration. Any student interested in a shared reading of a great text is welcome to join. No religious affiliation is necessary.
URL:https://lumenchristi.org/event/wonder-at-the-silence-of-god-sin-and-the-mystery-of-the-divine-presence-in-shusaku-endos-masterpiece-2026-3-19/
LOCATION:Gavin House\, 1220 E 58th St.\, Chicago\, IL\, 60637
ATTACH;FMTTYPE=image/png:https://lumenchristi.org/wp-content/uploads/2026/01/Silence.png
END:VEVENT
BEGIN:VEVENT
DTSTART;TZID=America/Chicago:20260331T180000
DTEND;TZID=America/Chicago:20260331T193000
DTSTAMP:20260421T061237
CREATED:20260313T163314Z
LAST-MODIFIED:20260420T202440Z
UID:10002141-1774980000-1774985400@lumenchristi.org
SUMMARY:History of Monasticism
DESCRIPTION:REGISTER BELOW\n6:00 – 7:30 p.m. | Dinner Provided \nThis event is designated for current University of Chicago graduate and undergraduate students. University of Chicago faculty and staff are also welcome to attend. Others interested in auditing should contact William Hurley at whurley@lumenchristi.org. \nThis project is made possible through the support of In Lumine Tuo: Expanding and Sustaining the Catholic Intellectual Tradition Nationwide (grant #63614) from the John Templeton Foundation and the generous support of our donors. \nDescription:\nMonasticism is the form of religious life common to the Latin\, Greek\, Syriac\, and Coptic churches. This course will examine its development from the age of the martyrs to the present and its perennial role within the Body of Christ. Of special interest will be the tensions between the solitary life and common life\, flight from the world versus evangelization\, and the way these tensions create opportunities for renewal. Also of interest is how monasticism adapts itself to new political situations: the collapse of the Roman Empire in the West\, the advance of Islam\, the French Revolution and Enlightenment and the prospects for monasticism in the 21st century. \nSchedule:\n\nMarch 31 – The Call of the Desert (1st-4th)\nApril 7 – Foundations of a New World (5th-7th)\nApril 14 – Vikings to the North\, Saracens to the South (8th-10th)\nApril 21 – Shifts of Gravity: Cluny\, Athos\, and Monastic Reform (11th-13th)\nApril 28 – Cataclysms: The Fall of Constantinople and the Dissolution (14th-16th)\nMay 5 – The Age of Reason and Romantic Re-imaginings (17th-19th)\nMay 12 – Global Monasticism (19th-21st)\n\nSeries Description:\nNon-Credit Course \nEach quarter\, the Lumen Christi Institute hosts a Tuesday evening non-credit course at Gavin House (1220 E 58th St.). Survey-style lectures are held over a shared meal\, with no advanced preparation required.  These courses offer accessible introductions to key aspects of the Catholic intellectual tradition. All UChicago students\, staff\, and faculty members are welcome to join. No religious affiliation is necessary.
URL:https://lumenchristi.org/event/history-of-monasticism/2026-03-31/
LOCATION:IL
CATEGORIES:Non-Credit Courses
ATTACH;FMTTYPE=image/png:https://lumenchristi.org/wp-content/uploads/2026/03/monks.png
END:VEVENT
END:VCALENDAR