BEGIN:VCALENDAR
VERSION:2.0
PRODID:-//Lumen Christi Institute - ECPv6.15.9//NONSGML v1.0//EN
CALSCALE:GREGORIAN
METHOD:PUBLISH
X-ORIGINAL-URL:https://lumenchristi.org
X-WR-CALDESC:Events for Lumen Christi Institute
REFRESH-INTERVAL;VALUE=DURATION:PT1H
X-Robots-Tag:noindex
X-PUBLISHED-TTL:PT1H
BEGIN:VTIMEZONE
TZID:America/Chicago
BEGIN:DAYLIGHT
TZOFFSETFROM:-0600
TZOFFSETTO:-0500
TZNAME:CDT
DTSTART:20230312T080000
END:DAYLIGHT
BEGIN:STANDARD
TZOFFSETFROM:-0500
TZOFFSETTO:-0600
TZNAME:CST
DTSTART:20231105T070000
END:STANDARD
BEGIN:DAYLIGHT
TZOFFSETFROM:-0600
TZOFFSETTO:-0500
TZNAME:CDT
DTSTART:20240310T080000
END:DAYLIGHT
BEGIN:STANDARD
TZOFFSETFROM:-0500
TZOFFSETTO:-0600
TZNAME:CST
DTSTART:20241103T070000
END:STANDARD
BEGIN:DAYLIGHT
TZOFFSETFROM:-0600
TZOFFSETTO:-0500
TZNAME:CDT
DTSTART:20250309T080000
END:DAYLIGHT
BEGIN:STANDARD
TZOFFSETFROM:-0500
TZOFFSETTO:-0600
TZNAME:CST
DTSTART:20251102T070000
END:STANDARD
END:VTIMEZONE
BEGIN:VEVENT
DTSTART;TZID=America/Chicago:20240320T183000
DTEND;TZID=America/Chicago:20240320T203000
DTSTAMP:20260419T160054
CREATED:20251028T210854Z
LAST-MODIFIED:20251028T210854Z
UID:10001766-1710959400-1710966600@lumenchristi.org
SUMMARY:Catholic Women in the Arts and Sciences: An Underappreciated Tradition - Faith and Reason | West Suburban Catholic Culture Series
DESCRIPTION:The West Suburban Catholic Culture Series returns in 2024 to continue its series on\n“Faith and Reason as the Two Wings:\nThe History and Enduring Importance of Catholic Philosophy“\nREGISTER HERE\n(Business casual attire encouraged. For questions\, please email Marial Corona at mcorona@lumenchristi.org). \nSchedule: 6:30 p.m. Drinks | 7:00 p.m. Dinner\, Lecture\, & Q&A | 8:30 p.m. End \nMarch 20:\nCatholic Women in the Arts and Sciences: An Underappreciated Tradition\nBronwen McShea (Professor of History\, Augustine Institute)\nWhile many people are aware of the important intellectual and literary contributions of modern Catholic women such as St. Edith Stein and Flannery O’Connor\, it is not widely appreciated that there is a long line of Catholic women scholars\, scientists\, and writers stretching back to the Patristic era. \nIn this talk\, Dr. McShea will draw from her forthcoming book\, Women of the Church\, and highlight a range of brilliant and faithful women from the monastic\, humanistic\, and university traditions who can inspire Catholic intellectual and life and culture today. \nSERIES DESCRIPTION \nIn his 2006 Regensburg Address\, Pope Benedict XVI argued that “it is necessary and reasonable to raise the question of God through the use of reason\, and to do so in the context of the tradition of the Christian Faith.” \nChristianity shared a sense of “reason” with Greek philosophy. Jesus himself was the Word (Logos)\, the Greek word for reason and speech.  St. Paul himself reminded us that Christian worship is “reasonable worship” (logike latreia) (Rom. 12:1)\, and while love “transcends” knowledge and can perceive more than thought alone\, it remains the love of the God who is Logos (Eph. 3:19). \nFaith and reason support one another; however\, many have tried to tear them asunder. The Reformation tried to get to a “pure” faith without reason; modern atheism has claimed that nothing can be “known” about God. When faith and reason are pulled apart\, we lose sight of God and of ourselves\, since we are made to know and love God. \nIn this year’s WSCCS\, we will challenge the all-too-common assumption that the Church’s faith stands in opposition to reason. Join us as we examine the philosophical\, monastic\, and artistic geniuses who have borne the Church aloft through their engagement and enrichment of worldly wisdom. \nEach month\, we will gather at Ruth Lake Country Club. Over dinner\, we will listen to a sophisticated yet accessible lecture offered by accomplished academics. The lectures will introduce insights from the treasure house of the Church’s intellectual tradition and their bearing on contemporary themes and issues\, presenting faithful Catholic teaching in a way that avoids the acrimony of the culture wars. \nCALENDAR \nSeptember 13: Golden Calf: Philosophy and Theology in the Early Church\nKenneth Calvert (Professor of History\, Director of the Oxford Program\, Hillsdale College) \nOctober 4: The One Thing Necessary: Monasticism and Philosophy\nPrior Peter Funk\, OSB (Monastery of the Holy Cross) \nNovember 9: Integrity\, Creation\, and a Restless Heart: Augustine’s Contribution to Philosophy\nJared Ortiz (Professor of Theology\, Founder and Executive Director of the St. Benedict Institute\, Hope College) \nMarch 20: Catholic Women in the Arts and Sciences: An Underappreciated Tradition\nBronwen McShea (Professor of History\, Augustine Institute) \nApril 10: Is Free Will an Illusion? St. Thomas Aquinas and Human Action\nFr. Stephen Brock (Professor of Medieval Philosophy\, Pontifical University of the Holy Cross) \nMay 15: The Bond of All Creation: Renaissance Humanism and the Incarnate Word\nMatthew Gaetano (Professor of History\, Hillsdale College) \nMARCH SPEAKER \nBronwen McShea
URL:https://lumenchristi.org/event/catholic-women-in-the-arts-and-sciences-an-underappreciated-tradition-faith-and-reason-west-suburban-catholic-culture-series/
LOCATION:Ruth Lake Country Club\, 6200 South Madison Street\, Hinsdale\, IL
ATTACH;FMTTYPE=image/jpeg:https://lumenchristi.org/wp-content/uploads/2024/10/Disputa_del_Sacramento_(Rafael)-scaled.jpg
END:VEVENT
BEGIN:VEVENT
DTSTART;TZID=America/Chicago:20240322T130000
DTEND;TZID=America/Chicago:20240322T180000
DTSTAMP:20260419T160054
CREATED:20241003T162534Z
LAST-MODIFIED:20260112T144141Z
UID:10000066-1711112400-1711130400@lumenchristi.org
SUMMARY:The Quandaries of Biotechnology: Theory and Practice
DESCRIPTION:See Session 2 video and audio. \nSee Keynote Lecture video and audio.  \n  \nThis event is free and open to the public. This event is cosponsored by The Program on Medicine and Religion at the University of Chicago\, and The Albert Gnaegi Center for Health Care Ethics at Saint Louis University. For more information\, contact info@lumenchristi.org. \nHow are new developments between biotechnology and big data including gene editing\, brain-computer interfacing\, and artificial intelligence changing our vision of what it means to be human? How does this bear in the ethical practices of medicine and research at the lab bench and at the bedside? How might an integrative vision of ethics contribute to this conversation? Are there alternative social imaginaries in which we can think about different technologies? \nIn this day-long spring symposium\, scholars from the University of Chicago and the Chicagoland area are invited to discuss how biotechnology is shaping anthropology and whether the application of new biomedical technologies reflects an adequate understanding of human personhood. \nThis event is open to the public and seeks to engage particularly with current students\, faculty\, and medical practitioners interested in the intersection between science\, medicine\, technology\, and theology. Publication of this program’s proceedings is a possibility. Participants are invited to return for a second symposium in fall 2024 on biotechnology and artificial intelligence. \nSchedule \n1:00 – 2:30 PM CT  –  Session 1 \n“Medicine Within the Technological Enframing” – Kyle Karches (Saint Louis University) \n“The Grand Inquisitor\, Mustapha Mond\, and the Attack on the Transcendentals” – Stephen Meredith (University of Chicago) \nQ&A\, Moderated by Jeffrey Bishop (Saint Louis University) \n3:00 – 4:30 PM CT –  Session 2 \n“Our Biotechnologies\, Ourselves: Reflections on Innovation\, Identity\, and Culture” – Lesley Rice (Pontifical John Paul II Institute) \n“Beyond Ethics: A Humanities Perspective on (Bio)technology” – Silvianne Aspray (Cambridge University) \nQ&A\, Moderated by Jeffrey Bishop (Saint Louis University) \n5:00 – 6:00 PM CT –  Keynote Lecture \n“Populations\, Persons\, and Precision Medicine: The Ethics of Emerging Information Technologies in Genetics and Medicine” – Paul Scherz (University of Virginia) \nYou can view abstracts and presenter details here \n\nThis event is made possible through the support of ‘In Lumine: Supporting the Catholic Intellectual Tradition on Campuses Nationwide’ (Grant #62372) from the John Templeton Foundation.
URL:https://lumenchristi.org/event/2024-03-quandaries-of-biotechnology-theory-practice-paul-scherz/
LOCATION:BSLC 115\, 924 E 57th St.\nChicago\, IL 60637\, Hyde Park\, IL
ATTACH;FMTTYPE=image/png:https://lumenchristi.org/wp-content/uploads/2024/10/Biotech-AdobeStock.png
END:VEVENT
BEGIN:VEVENT
DTSTART;TZID=America/Chicago:20240323T120000
DTEND;TZID=America/Chicago:20240323T150000
DTSTAMP:20260419T160054
CREATED:20241003T162533Z
LAST-MODIFIED:20241023T194229Z
UID:10000065-1711195200-1711206000@lumenchristi.org
SUMMARY:Grief\, Suffering\, and "The Art of Dying" in a Plague: Cyprian’s De Mortalitate
DESCRIPTION:Open to current graduate students and faculty. Advanced undergraduates and others interested in participating should contact dstrobach@lumenchristi.org. This event is in-person only. All registrants will receive copies of the selected readings\, which should be read in advance of the class. Reception will follow.  \nThis event is made possible through the support of ‘In Lumine: Supporting the Catholic Intellectual Tradition on Campuses Nationwide’ (Grant #62372) from the John Templeton Foundation. \nThe ancient Stoics rejected grief as a passion.  Was it inhuman to grieve? Or was it inhuman to suppress this natural human affect?  What about longing for lost loved ones or the fear of death?  To what extent did early Christian teaching modify or reject the Stoics? And how does one approach the possibility of loss and death today\, in a contemporary medical context that has prioritized statistical analysis and abstraction in lieu of concern for the concrete ‘other’? \nCyprian of Carthage’s sermon Mortality\, delivered in the middle of a devastating plague in the third century\, provides an early Christian vision of how to face death\, which both takes up and transforms ancient Stoic approaches to death. This seminar-style discussion will explore these themes as well as its call to care for others despite risk. It will explore these insights in relation to today’s dramatically changed medical context in which care for the human person risks being occluded by statistical abstraction. \nReadings:\nCyprian’s “Mortality” from Treatises in CUA’s Fathers of the Church Series (pp. 193-221). \nSecondary: \nScherz “Grief\, Death\, and Longing in Stoic and Christian Ethics” Journal of Religious Ethics 45: 1 (2017)\, 7–28. \nScherz\, “Chapter 10: Caring for the Statistical Other” in The Ethics of Precision Medicine: The Problems of Prevention in Healthcare (Notre Dame: University of Notre Dame Press\, Forthcoming). \nBoth the required and recommended readings will be distributed to participants via Dropbox. If you prefer\, you can pick up a printout of the readings at Gavin House (1220 E. 58th Street) Mon-Fri\, 10am-4pm once they are ready. Please email David Strobach at dstrobach@lumenchristi.org to let us know you are coming. \nDiscussion Questions:\nAccording to Cyprian\, how should Christians approach death? How is this similar and/or different from contemporary stances toward death? \nFor Cyprian\, how does a proper attitude toward death affect our actions and feelings toward others? How does it affect our emotions for loved ones who have died? \nSchedule:\n11:30-12:00 | Optional pre-event lunch \n12:00-1:20 | Session 1 \n1:20-1:40 | Coffee break \n1:40-3:00 | Session 2 \n3:00-3:30 | Reception
URL:https://lumenchristi.org/event/2024-03-scherz-master-class/
LOCATION:Gavin House\, 1220 E 58th St.\, Chicago\, IL\, 60637
CATEGORIES:Master Classes
ATTACH;FMTTYPE=image/png:https://lumenchristi.org/wp-content/uploads/2024/10/Cyprian.PNG
END:VEVENT
END:VCALENDAR