BEGIN:VCALENDAR
VERSION:2.0
PRODID:-//Lumen Christi Institute - ECPv6.15.9//NONSGML v1.0//EN
CALSCALE:GREGORIAN
METHOD:PUBLISH
X-ORIGINAL-URL:https://lumenchristi.org
X-WR-CALDESC:Events for Lumen Christi Institute
REFRESH-INTERVAL;VALUE=DURATION:PT1H
X-Robots-Tag:noindex
X-PUBLISHED-TTL:PT1H
BEGIN:VTIMEZONE
TZID:America/Chicago
BEGIN:DAYLIGHT
TZOFFSETFROM:-0600
TZOFFSETTO:-0500
TZNAME:CDT
DTSTART:20220313T080000
END:DAYLIGHT
BEGIN:STANDARD
TZOFFSETFROM:-0500
TZOFFSETTO:-0600
TZNAME:CST
DTSTART:20221106T070000
END:STANDARD
BEGIN:DAYLIGHT
TZOFFSETFROM:-0600
TZOFFSETTO:-0500
TZNAME:CDT
DTSTART:20230312T080000
END:DAYLIGHT
BEGIN:STANDARD
TZOFFSETFROM:-0500
TZOFFSETTO:-0600
TZNAME:CST
DTSTART:20231105T070000
END:STANDARD
BEGIN:DAYLIGHT
TZOFFSETFROM:-0600
TZOFFSETTO:-0500
TZNAME:CDT
DTSTART:20240310T080000
END:DAYLIGHT
BEGIN:STANDARD
TZOFFSETFROM:-0500
TZOFFSETTO:-0600
TZNAME:CST
DTSTART:20241103T070000
END:STANDARD
END:VTIMEZONE
BEGIN:VEVENT
DTSTART;TZID=America/Chicago:20230913T183000
DTEND;TZID=America/Chicago:20230913T203000
DTSTAMP:20260419T235115
CREATED:20251028T205810Z
LAST-MODIFIED:20260129T212935Z
UID:10001763-1694629800-1694637000@lumenchristi.org
SUMMARY:Golden Calf: Philosophy and Theology in the Early Church - Faith and Reason | West Suburban Catholic Culture Series
DESCRIPTION:The West Suburban Catholic Culture Series returns in 2024 to continue its series on\n“Faith and Reason as the Two Wings:\nThe History and Enduring Importance of Catholic Philosophy“\n(Business casual attire encouraged. For questions\, please email Marial Corona at mcorona@lumenchristi.org). \nSchedule: 6:30 p.m. Drinks | 7:00 p.m. Dinner\, Lecture\, & Q&A | 8:30 p.m. End \nSep 13:\nGolden Calf: Philosophy and Theology in the Early Church\nKenneth Calvert (Hillsdale College)\nThe Greek and Roman world was\, to say the least\, immensely religious. The early Christians did not have not to convince their contemporaries of the existence of the divine\, but to proclaim the nature and work of the incarnate God. The ideas and language of philosophy offered them many possibilities. As St. Justin Martyr wrote\, “Whatever things were rightly said among all men are the property of us Christians.” Christians found great use of Greek and Roman philosophy\, but they also found significant obstacles. The “gold” that was philosophy both clarified and confused Christians and their detractors. \nIn this lecture\, Prof. Calvert will walk us through the fascinating exchange and enrichment that occurred between philosophy and theology in the early Church\, allowing us to discover possibilities to better engage today’s world with the tools that philosophy affords us. \nSERIES DESCRIPTION \nIn his 2006 Regensburg Address\, Pope Benedict XVI argued that “it is necessary and reasonable to raise the question of God through the use of reason\, and to do so in the context of the tradition of the Christian Faith.” \nChristianity shared a sense of “reason” with Greek philosophy. Jesus himself was the Word (Logos)\, the Greek word for reason and speech.  St. Paul himself reminded us that Christian worship is “reasonable worship” (logike latreia) (Rom. 12:1)\, and while love “transcends” knowledge and can perceive more than thought alone\, it remains the love of the God who is Logos (Eph. 3:19). \nFaith and reason support one another; however\, many have tried to tear them asunder. The Reformation tried to get to a “pure” faith without reason; modern atheism has claimed that nothing can be “known” about God. When faith and reason are pulled apart\, we lose sight of God and of ourselves\, since we are made to know and love God. \nIn this year’s WSCCS\, we will challenge the all-too-common assumption that the Church’s faith stands in opposition to reason. Join us as we examine the philosophical\, monastic\, and artistic geniuses who have borne the Church aloft through their engagement and enrichment of worldly wisdom. \nEach month\, we will gather at Ruth Lake Country Club. Over dinner\, we will listen to a sophisticated yet accessible lecture offered by accomplished academics. The lectures will introduce insights from the treasure house of the Church’s intellectual tradition and their bearing on contemporary themes and issues\, presenting faithful Catholic teaching in a way that avoids the acrimony of the culture wars. \nCALENDAR \nSeptember 13: Golden Calf: Philosophy and Theology in the Early Church\nKenneth Calvert (Professor of History\, Director of the Oxford Program\, Hillsdale College) \nOctober 4: The One Thing Necessary: Monasticism and Philosophy\nPrior Peter Funk\, OSB (Monastery of the Holy Cross) \nNovember 9: Integrity\, Creation\, and a Restless Heart: Augustine’s Contribution to Philosophy\nJared Ortiz (Professor of Theology\, Founder and Executive Director of the St. Benedict Institute\, Hope College) \nMarch 20: Catholic Women in the Arts and Sciences: An Underappreciated Tradition\nBronwen McShea (Professor of History\, Augustine Institute) \nApril 10: Is Free Will an Illusion? St. Thomas Aquinas and Human Action\nFr. Stephen Brock (Professor of Medieval Philosophy\, Pontifical University of the Holy Cross) \nMay 15: The Bond of All Creation: Renaissance Humanism and the Incarnate Word\nMatthew Gaetano (Professor of History\, Hillsdale College) \nSEPTEMBER SPEAKER \nKenneth Calvert
URL:https://lumenchristi.org/event/golden-calf-philosophy-and-theology-in-the-early-church-faith-and-reason-west-suburban-catholic-culture-series/
LOCATION:Ruth Lake Country Club\, 6200 South Madison Street\, Hinsdale\, IL
ATTACH;FMTTYPE=image/jpeg:https://lumenchristi.org/wp-content/uploads/2024/10/Disputa_del_Sacramento_(Rafael)-scaled.jpg
END:VEVENT
END:VCALENDAR