BEGIN:VCALENDAR
VERSION:2.0
PRODID:-//Lumen Christi Institute - ECPv6.15.9//NONSGML v1.0//EN
CALSCALE:GREGORIAN
METHOD:PUBLISH
X-ORIGINAL-URL:https://lumenchristi.org
X-WR-CALDESC:Events for Lumen Christi Institute
REFRESH-INTERVAL;VALUE=DURATION:PT1H
X-Robots-Tag:noindex
X-PUBLISHED-TTL:PT1H
BEGIN:VTIMEZONE
TZID:America/Chicago
BEGIN:DAYLIGHT
TZOFFSETFROM:-0600
TZOFFSETTO:-0500
TZNAME:CDT
DTSTART:20220313T080000
END:DAYLIGHT
BEGIN:STANDARD
TZOFFSETFROM:-0500
TZOFFSETTO:-0600
TZNAME:CST
DTSTART:20221106T070000
END:STANDARD
BEGIN:DAYLIGHT
TZOFFSETFROM:-0600
TZOFFSETTO:-0500
TZNAME:CDT
DTSTART:20230312T080000
END:DAYLIGHT
BEGIN:STANDARD
TZOFFSETFROM:-0500
TZOFFSETTO:-0600
TZNAME:CST
DTSTART:20231105T070000
END:STANDARD
BEGIN:DAYLIGHT
TZOFFSETFROM:-0600
TZOFFSETTO:-0500
TZNAME:CDT
DTSTART:20240310T080000
END:DAYLIGHT
BEGIN:STANDARD
TZOFFSETFROM:-0500
TZOFFSETTO:-0600
TZNAME:CST
DTSTART:20241103T070000
END:STANDARD
END:VTIMEZONE
BEGIN:VEVENT
DTSTART;TZID=America/Chicago:20230701T000000
DTEND;TZID=America/Chicago:20230708T000000
DTSTAMP:20260420T025540
CREATED:20241006T235446Z
LAST-MODIFIED:20251217T185309Z
UID:10000102-1688169600-1688774400@lumenchristi.org
SUMMARY:The Thought of John Henry Newman
DESCRIPTION:APPLY HERE\nNow in its tenth year\, this intensive seminar will examine the achievements of Saint John Henry Newman as a theologian\, philosopher\, educator\, preacher\, and writer. Remarkably\, in each of these areas Newman produced works that have come to be recognized as classics: An Essay on the Development of Christian Doctrine\, The Grammar of Assent\, The Idea of a University\, The Parochial and Plain Sermons\, and the Apologia Pro Vita Sua. This seminar will approach Newman’s thought through a critical engagement with these texts. \nLOCATION AND FORMAT\n\nThe seminar will be held at Merton College\, Oxford.\nMeals and lodging will be provided.\nParticipants will receive a stipend of up to $700 to offset travel expenses.\nParticipants will arrive on Saturday\, July 1 and depart on Saturday\, July 8.\nParticipants will be required to read the assigned texts in preparation for the seminar.\nFifteen applicants will be admitted to the seminar.\n\nQUALIFICATIONS AND APPLICATION\nThis seminar is open to Ph.D. students in theology\, philosophy\, classics\, and other relevant fields of study. \n\nA completed online application form.\nAn updated CV.\nAt least one and no more than two letter(s) of recommendation.\nA statement of research interest no longer than 750 words\, which includes an explanation of how this seminar might bear on the student’s current or future research plans.\nOne academic writing sample (30 pages maximum).\nAll application materials can be submitted via the online application. Incomplete applications will not be considered\n\nApplication materials are due February 21\, 2023. \nAPPLICATION DEADLINE HAS BEEN EXTENDED TO MARCH 8\, 2023. \nContact us with any questions at seminars@lumenchristi.org.
URL:https://lumenchristi.org/event/2023-newman-oxford-seminar/
LOCATION:Merton College\, Oxford\, Merton St\, Oxford OX1 4JD\, UK\, Oxford\, United Kingdom
CATEGORIES:Summer Seminars
ATTACH;FMTTYPE=image/jpeg:https://lumenchristi.org/wp-content/uploads/2024/10/IMG_1562-scaled.jpg
END:VEVENT
BEGIN:VEVENT
DTSTART;TZID=America/Chicago:20230705T160000
DTEND;TZID=America/Chicago:20230709T120000
DTSTAMP:20260420T025540
CREATED:20260320T160252Z
LAST-MODIFIED:20260320T160252Z
UID:10001916-1688572800-1688904000@lumenchristi.org
SUMMARY:Newman Forum Summer Institute | There and Back Again: The Adventures of Pilgrims\, Heroes\, and Saints
DESCRIPTION:
URL:https://lumenchristi.org/event/newman-forum-summer-institute-there-and-back-again-the-adventures-of-pilgrims-heroes-and-saints/
LOCATION:IL
CATEGORIES:Newman Forum
ATTACH;FMTTYPE=image/jpeg:https://lumenchristi.org/wp-content/uploads/2026/02/Inferno-e1770319403457.jpeg
END:VEVENT
BEGIN:VEVENT
DTSTART;TZID=America/Chicago:20230709T000000
DTEND;TZID=America/Chicago:20230715T000000
DTSTAMP:20260420T025540
CREATED:20241006T235446Z
LAST-MODIFIED:20251217T184407Z
UID:10000101-1688860800-1689379200@lumenchristi.org
SUMMARY:The Thought of Rene Girard: Understanding the Faith in a Secular Age
DESCRIPTION:Photo Credit: Linda A. Cicero / Stanford News Service \nAPPLY HERE \n[Direct link: https://lumenchristi.submittable.com/submit/fe249b0c-362e-4d83-b3e9-4c86180e2e37/2023-the-thought-of-rene-girard-understanding-the-faith-in-a-secular-age ] \nOne of the most influential 20th century Catholic thinkers\, René Girard transformed our understanding of culture\, religion\, and human behavior. His “mimetic theory” builds on the demystifying power of the Old and New Testaments to illuminate the religious history of mankind. Through an intensive reading of his more accessible works\, in conjunction with the fiction of the greatest writers\, this five-day seminar will explore Girard’s key insights into imitation\, conflict\, and scapegoating\, connecting them to central themes of Christian theology. \nLocation and Format \nThis seminar will be held at Stanford Univeristy. \nThere will be two 2.5-hour sessions on Monday\, Wednesday\, and Friday. On Tuesday and Thursday\, the morning session will be followed by a post-lunch excursion. Each session will a seminar-style discussion of the text and the issues at hand. Students will be expected to prepare the readings carefully\, submit study questions in advance\, and participate actively in each session. \nApplication Information\nThis seminar is open to all undergraduate students (including 2023 graduates) interested in understanding the thought of one of the great modern Christian apologists. \nApplicants will be required to submit an online application form including: \n\nA list of completed coursework.\nAt least one and as many as two letter(s) of recommendation from a professor at the school in which the student is currently enrolled.\nA statement of interest no longer than 750 words\, which includes an explanation of how this seminar might bear on the student’s current intellectual interests.\n\nAll application materials can be submitted via the online application. Incomplete applications will not be considered. Fifteen applicants will be admitted to this seminar. Admitted students will receive lodging and meals for the duration of the seminar and a $350 travel stipend. \nAdmissions accepted on a rolling basis until full. 
URL:https://lumenchristi.org/event/2023-girard-seminar/
LOCATION:Stanford University\, 450 Serra Mall\, Stanford\, CA 94305\, Stanford\, CA
CATEGORIES:Summer Seminars
ATTACH;FMTTYPE=image/jpeg:https://lumenchristi.org/wp-content/uploads/2024/10/girard.webp.crdownload
END:VEVENT
BEGIN:VEVENT
DTSTART;TZID=America/Chicago:20230718T180000
DTEND;TZID=America/Chicago:20230722T150000
DTSTAMP:20260420T025540
CREATED:20241003T162627Z
LAST-MODIFIED:20241023T194942Z
UID:10000100-1689703200-1690038000@lumenchristi.org
SUMMARY:Tolkien\, Christianity\, and Art
DESCRIPTION:The Lumen Christi Institute has designed this two-day seminar to introduce major themes and debates from the Catholic Church’s history to a wide online audience. It offers the opportunity to read primary sources in the context of a seminar-style discussion\, led by Catholic faculty.   \nThe enrollment fee for this short course is $95 USD. Because we believe the Catholic Intellectual Tradition should be made available to everyone\, a limited number of scholarships are available. Contact info@lumenchristi.org for more details. \nThis is one of three short courses hosted by the Lumen Christi Institute this summer. If you would like to take a deep dive into the Church’s tradition by signing up for all three short courses for the discounted price of $200\, you can do so HERE. \nJRR Tolkien stands as a colossus among modern fantasy writers and mythmakers. Many are familiar with his Christian faith and his famous books\, The Hobbit and The Lord of the Rings and many discuss whether or how his Christian faith figures into these fantasy stories or whether his fantasy is separable or only superficially related to his personal Christian belief. This course will examine Tolkien’s robust concept of creativity and art in his other writings: ‘Leaf by Niggle\,’ ‘On Fairy Stories\,’ and selected letters\, and excerpts from his Silmarillion. In these texts Tolkien articulates his ideas of subcreation\, ‘the long defeat\,’ and ‘eucatastrophe’\, the promise and danger of art as well as art’s redemption. \nPreparatory materials will focus on Tolkien’s essays and art that discusses his theory and practice of art and creativity and how his Christian beliefs informs this vision of and practice of creativity. Introductory videos will frame the overall life of Tolkien and introduce our readings. The three sessions of the course will prioritize discussion of our readings in the tradition of Great Books style seminars. Primary topics will include the practice of art\, its promise\, danger\, and possible redemption; the value of myth for truth and living for truth. ‘Fairy Stories’ will introduce central concepts\, including subcreation and eucatastrophe. Finally\, we shall see the performance of these ideas in the myths of the Silmarillion in the creation of Middle-Earth\, the subcreation of Middle-Earth\, and ingenious and hazardous creation of the silmarils by heroic Feanor. We shall also bring this back to re-read Leaf with new eyes. \nSchedule\nSession 1: Tuesday\, July 18: 6:00 PM – 7:30 PM \nSession 2: Saturday\, July 22: 10:30 AM – 12:00 PM \nSession 3: Saturday\, July 22: 1:30 PM – 3:00 PM \nReadings\nSession 1: The Promise and Danger of Art \n\n‘Leaf by Niggle’\n‘Mythopoeia’\n\nSession 2: Theory of Fantasy / Creative Art (‘Subcreation’ and Eucatastrophe) \n\n‘On Fairy Stories’\nIntroduction to the Creativity Narratives of Silmarillion \n\nSession 3: The Promise and Dangers of Subcreation \n\nSilmarillion\, selections\n‘Leaf by Niggle’\n\n​​*Pdfs. of all readings will be provided to participants. 
URL:https://lumenchristi.org/event/2023-07-tolkien-christianity-art-robert-porwoll/
LOCATION:ONLINE\, World Wide Web\, INTERNET
CATEGORIES:ONLINE
ATTACH;FMTTYPE=image/jpeg:https://lumenchristi.org/wp-content/uploads/2024/10/Europe_a_Prophecy_copy_K_plate_01-scaled.jpg
END:VEVENT
BEGIN:VEVENT
DTSTART;TZID=America/Chicago:20230730T000000
DTEND;TZID=America/Chicago:20230805T000000
DTSTAMP:20260420T025540
CREATED:20241006T235446Z
LAST-MODIFIED:20251217T194641Z
UID:10000099-1690675200-1691193600@lumenchristi.org
SUMMARY:Truth and Authority in Augustine's City of God
DESCRIPTION:APPLY HERE\nThis seminar is an intensive week-long course in how to read\, analyze\, and discern the many themes in Augustine’s most ambitious and sprawling work. The City of God tells the history of two societies\, and their respective origins\, progress\, and appointed ends. The story is engaged first from the evidence of profane history (I-XI) and then from the evidence of revelation (XII-XXII). In this seminar\, participants will discuss how Augustine reckons with the crisis of the ancient and the human city\, and whether it is possible to reconcile truth and authority across the competing domains of polity\, religion\, and philosophical wisdom. These themes will be approached from an interdisciplinary perspective\, addressing questions pertinent to students in political science\, philosophy\, law\, theology\, religious studies\, and history. \nFormat\nThere will be two 2.5-hour sessions each day. Each session will include an opening lecture and seminar-style discussion of the text and the issues at hand. Students will be expected to prepare the readings carefully and participate in the discussions of the material. \nLocation\nThe seminar will take place at the University of California\, Berkeley. Students will be provided with lodging\, meals\, and a travel stipend of up to $350. \nApplication Information\nThis seminar will be open to JD\, PhD students\, postdoctoral fellows\, and junior faculty in the humanities and relevant fields (such as philosophy\, theology\, English\, classics\, law and  history). \nApplicants will be required to submit: \n\nA completed online application form.\nAn updated CV.\nAt least one and as many as two letter(s) of recommendation from a member of the program in which the student is currently enrolled.\nA statement of research interest no longer than 750 words\, which includes an explanation of how this seminar might bear on the student’s current or future research plans.\nOne academic writing sample (30 pages maximum).\n\nAll application materials can be submitted via the online application. Incomplete applications will not be considered. Fifteen students will be admitted to this seminar. \nApplication materials are due February 21\, 2023. \nAPPLICATION DEADLINE HAS BEEN EXTENDED TO MARCH 8\, 2023. \nAny further questions can be directed to seminars@lumenchristi.org.
URL:https://lumenchristi.org/event/2023-augustine-city-of-god/
LOCATION:University of California\, Berkeley\, S Hall Rd.\nBerkeley\, CA 94720\, Berkeley\, CA
CATEGORIES:Summer Seminars
ATTACH;FMTTYPE=image/jpeg:https://lumenchristi.org/wp-content/uploads/2024/10/AdobeStock_279282813-scaled.jpeg
END:VEVENT
END:VCALENDAR