BEGIN:VCALENDAR
VERSION:2.0
PRODID:-//Lumen Christi Institute - ECPv6.15.9//NONSGML v1.0//EN
CALSCALE:GREGORIAN
METHOD:PUBLISH
X-ORIGINAL-URL:https://lumenchristi.org
X-WR-CALDESC:Events for Lumen Christi Institute
REFRESH-INTERVAL;VALUE=DURATION:PT1H
X-Robots-Tag:noindex
X-PUBLISHED-TTL:PT1H
BEGIN:VTIMEZONE
TZID:America/Chicago
BEGIN:DAYLIGHT
TZOFFSETFROM:-0600
TZOFFSETTO:-0500
TZNAME:CDT
DTSTART:20220313T080000
END:DAYLIGHT
BEGIN:STANDARD
TZOFFSETFROM:-0500
TZOFFSETTO:-0600
TZNAME:CST
DTSTART:20221106T070000
END:STANDARD
BEGIN:DAYLIGHT
TZOFFSETFROM:-0600
TZOFFSETTO:-0500
TZNAME:CDT
DTSTART:20230312T080000
END:DAYLIGHT
BEGIN:STANDARD
TZOFFSETFROM:-0500
TZOFFSETTO:-0600
TZNAME:CST
DTSTART:20231105T070000
END:STANDARD
BEGIN:DAYLIGHT
TZOFFSETFROM:-0600
TZOFFSETTO:-0500
TZNAME:CDT
DTSTART:20240310T080000
END:DAYLIGHT
BEGIN:STANDARD
TZOFFSETFROM:-0500
TZOFFSETTO:-0600
TZNAME:CST
DTSTART:20241103T070000
END:STANDARD
END:VTIMEZONE
BEGIN:VEVENT
DTSTART;TZID=America/Chicago:20230109T140000
DTEND;TZID=America/Chicago:20230109T150000
DTSTAMP:20260420T112715
CREATED:20241003T162740Z
LAST-MODIFIED:20241023T142635Z
UID:10000149-1673272800-1673276400@lumenchristi.org
SUMMARY:Ancient Heresies and Why They Matter Today
DESCRIPTION:Intended for university students and recent graduates. Others interested in attending please contact m.lechevallier@lumenchristi.org. \nStudents may assume that studying heresy is the work of apologetics or the work of ancient historians. But heresies played a pivotal role in helping shape the Catholic Church. Further\, certain heresies are recurrent.\nJoin for this lunchtime discussion on Ancient Heresies and why they matter today.
URL:https://lumenchristi.org/event/2023-01-ancient-heresies-and-why-they-matter-today-peter-bernardi-sj/
LOCATION:Calvert House\, 5735 S University Ave\, Chicago\, IL 60637\, Chicago\, IL
ATTACH;FMTTYPE=image/jpeg:https://lumenchristi.org/wp-content/uploads/2024/10/get-image-thumbnail-1.jpeg
END:VEVENT
BEGIN:VEVENT
DTSTART;TZID=America/Chicago:20230109T140000
DTEND;TZID=America/Chicago:20230109T150000
DTSTAMP:20260420T112715
CREATED:20241003T163435Z
LAST-MODIFIED:20241023T142632Z
UID:10000148-1673272800-1673276400@lumenchristi.org
SUMMARY:Ancient Heresies and Why They Matter Today
DESCRIPTION:Intended for university students and recent graduates. Others interested in attending please contact m.lechevallier@lumenchristi.org. \nStudents may assume that studying heresy is the work of apologetics or the work of ancient historians. But heresies played a pivotal role in helping shape the Catholic Church. Further\, certain heresies are recurrent.\nJoin for this lunchtime discussion on Ancient Heresies and why they matter today.
URL:https://lumenchristi.org/event/2023-01-ancient-heresies-and-why-they-matter-today-peter-bernardi-sj-2/
LOCATION:IL
ATTACH;FMTTYPE=image/jpeg:https://lumenchristi.org/wp-content/uploads/2024/10/get-image-thumbnail-1-1.jpeg
END:VEVENT
BEGIN:VEVENT
DTSTART;TZID=America/Chicago:20230109T140000
DTEND;TZID=America/Chicago:20230109T150000
DTSTAMP:20260420T112715
CREATED:20241003T163906Z
LAST-MODIFIED:20241023T142630Z
UID:10000147-1673272800-1673276400@lumenchristi.org
SUMMARY:Ancient Heresies and Why They Matter Today
DESCRIPTION:Intended for university students and recent graduates. Others interested in attending please contact m.lechevallier@lumenchristi.org. \nStudents may assume that studying heresy is the work of apologetics or the work of ancient historians. But heresies played a pivotal role in helping shape the Catholic Church. Further\, certain heresies are recurrent.\nJoin for this lunchtime discussion on Ancient Heresies and why they matter today.
URL:https://lumenchristi.org/event/2023-01-ancient-heresies-and-why-they-matter-today-peter-bernardi-sj-3/
LOCATION:IL
ATTACH;FMTTYPE=image/jpeg:https://lumenchristi.org/wp-content/uploads/2024/10/get-image-thumbnail-1-2.jpeg
END:VEVENT
BEGIN:VEVENT
DTSTART;TZID=America/Chicago:20230109T140000
DTEND;TZID=America/Chicago:20230109T150000
DTSTAMP:20260420T112715
CREATED:20241003T164614Z
LAST-MODIFIED:20241023T142627Z
UID:10000146-1673272800-1673276400@lumenchristi.org
SUMMARY:Ancient Heresies and Why They Matter Today
DESCRIPTION:Intended for university students and recent graduates. Others interested in attending please contact m.lechevallier@lumenchristi.org. \nStudents may assume that studying heresy is the work of apologetics or the work of ancient historians. But heresies played a pivotal role in helping shape the Catholic Church. Further\, certain heresies are recurrent.\nJoin for this lunchtime discussion on Ancient Heresies and why they matter today.
URL:https://lumenchristi.org/event/2023-01-ancient-heresies-and-why-they-matter-today-peter-bernardi-sj-4/
LOCATION:IL
ATTACH;FMTTYPE=image/jpeg:https://lumenchristi.org/wp-content/uploads/2024/10/get-image-thumbnail-1-3.jpeg
END:VEVENT
BEGIN:VEVENT
DTSTART;TZID=America/Chicago:20230119T180000
DTEND;TZID=America/Chicago:20230119T191500
DTSTAMP:20260420T112715
CREATED:20241003T162739Z
LAST-MODIFIED:20241023T142624Z
UID:10000145-1674151200-1674155700@lumenchristi.org
SUMMARY:The Atomic Bomb and the Technological Imperative
DESCRIPTION:How has technology taken on a life of its own\, determining human behavior\, thought\, and actions in unintended and unexpected ways?  Using the development and use of the first atomic bombs as a defining case study\, this lecture reflects on the technological momentum that helped to usher in the nuclear age and that remains a defining and determinative feature of modern society. \nThis event is free and open to the public. It is made possible through the support of ‘In Lumine: Supporting the Catholic Intellectual Tradition on Campuses Nationwide’ (Grant #62372) from the John Templeton Foundation. Questions can be directed to info@lumenchristi.org. \n— \nStudents and faculty are also invited to join us Friday\, January 20 at 2PM for a master class on Hope\, Suffering and the Atom Bomb with Professor Nolan. Readings will be provided to all registrants. See our event page for more detail.
URL:https://lumenchristi.org/event/2023-01-frankenstein-problem-are-there-technologies-that-shouldnt-be-built/
LOCATION:Social Sciences 201\, 1126 E 59th St\, Chicago\, IL
ATTACH;FMTTYPE=image/png:https://lumenchristi.org/wp-content/uploads/2024/10/Technological-Imperative.png
END:VEVENT
BEGIN:VEVENT
DTSTART;TZID=America/Chicago:20230120T150000
DTEND;TZID=America/Chicago:20230120T170000
DTSTAMP:20260420T112715
CREATED:20241003T162738Z
LAST-MODIFIED:20241023T194408Z
UID:10000144-1674226800-1674234000@lumenchristi.org
SUMMARY:Master Class on "Hope\, Suffering\, and the Atom Bomb"
DESCRIPTION:Open to current students and faculty. Others interested in participating should contact info@lumenchristi.org. All registrants will receive pdfs of the selected readings\, which should be read in advance of the class. This event is made possible through the support of ‘In Lumine: Supporting the Catholic Intellectual Tradition on Campuses Nationwide’ (Grant #62372) from the John Templeton Foundation \nFollowing the August 9\, 1945 dropping of the second atomic bomb ever used in a military conflict\, residents of Nagasaki responded in a unique and surprising way to the vast destruction visited upon their city. As reflected in the writings of Nagasaki radiologist Takashi Nagai\, the community emphasized peace and forgiveness\, rather than rage\, retribution\, and political activism. This class will use the example of Nagasaki to consider theologically informed perspectives on the meaning of suffering. \nREADINGS\nNagai\, Takashi. Selections from The Bells of Nagasaki. Kodashana America Inc\, 1994. \nJohn Paul II. Salvifici Doloris. Dicastery of Communication – Vatican Library\, 1984. \nJohn Paul II. Appeal for Peace at Hiroshima. February 5\, 1981. \n— \nImage of Takashi Nagai. Creative Commons
URL:https://lumenchristi.org/event/2023-01-hope-suffering-atom-bomb-james-nolan/
LOCATION:Gavin House\, 1220 E 58th St.\, Chicago\, IL\, 60637
ATTACH;FMTTYPE=image/gif:https://lumenchristi.org/wp-content/uploads/2024/10/Paul_Takashi_Nagai_in_1946.gif
END:VEVENT
BEGIN:VEVENT
DTSTART;TZID=America/Chicago:20230121T090000
DTEND;TZID=America/Chicago:20230121T143000
DTSTAMP:20260420T112715
CREATED:20260320T160226Z
LAST-MODIFIED:20260320T160226Z
UID:10001915-1674291600-1674311400@lumenchristi.org
SUMMARY:Winter Newman Forum Conference for High School Students: Science\, Science Fiction\, and God
DESCRIPTION:
URL:https://lumenchristi.org/event/winter-newman-forum-conference-for-high-school-students-science-science-fiction-and-god/
LOCATION:IL
CATEGORIES:Newman Forum
ATTACH;FMTTYPE=image/jpeg:https://lumenchristi.org/wp-content/uploads/2026/02/Newman-Winter-2023-e1770316618551.jpeg
END:VEVENT
BEGIN:VEVENT
DTSTART;TZID=America/Chicago:20230126T180000
DTEND;TZID=America/Chicago:20230126T193000
DTSTAMP:20260420T112715
CREATED:20241003T162713Z
LAST-MODIFIED:20251027T204729Z
UID:10000143-1674756000-1674761400@lumenchristi.org
SUMMARY:Aristotle's Great-Souled Man in Jane Austen\, Fyodor Dostoyevsky\, and Saint Augustine
DESCRIPTION:This event was co-sponsored by the Undergraduate Program in Religious Studies at the University of Chicago.  \nAugustine famous referred to the classical virtues as “splendid vices”. Although he stood in the tradition that valued virtue\, he was concerned that the pursuit of greatness through the life of virtue – a theme dating back to Aristotle’s ideal of the Great-Souled Man – could actually breed a sense of self-righteousness. Yet there is much to the Aristotelian ideal. The pursuit of greatness in the service of God seems preferable to complacent mediocrity that sadly characterizes so much of our life. This lecture\, focusing on Dostoyevsky and Austen\, seeks to discover the danger of the pursuit of greatness while examining how the category of “greatness” might be reconceived in Christian terms.
URL:https://lumenchristi.org/event/2023-01-aristotles-great-souled-man-in-jane-austen-fyodor-dostoyevsky-saint-augustine-j-warren-smith/
LOCATION:Swift Hall\, 3rd Floor Lecture\, 1025 E 58th St.\nChicago\, IL 60637\, Hyde Park\, IL
ATTACH;FMTTYPE=image/png:https://lumenchristi.org/wp-content/uploads/2024/10/SmithPortraits_1.png
END:VEVENT
BEGIN:VEVENT
DTSTART;TZID=America/Chicago:20230127T150000
DTEND;TZID=America/Chicago:20230127T180000
DTSTAMP:20260420T112715
CREATED:20241003T162709Z
LAST-MODIFIED:20241023T193656Z
UID:10000142-1674831600-1674842400@lumenchristi.org
SUMMARY:Master Class on “The Myth of Unconditional Love: Augustine on the Love of God\, Neighbor\, and Self”
DESCRIPTION:Open to current students and faculty. Others interested in participating should contact info@lumenchristi.org. All registrants will receive pdfs of the selected readings\, which should be read in advance of the class. An optional wine and cheese reception will follow.  \nFollowing Kant’s insistence that individuals must be treated as ends in themselves and not means to something else\, Hannah Arendt objected that Augustine’s subordination of the love of people to the love of God did not allow a true love of one’s neighbor. Citing his distinction between love as enjoyment (frui)\, which alone applied to God\, and love as use (uti)\, which was the proper love of neighbor\, she argued that\, for Augustine\, the love of neighbor was merely a means to attain salvation for oneself. Is Augustine guilty of instrumentalizing the love of neighbors? In his system\, are individuals treated merely as objects of charity by which\, like rungs on a ladder\, the Christian ascends in virtue and merit to God? Can his absolute prioritization of the love of God as the condition for loving one’s neighbor still allow for love of the neighbor that genuinely appreciates persons as individuals? \nReadings:\nArendt\, Hannah. Love and Saint Augustine. Eds. Joanna Scott and Judith Stark. Chicago: University of Chicago Press\, 1996. Pp. 36-44. \nAugustine of Hippo. On True Religion 1\,1-3\,5; 11\,21-12\,25; 20\,38-24\,45; 32\,59-40\,76; 46\,86-54\,106. Trans. Edmund Hill. The Works of Saint Augustine A Translation for the 21st Century. Hyde Park\, NY: New City Press\, 1990. \nAugustine of Hippo. Confessions IX.viii (17) – xiii (37). Trans. Henry Chadwick. Oxford: Oxford University Press\, 1991. \nSchedule:\n2:00-3:20 | Session 1 \n3:20-3:40 | Break \n3:40-5:00 | Session 2 \n5:00-5:30 | Reception
URL:https://lumenchristi.org/event/2023-01-master-class-on-myth-of-unconditional-love-augustine-on-love-of-god-neighbor-self/
LOCATION:Gavin House\, 1220 E 58th St.\, Chicago\, IL\, 60637
ATTACH;FMTTYPE=image/jpeg:https://lumenchristi.org/wp-content/uploads/2024/10/Saint_Augustine_by_Philippe_de_Champaigne-scaled.jpg
END:VEVENT
END:VCALENDAR