BEGIN:VCALENDAR
VERSION:2.0
PRODID:-//Lumen Christi Institute - ECPv6.15.9//NONSGML v1.0//EN
CALSCALE:GREGORIAN
METHOD:PUBLISH
X-ORIGINAL-URL:https://lumenchristi.org
X-WR-CALDESC:Events for Lumen Christi Institute
REFRESH-INTERVAL;VALUE=DURATION:PT1H
X-Robots-Tag:noindex
X-PUBLISHED-TTL:PT1H
BEGIN:VTIMEZONE
TZID:America/Chicago
BEGIN:DAYLIGHT
TZOFFSETFROM:-0600
TZOFFSETTO:-0500
TZNAME:CDT
DTSTART:20200308T080000
END:DAYLIGHT
BEGIN:STANDARD
TZOFFSETFROM:-0500
TZOFFSETTO:-0600
TZNAME:CST
DTSTART:20201101T070000
END:STANDARD
BEGIN:DAYLIGHT
TZOFFSETFROM:-0600
TZOFFSETTO:-0500
TZNAME:CDT
DTSTART:20210314T080000
END:DAYLIGHT
BEGIN:STANDARD
TZOFFSETFROM:-0500
TZOFFSETTO:-0600
TZNAME:CST
DTSTART:20211107T070000
END:STANDARD
BEGIN:DAYLIGHT
TZOFFSETFROM:-0600
TZOFFSETTO:-0500
TZNAME:CDT
DTSTART:20220313T080000
END:DAYLIGHT
BEGIN:STANDARD
TZOFFSETFROM:-0500
TZOFFSETTO:-0600
TZNAME:CST
DTSTART:20221106T070000
END:STANDARD
END:VTIMEZONE
BEGIN:VEVENT
DTSTART;TZID=America/Chicago:20211206T210000
DTEND;TZID=America/Chicago:20211206T223000
DTSTAMP:20260421T064454
CREATED:20241003T164650Z
LAST-MODIFIED:20241023T143519Z
UID:10000208-1638824400-1638829800@lumenchristi.org
SUMMARY:MidCentury Catholic Modern: the Church and Other Possible Modernities
DESCRIPTION:Presented by the Collegium Institute and cosponsored by the Lumen Christi Institute\, America Magazine and the Nova Forum for Catholic Thought. \nIn the ferment of the mid 20th-Century\, Catholic writers and artists sought to develop a new\, distinctly Catholic\, modernity. They navigated the political challenges of fascism\, communism\, and liberalism. In this event\, we look to the history of MidCentury Catholicism\, with figures like Georges Rouault\, the Maritains\, Dorothy Day\, and Claude McKay\, and its response to the cultural\, intellectual\, and political ferment of the 1920s-60s. What can we learn from these great figures as 21st Century people grapple with the challenges of our century? \nA collection of recent books have highlighted the impact of Catholicism on modernity and modernity on Catholicism. In this webinar event we gather three scholars—James Chappel\, author of Catholic Modern: The Challenge of Totalitarianism and the Making of the Church\, Brenna Moore author of Kindred Spirits: Friendship and Resistance at the Edges of Modern Catholicism\, and Stephen Schloesser\, SJ\, author of Jazz Age Catholicism: Mystic Modernism in Postwar Paris—to discuss those turbulent years with an eye to understanding our own modern moment. \nREGISTER HERE
URL:https://lumenchristi.org/event/2021-12-midcentury-catholic-modern-church-other-possible-modernities/
LOCATION:IL
ATTACH;FMTTYPE=image/png:https://lumenchristi.org/wp-content/uploads/2024/10/MidCentury-Catholic-Modern-Banner.png
END:VEVENT
BEGIN:VEVENT
DTSTART;TZID=America/Chicago:20211215T110000
DTEND;TZID=America/Chicago:20211215T121500
DTSTAMP:20260421T064454
CREATED:20241003T164649Z
LAST-MODIFIED:20241023T143245Z
UID:10000013-1639566000-1639570500@lumenchristi.org
SUMMARY:Promoting Integral Human Development: Challenges and Opportunities for the Church and Catholic Organizations
DESCRIPTION:Free and open to the public. This event was held online over Zoom. This event was presented by the Lumen Christi Institute and the Catholic Research Economists Discussion Organization (CREDO)\, and was cosponsored by Global Researchers Advancing Catholic Education (GRACE)\, the International Office of Catholic Education (OIEC)\, the International Federation of Catholic Universities (IFCU)\, the World Organization of Former Students of Catholic Education (OMAEC)\, the World Union of Catholic Teachers (UMEC-WUTC)\, the International Catholic Child Bureau (BICE)\, the Keough School of Global Affairs at the University of Notre Dame\, America Media\, the Collegium Institute\, the Harvard Catholic Forum\, the Nova Forum\, the Saint Anselm Institute\, and the Saint Benedict Institute. \nThe concept of integral human development (IHD) is fundamental for the Catholic Church\, and the role played by the Church in promoting IHD is essential to its mission. The term IHD emerged from Populorum Progressio\, the encyclical on the development of people in which Pope Paul VI stated that “the development of peoples must be well rounded; it must foster the development of each man and of the whole man.” This webinar will feature a conversation on challenges and opportunities for the Church and Catholic organizations to promote IHD. This event will feature a presentation of the Global Report 2021 on Integral Human Development prepared by Quentin Wodon and soon to be available on the Global Catholic Education website\, followed by a discussion with a panel of experts – Katherine Marshall\, Patrizio Piraino\, and Diana Filatova – and a question and answer session with participants.
URL:https://lumenchristi.org/event/2021-12-promoting-integral-human-development-challenges-opportunities-for-church-catholic-organizations/
LOCATION:IL
ATTACH;FMTTYPE=image/jpeg:https://lumenchristi.org/wp-content/uploads/2024/10/RDC3.jpg
END:VEVENT
END:VCALENDAR