BEGIN:VCALENDAR
VERSION:2.0
PRODID:-//Lumen Christi Institute - ECPv6.15.9//NONSGML v1.0//EN
CALSCALE:GREGORIAN
METHOD:PUBLISH
X-ORIGINAL-URL:https://lumenchristi.org
X-WR-CALDESC:Events for Lumen Christi Institute
REFRESH-INTERVAL;VALUE=DURATION:PT1H
X-Robots-Tag:noindex
X-PUBLISHED-TTL:PT1H
BEGIN:VTIMEZONE
TZID:America/Chicago
BEGIN:DAYLIGHT
TZOFFSETFROM:-0600
TZOFFSETTO:-0500
TZNAME:CDT
DTSTART:20200308T080000
END:DAYLIGHT
BEGIN:STANDARD
TZOFFSETFROM:-0500
TZOFFSETTO:-0600
TZNAME:CST
DTSTART:20201101T070000
END:STANDARD
BEGIN:DAYLIGHT
TZOFFSETFROM:-0600
TZOFFSETTO:-0500
TZNAME:CDT
DTSTART:20210314T080000
END:DAYLIGHT
BEGIN:STANDARD
TZOFFSETFROM:-0500
TZOFFSETTO:-0600
TZNAME:CST
DTSTART:20211107T070000
END:STANDARD
BEGIN:DAYLIGHT
TZOFFSETFROM:-0600
TZOFFSETTO:-0500
TZNAME:CDT
DTSTART:20220313T080000
END:DAYLIGHT
BEGIN:STANDARD
TZOFFSETFROM:-0500
TZOFFSETTO:-0600
TZNAME:CST
DTSTART:20221106T070000
END:STANDARD
END:VTIMEZONE
BEGIN:VEVENT
DTSTART;TZID=America/Chicago:20210704T000000
DTEND;TZID=America/Chicago:20210710T000000
DTSTAMP:20260419T142520
CREATED:20241006T235432Z
LAST-MODIFIED:20251217T185602Z
UID:10000234-1625356800-1625875200@lumenchristi.org
SUMMARY:The Thought of John Henry Newman
DESCRIPTION:Now in its eighth year\, this intensive seminar will examine the achievements of Saint John Henry Newman as a theologian\, philosopher\, educator\, preacher\, and writer. Remarkably\, in each of these areas Newman produced works that have come to be recognized as classics: An Essay on the Development of Christian Doctrine\, The Grammar of Assent\, The Idea of a University\, The Parochial and Plain Sermons\, and the Apologia Pro Vita Sua. This seminar will approach Newman’s thought through a critical engagement with these texts. \nFormat: There will be two 2-hour sessions each day. The seminar will include presentations by Fr. Fields and by participants on the readings assigned\, followed by seminar-style discussion. \nLocation: The seminar will take place at the University of Saint Mary of the Lake. Participants will be provided with lodging and meals for the duration of the seminar\, and a travel stipend. \nApplication Information: This seminar is open to PhD students\, post docs\, and junior faculty in the humanities and relevant fields. \nApplicants will be required to submit: \n\nA completed online application form.\nAn updated CV.\nAt least one and as many as two letter(s) of recommendation from a member of the program in which the applicant is currently enrolled.\nA statement of research interest no longer than 750 words\, which includes an explanation of how this seminar might bear on the student’s current or future research plans.\nOne academic writing sample (30 pages maximum).
URL:https://lumenchristi.org/event/2021-newman-seminar-ker/
LOCATION:University of Saint Mary of the Lake\, 1000 East Maple Avenue \nMundelein\, IL 60060\, Mundelein\, IL
CATEGORIES:Summer Seminars
ATTACH;FMTTYPE=image/jpeg:https://lumenchristi.org/wp-content/uploads/2024/10/Mundelein.jpgresize1332C171
END:VEVENT
BEGIN:VEVENT
DTSTART;TZID=America/Chicago:20210711T090000
DTEND;TZID=America/Chicago:20210716T170000
DTSTAMP:20260419T142520
CREATED:20241006T235436Z
LAST-MODIFIED:20251217T195257Z
UID:10000232-1625994000-1626454800@lumenchristi.org
SUMMARY:Irenaeus of Lyon’s Adversus Haereses: A Seminar on the Foundations of Early Christian Theology
DESCRIPTION:July 11—16\, 2021\, Fr. John Behr and Professor Lewis Ayres will lead a summer seminar of graduate students in a close reading of Irenaeus’ Adversus Haereses. One of the first systematic presentations of the Christian theology\, Irenaeus’ refutation of Gnosticism\, as well as his bold defense of the canon of Scripture and its connection with the preaching of the apostles\, set the trajectory for future theological reflection. Through the engagement of this principal text\, students will be able to grasp the contours of the early Church’s discernment of the Christian faith. \nThe seminar will be held in the monastic setting of St. Meinrad Archabbey in Indiana. Meals and lodging will be provided and students will receive a travel stipend. \nWorking knowledge of relevant ancient languages will be helpful\, but not essential. Preference will be given to Ph.D. students in theology\, though advanced M.A. students will be considered. \nThere will be two sessions each day in the morning and in the afternoon. Each session will include lectures and seminar-style discussions working through all five books of Adversus Haereses. Students will be expected to prepare the readings carefully and participate in the discussions of the material. \nApplicants will be required to submit: \n\nA completed online application form.\nAn updated CV.\nAt least one and no more than two letter(s) of recommendation.\nA statement of research interest no longer than 750 words\, which includes an explanation of how this seminar might bear on the student’s current or future research plans.\nOne academic writing sample (30 pages maximum).\n\nAll application materials can be submitted via the online application. Incomplete applications will not be considered. Fifteen students will be admitted to this seminar. Applications are now closed. \nPlease contact us with any questions. \nRequired Reading Before Seminar \nIrenaeus\, Against Heresies in Ante-Nicene Fathers 1\, eds. A. Roberts and J. Donaldson (Edinburgh\, 1887; reprinted Grand Rapids: Eerdmans\, 1987). [digital copy provided in advance] \nPreliminary Bibliography \nThis bibliography contains only a few suggestions of things worth reading before our sessions together. Moreover\, it lists only works in English. This will give a distorted view of scholarship on Irenaeus\, but it is a point of departure. For further literature see the extensive biography in John Behr’s Irenaeus of Lyons (Oxford\, 2013)\, which we suggest you read before we meet. \nIf you can read literature other than English it is important to be aware of the extensive notes attached to the multi-volume Sources Chrétiennes edition of Against Heresies\, and the huge corpus of the late Spanish scholar Antonio Orbe. Behr’s bibliography will provide indications to both these resources. If you have French\, an invaluable resource for the biographies of writers in this period is Pierre Nautin’s Lettres et Écrivains Chrétiens des IIe et IIIe Siècles. Not in Behr’s bibliography but a useful book (if you have German) is Brox\, Norbert\, Offenbarung\, Gnosis und gnostischer Mythos bei Irenäus von Lyon (Salzburg/Munich: Verlag Anton Pustet\, 1966). \nTranslations \n\nRoberts\, A.\, and J. Donaldson (eds.)\, ANF 1 (Edinburgh\, 1887; repr. Grand Rapids\, Mich.: Eerdmans\, 1987). [this is the version that we will send around as a word document. It is also available online fairly easily]\nUnger\, D. J.\, rev. J. J. Dillon\, St. Irenaeus of Lyons Against the Heresies\, Book 1\, ACW 55 (New York: Paulist Press\, 1992).\nUnger\, D. J.\, rev. J. J. Dillon\, St. Irenaeus of Lyons Against the Heresies\, Book 2\, ACW 65 (New York: Paulist Press\, 2012).\nUnger\, D.J. rev. Irenaeus M. C. Steenberg\, St. Irenaeus of Lyons: Against the Heresies\, Book 3\, ACW 64 (New York: Newman Press\, 2012).\nGrant\, R. M.\, Irenaeus of Lyons (New York: Routledge\, 1997) [Extracts].\nBehr\, J.\, St Irenaeus of Lyons: The Apostolic Preaching (New York: SVS\, 1997).\n\nSecondary Literature \n\nBehr\, J. Asceticism and Anthropology in Irenaeus and Clement\, OECS (Oxford: Oxford University Press\, 2000).\nBlowers\, Paul M.\, ‘The Regula Fidei and the Narrative Character of Early Christian Faith’\, Pro Ecclesia 6 (1997)\, 199-228.\nBrakke\, David\, The Gnostics: Myth\, Ritual\, and Diversity in Early Christianity (Cambridge\, MA: Harvard University Press\, 2010).\nBriggman\, A. God and Christ in Irenaeus. (Oxford: Oxford University Press\, 2018).\nFarkasfalvy\, D.\, ‘Theology of Scripture in St Irenaeus’\, RB 78 (1968)\, 319-33.\nHill\, Charles E. Who Chose the Gospels? Probing the Great Gospel Conspiracy (Oxford: Oxford University Press\, 2010).\nSteenberg\, M. C. Irenaeus on Creation: The Cosmic Christ and the Saga of Redemption (Leiden: Brill\, 2008).\nMarkschies\, C. Gnosis: An Introduction. Trans. John Bowden. London: T&T Clark\, 2003.
URL:https://lumenchristi.org/event/2021-behr-ayres-irenaeus-seminar/
LOCATION:St. Meinrad Archabbey\, 200 Hill Drive\, St. Meinrad\, IN
CATEGORIES:Summer Seminars
ATTACH;FMTTYPE=image/jpeg:https://lumenchristi.org/wp-content/uploads/2024/10/5052060591_d11ecff6cb_b.jpg
END:VEVENT
BEGIN:VEVENT
DTSTART;TZID=America/Chicago:20210725T000000
DTEND;TZID=America/Chicago:20210731T000000
DTSTAMP:20260419T142520
CREATED:20241006T235432Z
LAST-MODIFIED:20251217T194657Z
UID:10000230-1627171200-1627689600@lumenchristi.org
SUMMARY:Truth and Authority in Augustine's City of God
DESCRIPTION:This seminar is an intensive week-long course in how to read\, analyze\, and discern the many themes in Augustine’s most ambitious and sprawling work. The City of God tells the history of two societies\, and their respective origins\, progress\, and appointed ends. The story is engaged first from the evidence of profane history (I-XI) and then from the evidence of revelation (XII-XXII). In this seminar\, participants will discuss how Augustine reckons with the crisis of the ancient and the human city\, and whether it is possible to reconcile truth and authority across the competing domains of polity\, religion\, and philosophical wisdom. These themes will be approached from an interdisciplinary perspective\, addressing questions pertinent to students in political science\, philosophy\, law\, theology\, religious studies\, and history. \nFormat: There will be two 2.5-hour sessions each day. Each session will include an opening lecture and seminar-style discussion of the text and the issues at hand. Students will be expected to prepare the readings carefully and participate in the discussions of the material. \nLocation:  The seminar will take place at the University of Saint Mary of the Lake in Mundelein\, IL. Students will be provided with lodging\, meals\, and a travel stipend. \n\nApplication Information: This seminar will be open to JD\, PhD students\, postdoctoral fellows\, and junior faculty in the humanities and relevant fields (such as philosophy\, theology\, English\, classics\, law and  history). \n\nApplicants will be required to submit: \n\nA completed online application form.\nAn updated CV.\nAt least one and as many as two letter(s) of recommendation from a member of the program in which the student is currently enrolled.\nA statement of research interest no longer than 750 words\, which includes an explanation of how this seminar might bear on the student’s current or future research plans.\nOne academic writing sample (30 pages maximum).
URL:https://lumenchristi.org/event/2021-city-of-god-hittinger-sherwin/
LOCATION:University of Saint Mary of the Lake\, 1000 East Maple Avenue \nMundelein\, IL 60060\, Mundelein\, IL
CATEGORIES:Summer Seminars
ATTACH;FMTTYPE=image/jpeg:https://lumenchristi.org/wp-content/uploads/2024/10/Mundelein.jpgresize1332C171
END:VEVENT
BEGIN:VEVENT
DTSTART;TZID=America/Chicago:20210725T000000
DTEND;TZID=America/Chicago:20210731T000000
DTSTAMP:20260419T142520
CREATED:20241006T235439Z
LAST-MODIFIED:20251217T200303Z
UID:10000229-1627171200-1627689600@lumenchristi.org
SUMMARY:The Thought of René Girard: Understanding the Faith in a Secular Age
DESCRIPTION:Photo Credit: Linda A. Cicero / Stanford News Service \nAPPLY HERE\nTHE APPLICATION DEADLINE HAS BEEN EXTENDED TO MAY 1. \nOne of the most influential 20th century Catholic thinkers\, René Girard transformed our understanding of culture\, religion\, and human behavior. His “mimetic theory” builds on the demystifying power of the Old and New Testaments to illuminate the religious history of mankind. Through an intensive reading of his more accessible works\, in conjunction with the fiction of the greatest writers\, this five-day seminar will explore Girard’s key insights into imitation\, conflict\, and scapegoating\, connecting them to central themes of Christian theology. \nFormat: There will be two 2.5-hour sessions on Monday\, Wednesday\, and Friday. On Tuesday and Thursday\, the morning session will be followed by a post-lunch excursion. Each session will a seminar-style discussion of the text and the issues at hand. Students will be expected to prepare the readings carefully\, submit study questions in advance\, and participate actively in each session. \nLocation: The seminar will take place at a retreat center in Los Angeles from July 26-30 (there will be an opening dinner on the evening of July 25th\, and students will be expected to arrive at 5pm) with lodging provided from Sunday evening through Saturday morning. Participants will be provided with lodging and meals for the duration of the seminar\, and a travel stipend of up to $350. \nApplication Requirements: This seminar is open to all undergraduate students (including 2021 graduates) interested in understanding the thought of one of the great modern Christian apologists. \nApplicants will be required to submit an online application form including: \n\nA list of completed coursework.\nAt least one and as many as two letter(s) of recommendation from a professor at the school in which the student is currently enrolled.\nA statement of interest no longer than 750 words\, which includes an explanation of how this seminar might bear on the student’s current intellectual interests.\n\nAll application materials can be submitted via the online application. Incomplete applications will not be considered. Fifteen applicants will be admitted to this seminar. Application materials are due May 1. \nAPPLY HERE
URL:https://lumenchristi.org/event/2021-girard-seminar/
LOCATION:Mary & Joseph Retreat Center\, 5300 Crest Road\, Los Angeles\, CA
CATEGORIES:Summer Seminars
ATTACH;FMTTYPE=image/tiff:https://lumenchristi.org/wp-content/uploads/2024/10/ReneGirard.tif
END:VEVENT
END:VCALENDAR