BEGIN:VCALENDAR
VERSION:2.0
PRODID:-//Lumen Christi Institute - ECPv6.15.9//NONSGML v1.0//EN
CALSCALE:GREGORIAN
METHOD:PUBLISH
X-WR-CALNAME:Lumen Christi Institute
X-ORIGINAL-URL:https://lumenchristi.org
X-WR-CALDESC:Events for Lumen Christi Institute
REFRESH-INTERVAL;VALUE=DURATION:PT1H
X-Robots-Tag:noindex
X-PUBLISHED-TTL:PT1H
BEGIN:VTIMEZONE
TZID:America/Chicago
BEGIN:DAYLIGHT
TZOFFSETFROM:-0600
TZOFFSETTO:-0500
TZNAME:CDT
DTSTART:20190310T080000
END:DAYLIGHT
BEGIN:STANDARD
TZOFFSETFROM:-0500
TZOFFSETTO:-0600
TZNAME:CST
DTSTART:20191103T070000
END:STANDARD
BEGIN:DAYLIGHT
TZOFFSETFROM:-0600
TZOFFSETTO:-0500
TZNAME:CDT
DTSTART:20200308T080000
END:DAYLIGHT
BEGIN:STANDARD
TZOFFSETFROM:-0500
TZOFFSETTO:-0600
TZNAME:CST
DTSTART:20201101T070000
END:STANDARD
BEGIN:DAYLIGHT
TZOFFSETFROM:-0600
TZOFFSETTO:-0500
TZNAME:CDT
DTSTART:20210314T080000
END:DAYLIGHT
BEGIN:STANDARD
TZOFFSETFROM:-0500
TZOFFSETTO:-0600
TZNAME:CST
DTSTART:20211107T070000
END:STANDARD
END:VTIMEZONE
BEGIN:VEVENT
DTSTART;TZID=America/Chicago:20200803T090000
DTEND;TZID=America/Chicago:20200811T170000
DTSTAMP:20260420T054415
CREATED:20241006T235435Z
LAST-MODIFIED:20260114T171227Z
UID:10000308-1596445200-1597165200@lumenchristi.org
SUMMARY:ONLINE SEMINAR on Dominican Theological Anthropology: Albert the Great and Meister Eckhart
DESCRIPTION:APPLICATIONS ARE NOW CLOSED FOR THIS SEMINAR \nOn consecutive Mondays and Tuesdays in August (August 3\, 4\, 10\, 11) Bernard McGinn and Fr. Bernhard Blankenhorn will lead a set of young scholars through questions relating to the theological anthropologies of Albertus Magnus and Meister Eckhart. Topics of special interest will include contemplation\, Albert on the imago dei\, and Eckhart on the ground of the soul. \nApplicants should have some background in medieval philosophy and theology. More specifically\, they should have a basic familiarity with Aristotelian anthropology\, as well as general grasp of the Augustinian theology of the image of God and medieval theories of contemplation. \nIntermediate knowledge of Latin is preferred\, but not required.  Applications who can read German and/or French secondary literature should be given preference. \nRequired Reading Before Seminar \nSimon Tugwell\, “Introduction\,” Albert and Thomas: Select Writings (Paulist Press\, 1988)\, 3-129. \nEdmund Colledge and Bernard McGinn\, “Introduction\,” Meister Eckhart: The Essential Sermons\, etc. (Paulist Press\, 1981)\, 5-81. \nRequired Reading During Seminar \nTexts \nAlbert the Great\, Commentary on Dionysius’s Mystical Theology\, in Albert and Thomas\, 133-98 \nAlbert the Great\, De Intellectu et intelligibili\, Book II\, chaps. 8-9 (Borgnet ed.\, IX:514-17) \nAlbert the Great\, Selections from Summa theologica\, Pars I (Cologne Edition XXXIV.1)\, q. 13\, chapter 1 (pp. 38-41); q. 13\, chapter 4 (pp. 44-48); q. 15\, chapter 2\, a. 2 (pp. 65-75). \nMeister Eckhart: The Essential Sermons\, etc. \nMeister Eckhart: Teacher and Preacher (Paulist Press\, 1986) \nStudies \nHenryk Anzulewicc\, “Anthropology: The Concept of Man in Albert the Great\,” in A Companion to Albert the Great\, 325-46 \nBernard Blankenhorn\, “The Mystery of Union with God\, 52-90\, and 131-48 \nBernard McGinn\, “Chapter 4. Meister Eckhart: Mystical Teacher and Preacher\,” in McGinn\, The Harvest of Mysticism\, 94-194 \nRupert J. Mayer\, “The Term ‘Ground of the Soul’ and ‘Sparkle of Reason’ in Eckhart and Aquinas\,” Medieval Mystical Theology 22 (2013): 120-38. \nSchedule \nMornings will contain two hour-long lecture/discussions of key texts. \nAfternoons will have two sessions of 45-minute guided discussion. \nThe final day (Tuesday\, August 11) will be devoted to short student presentations.
URL:https://lumenchristi.org/event/2020-mcginn-blankenhorn/
LOCATION:Gavin House\, 1220 E 58th St.\, Chicago\, IL\, 60637
CATEGORIES:Summer Seminars
ATTACH;FMTTYPE=image/jpeg:https://lumenchristi.org/wp-content/uploads/2024/10/H_ALBERT-THE-GREAT.jpg
END:VEVENT
END:VCALENDAR