BEGIN:VCALENDAR
VERSION:2.0
PRODID:-//Lumen Christi Institute - ECPv6.15.9//NONSGML v1.0//EN
CALSCALE:GREGORIAN
METHOD:PUBLISH
X-WR-CALNAME:Lumen Christi Institute
X-ORIGINAL-URL:https://lumenchristi.org
X-WR-CALDESC:Events for Lumen Christi Institute
REFRESH-INTERVAL;VALUE=DURATION:PT1H
X-Robots-Tag:noindex
X-PUBLISHED-TTL:PT1H
BEGIN:VTIMEZONE
TZID:America/Chicago
BEGIN:DAYLIGHT
TZOFFSETFROM:-0600
TZOFFSETTO:-0500
TZNAME:CDT
DTSTART:20170312T080000
END:DAYLIGHT
BEGIN:STANDARD
TZOFFSETFROM:-0500
TZOFFSETTO:-0600
TZNAME:CST
DTSTART:20171105T070000
END:STANDARD
BEGIN:DAYLIGHT
TZOFFSETFROM:-0600
TZOFFSETTO:-0500
TZNAME:CDT
DTSTART:20180311T080000
END:DAYLIGHT
BEGIN:STANDARD
TZOFFSETFROM:-0500
TZOFFSETTO:-0600
TZNAME:CST
DTSTART:20181104T070000
END:STANDARD
BEGIN:DAYLIGHT
TZOFFSETFROM:-0600
TZOFFSETTO:-0500
TZNAME:CDT
DTSTART:20190310T080000
END:DAYLIGHT
BEGIN:STANDARD
TZOFFSETFROM:-0500
TZOFFSETTO:-0600
TZNAME:CST
DTSTART:20191103T070000
END:STANDARD
END:VTIMEZONE
BEGIN:VEVENT
DTSTART;TZID=America/Chicago:20180610T090000
DTEND;TZID=America/Chicago:20180613T170000
DTSTAMP:20260421T203320
CREATED:20241006T235419Z
LAST-MODIFIED:20260115T191227Z
UID:10000457-1528621200-1528909200@lumenchristi.org
SUMMARY:Economics and Catholic Social Thought: A Primer
DESCRIPTION:You can download the poster here. \nNow in its third year\, this seminar is designed as an introduction and immersion into Catholic social thought for graduate students and faculty in economics\, finance\, or related fields. Participants will cover foundational principles in Catholic social thought\, starting with the human person\, dignity\, freedom\, subsidiarity\, solidarity\, and the common good\, and moving toward applications of these principles to conceptual understandings and ethical considerations involving economic topics such as utility theory\, firm and business ethics\, wages\, markets\, globalization\, poverty\, and development. Participants will delve into social encyclicals\, secondary sources\, and relevant economics texts. \nThis seminar is cosponsored by the Catholic Research Economists Discussion Organization\, the Notre Dame Center for Ethics and Culture\, the Kellogg Institute for International Studies\, and the Notre Dame Institute for Scholarship in the Liberal Arts. \nFormat: There will be two sessions each day\, featuring a different instructor. Each instructor will open with a lecture\, and then we will turn to a seminar-style discussion of the texts and issues at hand. In the final sessions\, we will discuss how the material can be applied to each student’s particular area of interest. \nLocation: The seminar will take place at the University of Notre Dame in South Bend\, Indiana. A limited number of travel stipends are available on a need basis. All participants will be provided with accommodations and meals. \nApplication Information: This seminar will be open to PhD students and faculty in economics\, finance and related fields. \nApplicants will be required to submit a completed online application form\, including: \n\nAn updated CV.\nA brief statement of research interest no longer than 750 words.\nOne academic writing sample.\n\nAll application materials can be submitted via the online application. Incomplete applications will not be considered. Fifteen students will be admitted to this seminar. \nPlease direct any further questions to contact@credo-economists.org.
URL:https://lumenchristi.org/event/2018-econ-cst/
LOCATION:University of Notre Dame\, Notre Dame\, IN 46556\, Notre Dame\, IN
CATEGORIES:Summer Seminars
ATTACH;FMTTYPE=image/jpeg:https://lumenchristi.org/wp-content/uploads/2024/10/Budget-1_notre_dame-e1750807513975.jpg
END:VEVENT
BEGIN:VEVENT
DTSTART;TZID=America/Chicago:20180627T000000
DTEND;TZID=America/Chicago:20180704T000000
DTSTAMP:20260421T203320
CREATED:20241006T235421Z
LAST-MODIFIED:20260115T180631Z
UID:10000455-1530057600-1530662400@lumenchristi.org
SUMMARY:St. Thomas Aquinas on Free Choice
DESCRIPTION:You can download the poster here. \nThis seminar will be a five-day\, intensive discussion aimed at understanding and evaluating St. Thomas Aquinas’ account of liberum arbitrium and of the psychological and metaphysical principles that underlie it. The sessions will center on passages from the Summa Theologiae\, but we will also refer to other works of Aquinas\, such as the De Malo and the Commentary on Aristotle’s Metaphysics\, and to pertinent texts from other philosophers such as Plato\, Aristotle\, Kant\, and Anscombe. We will want to address some of the more controversial questions about Thomas’ views\, such as the following: Does he differ from Aristotle on the will\, and if so\, how? Did he change his own mind about the will? To what extent\, in Aquinas’ account\, does the freedom of the will depend upon the distinction between the will and the intellect? Does St. Thomas’ apparent intellectualism commit him to some kind of determinism with regard to choice?  Does he offer an adequate account of the choice of evil? In comparison with modern thinkers\, does he sufficiently appreciate the value of freedom? \nFormat: There will be two 2 ½ hour sessions each day. Each session will include an opening lecture and seminar-style discussion of the text and the issues at hand. Students will be expected to prepare the readings carefully and participate in the discussions of the material. \nLocation: The seminar will take place at the University of Chicago. Students will be provided with lodging\, meals\, and a travel stipend of up to $350. \nApplication Information: This seminar will be open to PhD students in the humanities and relevant fields (such as philosophy\, theology\, english\, classics\, & history). \nApplicants will be required to submit: \n\nA completed online application form.\nAn updated CV.\nAt least one and as many as two letter(s) of recommendation from a member of the program in which the student is currently enrolled.\nA statement of research interest no longer than 750 words\, which includes an explanation of how this seminar might bear on the student’s current or future research plans.\nOne academic writing sample (30 pages maximum).\n\nAll application materials can be submitted via the online application. Incomplete applications will not be considered. Fiften students will be admitted to this seminar. \n\nFrequently Asked Questions: \nCan I apply for more than one seminar?\nYes. You may apply for multiple seminars. Please indicate your order of preference in your statement of purpose for each application. Each applicant may only be admitted to one seminar. \nI am a PhD student graduating this academic year. Can I still apply?\nYes! \nI am currently an undergraduate or master’s student\, but have been admitted to a PhD program for the next academic year. Can I still apply?\nYes\, please indicate this somewhere in your application. \nI have attended a Lumen Christi Institute seminar in the past. May I still apply?\nYes! \nDo I have to be Catholic to apply?\nNo. The Lumen Christi Institute exists to promotes the Catholic intellectual tradition and is committed to the integration of the intellectual and spiritual life. The Institute welcomes seminar participants of all or no religious affiliation\, and wants to assure all applicants that the opportunities to participate in devotional activities are optional. \nContact us with any further questions.
URL:https://lumenchristi.org/event/2018-aquinas-seminar-brock/
LOCATION:University of Chicago\, 5801 S. Ellis Ave.\, University of Chicago\, IL
CATEGORIES:Summer Seminars
ATTACH;FMTTYPE=image/jpeg:https://lumenchristi.org/wp-content/uploads/2024/10/University_of_Chicago-_Harper_Library_1-scaled.jpg
END:VEVENT
END:VCALENDAR