BEGIN:VCALENDAR
VERSION:2.0
PRODID:-//Lumen Christi Institute - ECPv6.15.9//NONSGML v1.0//EN
CALSCALE:GREGORIAN
METHOD:PUBLISH
X-ORIGINAL-URL:https://lumenchristi.org
X-WR-CALDESC:Events for Lumen Christi Institute
REFRESH-INTERVAL;VALUE=DURATION:PT1H
X-Robots-Tag:noindex
X-PUBLISHED-TTL:PT1H
BEGIN:VTIMEZONE
TZID:America/Chicago
BEGIN:DAYLIGHT
TZOFFSETFROM:-0600
TZOFFSETTO:-0500
TZNAME:CDT
DTSTART:20160313T080000
END:DAYLIGHT
BEGIN:STANDARD
TZOFFSETFROM:-0500
TZOFFSETTO:-0600
TZNAME:CST
DTSTART:20161106T070000
END:STANDARD
BEGIN:DAYLIGHT
TZOFFSETFROM:-0600
TZOFFSETTO:-0500
TZNAME:CDT
DTSTART:20170312T080000
END:DAYLIGHT
BEGIN:STANDARD
TZOFFSETFROM:-0500
TZOFFSETTO:-0600
TZNAME:CST
DTSTART:20171105T070000
END:STANDARD
BEGIN:DAYLIGHT
TZOFFSETFROM:-0600
TZOFFSETTO:-0500
TZNAME:CDT
DTSTART:20180311T080000
END:DAYLIGHT
BEGIN:STANDARD
TZOFFSETFROM:-0500
TZOFFSETTO:-0600
TZNAME:CST
DTSTART:20181104T070000
END:STANDARD
END:VTIMEZONE
BEGIN:VEVENT
DTSTART;TZID=America/Chicago:20170622T000000
DTEND;TZID=America/Chicago:20170628T230000
DTSTAMP:20260422T151404
CREATED:20241006T235418Z
LAST-MODIFIED:20260115T191423Z
UID:10000505-1498089600-1498690800@lumenchristi.org
SUMMARY:Is God Knowable by Natural Reason? Philosophy\, Theology\, and Trinitarian Thought in the Middle Ages
DESCRIPTION:In this seminar\, historian of medieval theology Mark Clark and scholar of medieval philosophy Timothy Noone will offer an intensive survey of theological and philosophical debates about the natural knowledge of God in the twelfth and thirteenth centuries. Participants will read and discuss the writings of Peter Abelard\, Peter Lombard\, Bonaventure\, Albert the Great\, and Thomas Aquinas as well as modern philosophical engagement with these questions.
URL:https://lumenchristi.org/event/2017_natural_knowledge_of_god/
LOCATION:Pontifical University of the Holy Cross\, Rome\, Piazza Santa Apollinare\, 49\, 00186 Roma\, Italy\, Rome\, Italy
CATEGORIES:Summer Seminars
ATTACH;FMTTYPE=image/jpeg:https://lumenchristi.org/wp-content/uploads/2024/10/st_peter-s_square-_vatican_city_-_april_2007-scaled.jpeg
END:VEVENT
END:VCALENDAR