BEGIN:VCALENDAR
VERSION:2.0
PRODID:-//Lumen Christi Institute - ECPv6.15.9//NONSGML v1.0//EN
CALSCALE:GREGORIAN
METHOD:PUBLISH
X-ORIGINAL-URL:https://lumenchristi.org
X-WR-CALDESC:Events for Lumen Christi Institute
REFRESH-INTERVAL;VALUE=DURATION:PT1H
X-Robots-Tag:noindex
X-PUBLISHED-TTL:PT1H
BEGIN:VTIMEZONE
TZID:America/Chicago
BEGIN:DAYLIGHT
TZOFFSETFROM:-0600
TZOFFSETTO:-0500
TZNAME:CDT
DTSTART:20150308T080000
END:DAYLIGHT
BEGIN:STANDARD
TZOFFSETFROM:-0500
TZOFFSETTO:-0600
TZNAME:CST
DTSTART:20151101T070000
END:STANDARD
BEGIN:DAYLIGHT
TZOFFSETFROM:-0600
TZOFFSETTO:-0500
TZNAME:CDT
DTSTART:20160313T080000
END:DAYLIGHT
BEGIN:STANDARD
TZOFFSETFROM:-0500
TZOFFSETTO:-0600
TZNAME:CST
DTSTART:20161106T070000
END:STANDARD
BEGIN:DAYLIGHT
TZOFFSETFROM:-0600
TZOFFSETTO:-0500
TZNAME:CDT
DTSTART:20170312T080000
END:DAYLIGHT
BEGIN:STANDARD
TZOFFSETFROM:-0500
TZOFFSETTO:-0600
TZNAME:CST
DTSTART:20171105T070000
END:STANDARD
END:VTIMEZONE
BEGIN:VEVENT
DTSTART;TZID=America/Chicago:20160710T230000
DTEND;TZID=America/Chicago:20160715T230000
DTSTAMP:20260423T080210
CREATED:20241006T235414Z
LAST-MODIFIED:20260115T180302Z
UID:10000548-1468191600-1468623600@lumenchristi.org
SUMMARY:The Thought of John Henry Newman
DESCRIPTION:Now in its fourth consecutive year\, this intensive seminar will examine Newman’s achievements as theologian\, philosopher\, educator\, preacher\, and writer. Remarkably\, in each of these areas Newman produced works that have come to be recognized as classics: An Essay on the Development of Christian Doctrine\, The Grammar of Assent\, The Idea of a University\, The Parochial and Plain Sermons\, and the Apologia Pro Vita Sua. This seminar will approach Newman’s thought through a critical engagement with these texts.
URL:https://lumenchristi.org/event/2016_thought_newman_ker/
LOCATION:Merton College\, Oxford\, Merton St\, Oxford OX1 4JD\, UK\, Oxford\, United Kingdom
CATEGORIES:Summer Seminars
ATTACH;FMTTYPE=image/jpeg:https://lumenchristi.org/wp-content/uploads/2024/10/Jane_Fortescue_Seymour_Portrait_drawing_of_the_very_Rev._John_Henry_Newman.jpgresize2282C300
END:VEVENT
BEGIN:VEVENT
DTSTART;TZID=America/Chicago:20160730T230000
DTEND;TZID=America/Chicago:20160806T230000
DTSTAMP:20260423T080210
CREATED:20241006T235414Z
LAST-MODIFIED:20260114T184453Z
UID:10000547-1469919600-1470524400@lumenchristi.org
SUMMARY:Catholic Social Thought: A Critical Investigation
DESCRIPTION:In this seminar\, students will read\, analyze\, and discern continuities and discontinuities in Catholic Social Thought from the late 19th century to the present. Lectures\, seminar reports\, and discussion will focus on original sources (encyclicals and other magisterial documents)\, beginning with Rerum novarum (1892) and concluding with Caritas in veritate (2009) and Evangelii Gaudium (2013). This intensive course is multi-disciplinary\, since this tradition of social thought overlaps several disciplines in the contemporary university including political science\, political philosophy\, law\, economics\, theology\, and history.
URL:https://lumenchristi.org/event/2016_cst_critical_investigation_hittinger/
LOCATION:University of California\, Berkeley\, S Hall Rd.\nBerkeley\, CA 94720\, Berkeley\, CA
CATEGORIES:Summer Seminars
ATTACH;FMTTYPE=image/png:https://lumenchristi.org/wp-content/uploads/2024/10/lci-default.png
END:VEVENT
END:VCALENDAR