BEGIN:VCALENDAR
VERSION:2.0
PRODID:-//Lumen Christi Institute - ECPv6.15.9//NONSGML v1.0//EN
CALSCALE:GREGORIAN
METHOD:PUBLISH
X-ORIGINAL-URL:https://lumenchristi.org
X-WR-CALDESC:Events for Lumen Christi Institute
REFRESH-INTERVAL;VALUE=DURATION:PT1H
X-Robots-Tag:noindex
X-PUBLISHED-TTL:PT1H
BEGIN:VTIMEZONE
TZID:America/Chicago
BEGIN:DAYLIGHT
TZOFFSETFROM:-0600
TZOFFSETTO:-0500
TZNAME:CDT
DTSTART:20130310T080000
END:DAYLIGHT
BEGIN:STANDARD
TZOFFSETFROM:-0500
TZOFFSETTO:-0600
TZNAME:CST
DTSTART:20131103T070000
END:STANDARD
BEGIN:DAYLIGHT
TZOFFSETFROM:-0600
TZOFFSETTO:-0500
TZNAME:CDT
DTSTART:20140309T080000
END:DAYLIGHT
BEGIN:STANDARD
TZOFFSETFROM:-0500
TZOFFSETTO:-0600
TZNAME:CST
DTSTART:20141102T070000
END:STANDARD
BEGIN:DAYLIGHT
TZOFFSETFROM:-0600
TZOFFSETTO:-0500
TZNAME:CDT
DTSTART:20150308T080000
END:DAYLIGHT
BEGIN:STANDARD
TZOFFSETFROM:-0500
TZOFFSETTO:-0600
TZNAME:CST
DTSTART:20151101T070000
END:STANDARD
END:VTIMEZONE
BEGIN:VEVENT
DTSTART;TZID=America/Chicago:20140727T230000
DTEND;TZID=America/Chicago:20140801T230000
DTSTAMP:20260424T164930
CREATED:20241006T235415Z
LAST-MODIFIED:20260115T182816Z
UID:10000635-1406502000-1406934000@lumenchristi.org
SUMMARY:Truth and Authority in Augustine's City of God
DESCRIPTION:APPLICATION DEADLINE IS NOW FEBRUARY 15 \nAPPLY HERE \nThis seminar is an intensive five-day course in how to read\, analyze\, and discern the many themes in Augustine’s most ambitious and sprawling work. The City of God tells the history of two societies\, and their respective origins\, progress\, and appointed ends. The story is engaged first from the evidence of profane history (I-XI) and then from the evidence of revelation (XII-XXII). In this seminar\, participants will discuss how Augustine reckons with the crisis of the ancient and the human city\, and whether it is possible to reconcile truth and authority across the competing domains of polity\, religion\, and philosophical wisdom. These themes will be approached from an interdisciplinary perspective\, addressing questions pertinent to students in political science\, philosophy\, law\, theology\, religious studies\, and history. \nFormat: There will be two 2 ½ hour sessions each day.  Professor Hittinger will open each session with a lecture\, and then we will turn to general\, seminar-style discussion of the text and the issues at hand. Students will be expected to make seminar presentations of the material under discussion. \nLocation:  The seminar will take place at the University of California Berkeley. Students will be provided with a travel stipend\, accommodations\, and meals. \nApplication Information:   This seminar will be open to Ph.D. students in the humanities and social sciences (such as Philosophy\, Theology\, Political Science\, History\, and Medieval Studies). \nApplicants will be required to submit: \n\nA completed online application form.\nAn updated CV.\nAt least one and as many as two letter(s) of recommendation from a member of the program in which the student is currently enrolled.\nA statement of research interest no longer than 750 words\, which includes an explanation of how this seminar might bear on the student’s current or future research plans.\nOne example of written\, academic work (25-30 pages maximum). Incomplete applications will not be considered.\n\nAll application materials can be submitted via the online application except for letters of recommendation\, which can be emailed to mfranzen@lumenchristi.org or mailed to: Lumen Christi Institute\, Graduate Seminars\, 1220 East 58th Streeet\, Chicago\, IL 60637. Incomplete applications will not be considered. 15 students will be admitted to this seminar. \nThe Lumen Christi is an institute for the promotion of the Catholic Intellectual Tradition and is committed to the integration of the intellectual and spiritual life.  The Institute welcomes seminar participants of all or no religious affiliation\, and wants to assure all applicants that the opportunities to participate in devotional activities are optional. \nAny further questions can be directed to Mark Franzen at mfranzen@lumenchristi.org.
URL:https://lumenchristi.org/event/2014_truth_authority_augustine/
LOCATION:University of California\, Berkeley\, S Hall Rd.\nBerkeley\, CA 94720\, Berkeley\, CA
CATEGORIES:Summer Seminars
ATTACH;FMTTYPE=image/png:https://lumenchristi.org/wp-content/uploads/2024/10/lci-default.png
END:VEVENT
END:VCALENDAR