BEGIN:VCALENDAR
VERSION:2.0
PRODID:-//Lumen Christi Institute - ECPv6.15.9//NONSGML v1.0//EN
CALSCALE:GREGORIAN
METHOD:PUBLISH
X-ORIGINAL-URL:https://lumenchristi.org
X-WR-CALDESC:Events for Lumen Christi Institute
REFRESH-INTERVAL;VALUE=DURATION:PT1H
X-Robots-Tag:noindex
X-PUBLISHED-TTL:PT1H
BEGIN:VTIMEZONE
TZID:America/Chicago
BEGIN:DAYLIGHT
TZOFFSETFROM:-0600
TZOFFSETTO:-0500
TZNAME:CDT
DTSTART:20180311T080000
END:DAYLIGHT
BEGIN:STANDARD
TZOFFSETFROM:-0500
TZOFFSETTO:-0600
TZNAME:CST
DTSTART:20181104T070000
END:STANDARD
BEGIN:DAYLIGHT
TZOFFSETFROM:-0600
TZOFFSETTO:-0500
TZNAME:CDT
DTSTART:20190310T080000
END:DAYLIGHT
BEGIN:STANDARD
TZOFFSETFROM:-0500
TZOFFSETTO:-0600
TZNAME:CST
DTSTART:20191103T070000
END:STANDARD
BEGIN:DAYLIGHT
TZOFFSETFROM:-0600
TZOFFSETTO:-0500
TZNAME:CDT
DTSTART:20200308T080000
END:DAYLIGHT
BEGIN:STANDARD
TZOFFSETFROM:-0500
TZOFFSETTO:-0600
TZNAME:CST
DTSTART:20201101T070000
END:STANDARD
END:VTIMEZONE
BEGIN:VEVENT
DTSTART;TZID=America/Chicago:20190721T000000
DTEND;TZID=America/Chicago:20190803T000000
DTSTAMP:20260421T041438
CREATED:20241006T235424Z
LAST-MODIFIED:20241023T144941Z
UID:10000397-1563667200-1564790400@lumenchristi.org
SUMMARY:POSTPONED: Catholic Social Teaching and Society: An Introduction to the Tradition and Substance of Christian Social Doctrine
DESCRIPTION:THIS SEMINAR HAS BEEN POSTPONED TO SUMMER 2020\nThe manifold and deepening social\, political\, and economic crises that people and their governments face have called forth a strongly renewed interest in the Christian social teaching tradition\, and the contributions that insights from the tradition might make to responding to these exigencies. This revival of interest brings several thorny problems in its wake: Why does the Church speak on these matters\, and based on what authority? What role does the Church properly have in this context? What contributions can she make to such worldly concerns? What does the Church have to offer in responding to the complexities of the contemporary world situation? These represent particularly important questions given the Catholic Church’s revived role as a transnational\, global organization whose views have assumed increasing significance in a post-Cold War world with increasingly diffuse sources of recognized authority. \nThe first week will provide a fundamental introduction to the history\, philosophical currents\, and theology that informs the Catholic social tradition. The second week features an interdisciplinary and international conversation between American and European participants concentrated on the meaning of social justice and its principles in light of the Christian tradition; a consideration of the Christian sources that inform the “social market economy” and the institutions of the “social-state”; and the challenges that AI and digitalization pose to human work and well-being. \nThe seminar will feature lectures\, discussions\, and working groups\, but also opportunities to meet with political\, social and Church leaders. The program has the special goal of bringing American and German students into conversation to share their perspectives\, to build networks and to seek common approaches to addressing both to contemporary crises and unforeseen developments in a way that will keep the human at the center of all our considerations. \nFormat: coming soon! \nLocation:  The seminar will take place at Abtei Michaelsberg\, Siegburg\, Germany. \nApplication Information: This seminar will be open to MA\, MTS\, MDiv\, PhD\, JD\, Post Doc\, and advanced undergraduates in all disciplines. \nApplicants will be required to submit: \n\nA completed online application form.\nAn updated CV.\nAt least one and as many as two letter(s) of recommendation from a member of the program in which the student is currently enrolled.\nA statement of research interest no longer than 750 words\, which includes an explanation of how this seminar might bear on the student’s current or future research plans.\nOne academic writing sample (30 pages maximum).\n\n\nFREQUENTLY ASKED QUESTIONS \nCan I apply for more than one seminar? Yes. You may apply for multiple seminars. Please indicate your order of preference in your statement of purpose for each application. Each applicant may only be admitted to one seminar. \nI have attended a Lumen Christi Institute seminar in the past. May I still apply? Yes! \nDo I have to be Catholic to apply? No. The Lumen Christi Institute exists to promotes the Catholic intellectual tradition and is committed to the integration of the intellectual and spiritual life. The Institute welcomes seminar participants of all or no religious affiliation\, and wants to assure all applicants that the opportunities to participate in devotional activities are optional. \nIn addition to the travel stipend\, are there other funding possibilities? Seminar participation includes an opportunity to give a formal presentation and inclusion in the official program and schedule. We encourage participants to seek funding from their home institutions or other sources to supplement the travel stipend offered by the Lumen Christi Institute. \nWhen do I get my travel stipend? Stipends are distributed as a refund after successful completion of the seminar and seminar evaluations. Exceptions can be made on case by case basis. \nContact us with any further questions.
URL:https://lumenchristi.org/event/2019-cst-germany/
LOCATION:Abtei Michaelsberg\, TBD\, Siegburg\, Germany
CATEGORIES:Seminar
ATTACH;FMTTYPE=image/jpeg:https://lumenchristi.org/wp-content/uploads/2024/10/abbey.jpg
END:VEVENT
BEGIN:VEVENT
DTSTART;TZID=America/Chicago:20190728T000000
DTEND;TZID=America/Chicago:20190803T000000
DTSTAMP:20260421T041438
CREATED:20241006T235424Z
LAST-MODIFIED:20241023T144938Z
UID:10000396-1564272000-1564790400@lumenchristi.org
SUMMARY:Undergraduate Seminar: Augustine on Self\, God\, and Society
DESCRIPTION:APPLICATION COMING SOON\nAugustine is one of the great minds of the Church and of western history. In this week-long intensive seminar\, undergraduates and recent graduates will learn how to read\, analyze\, and discern the theme of the self in relation to God and society across Augustine’s corpus. The seminar is anchored in an in-depth reading of Augustine’s Confessions\, one of the great masterpieces of literature that continues to speak across the centuries even as it is rooted in antiquity. This will be supplemented by selections from The City of God and On the Trinity.  \nApplication materials are due March 1. \n\nFREQUENTLY ASKED QUESTIONS \nCan I apply for more than one seminar? Yes. You may apply for multiple seminars. Please indicate your order of preference in your statement of purpose for each application. Each applicant may only be admitted to one seminar. \nDo I have to be Catholic to apply? No. The Lumen Christi Institute exists to promotes the Catholic intellectual tradition and is committed to the integration of the intellectual and spiritual life. The Institute welcomes seminar participants of all or no religious affiliation\, and wants to assure all applicants that the opportunities to participate in devotional activities are optional. \nIn addition to the travel stipend\, are there other funding possibilities? Seminar participation includes an opportunity to give a formal presentation and inclusion in the official program and schedule. We encourage participants to seek funding from their home institutions or other sources to supplement the travel stipend offered by the Lumen Christi Institute. \nWhen do I get my travel stipend? Stipends are distributed as a refund after successful completion of the seminar and seminar evaluations. Exceptions can be made on case by case basis.
URL:https://lumenchristi.org/event/2019-augustine-self-society/
LOCATION:St. Albert’s Priory\, 5890 Birch Ct\, Oakland\, CA
CATEGORIES:Seminar
ATTACH;FMTTYPE=image/jpeg:https://lumenchristi.org/wp-content/uploads/2024/10/auggy.jpg
END:VEVENT
END:VCALENDAR