BEGIN:VCALENDAR
VERSION:2.0
PRODID:-//Lumen Christi Institute - ECPv6.15.9//NONSGML v1.0//EN
CALSCALE:GREGORIAN
METHOD:PUBLISH
X-ORIGINAL-URL:https://lumenchristi.org
X-WR-CALDESC:Events for Lumen Christi Institute
REFRESH-INTERVAL;VALUE=DURATION:PT1H
X-Robots-Tag:noindex
X-PUBLISHED-TTL:PT1H
BEGIN:VTIMEZONE
TZID:America/Chicago
BEGIN:DAYLIGHT
TZOFFSETFROM:-0600
TZOFFSETTO:-0500
TZNAME:CDT
DTSTART:20170312T080000
END:DAYLIGHT
BEGIN:STANDARD
TZOFFSETFROM:-0500
TZOFFSETTO:-0600
TZNAME:CST
DTSTART:20171105T070000
END:STANDARD
BEGIN:DAYLIGHT
TZOFFSETFROM:-0600
TZOFFSETTO:-0500
TZNAME:CDT
DTSTART:20180311T080000
END:DAYLIGHT
BEGIN:STANDARD
TZOFFSETFROM:-0500
TZOFFSETTO:-0600
TZNAME:CST
DTSTART:20181104T070000
END:STANDARD
BEGIN:DAYLIGHT
TZOFFSETFROM:-0600
TZOFFSETTO:-0500
TZNAME:CDT
DTSTART:20190310T080000
END:DAYLIGHT
BEGIN:STANDARD
TZOFFSETFROM:-0500
TZOFFSETTO:-0600
TZNAME:CST
DTSTART:20191103T070000
END:STANDARD
END:VTIMEZONE
BEGIN:VEVENT
DTSTART;TZID=America/Chicago:20180617T000000
DTEND;TZID=America/Chicago:20180630T000000
DTSTAMP:20260422T011601
CREATED:20241006T235419Z
LAST-MODIFIED:20241023T145927Z
UID:10000456-1529193600-1530316800@lumenchristi.org
SUMMARY:Undergraduate Seminar on Happiness and Freedom
DESCRIPTION:APPLY HERE \nTHE APPLICATION DEADLINE FOR AMERICAN STUDENTS HAS PASSED. IRISH STUDENTS ARE STILL WELCOME TO APPLY UNTIL APRIL 16. \nUndergraduate students from Ireland and the US are invited to apply for this two-week seminar on “Happiness & Freedom.” Explore themes of nationalism\, modernity\, community\, and stability while being immersed in Irish culture and history. \nPresented by the Lumen Christi Institute and the University of Notre Dame. \nYou can download the poster here. \nABOUT THE SEMINAR\nHuman beings want to be happy. And they often see freedom as a necessary component in their happiness. What\, though\, should human beings be free from in order to be happy? Should human beings instead be free for certain things? In this two-week seminar\, we will explore philosophical\, theological\, and historical answers to the question of human freedom and happiness. Because of our location in Ireland\, we will focus on how the Irish have answered these questions throughout their history. We will pay special attention to the role that Christianity has played in contributing to (or perhaps detracting from) one’s freedom and happiness. \nFORMAT AND SCHEDULE\nWeek one will be held at the O’Connell House\, the Notre Dame Global Gateway in Dublin\, and week two will be held at Kylemore Abbey\, a Benedictine community in Connemara\, County Galway. The seminar readings and discussions will be supplemented by field trips around significant historical places in Dublin and County Galway. \nStudents will be provided with lodging\, transportation\, and most meals during the course of the seminar. Students will be responsible for arranging their own transportation to and from the seminar. Travel grants may be available on a need basis. \nGUEST LECTURERS\nMaria Cahill\, Lecturer\, University College Cork\nSiobhán Garrigan\, Loyola Chair of Theology\, Trinity College Dublin\nCyril O’Regan\, Huisking Professor of Theology\, University of Notre Dame\nDeclan Kiberd\, Donald and Marilyn Keough Professor of Irish Studies\, University of Notre Dame \nREADINGS\nIris Murdoch\, The Sovereignty of the Good\nAlasdair MacIntyre\, After Virtue\nR.F. Foster\, Modern Ireland 1600-1970\nWilliam Cavanaugh\, Being Consumed\nJames Joyce\, A Portrait of the Artist as a Young Man\nT. M. Charles-Edwards\, Early Christian Ireland\nRule of St Benedict\nHerbert McCabe\, “God” and “Prayer”\nServais Pinckaers\, OP\, The Pursuit of Happiness\nBenedict XVI\, Deus caritas est and Veritas in caritate \nHOW TO APPLY\nThis seminar is open to current undergraduate students from the US and Ireland (including those graduating in spring 2018). All application materials can be submitted via the online application. Incomplete applications will not be considered. Twenty students will be admitted to this seminar. \nApplication materials must be received by 11:59pm on MARCH 15\, 2018. \nThe Lumen Christi Institute exists to promote the Catholic intellectual tradition and is committed to the integration of the intellectual and spiritual life. The Institute welcomes seminar participants of all or no religious affiliation\, and wants to assure all applicants that the opportunities to participate in devotional activities are optional. \nContact us if you have any further questions.
URL:https://lumenchristi.org/event/2018-ireland-seminar/
LOCATION:Kylemore Abbey\, Kylemore Abbey\, Galway\, Ireland
CATEGORIES:Seminar
ATTACH;FMTTYPE=image/jpeg:https://lumenchristi.org/wp-content/uploads/2024/10/connemara-life-notre-dame-kylemore-abbey-16.jpg
END:VEVENT
END:VCALENDAR