BEGIN:VCALENDAR
VERSION:2.0
PRODID:-//Lumen Christi Institute - ECPv6.15.9//NONSGML v1.0//EN
CALSCALE:GREGORIAN
METHOD:PUBLISH
X-WR-CALNAME:Lumen Christi Institute
X-ORIGINAL-URL:https://lumenchristi.org
X-WR-CALDESC:Events for Lumen Christi Institute
REFRESH-INTERVAL;VALUE=DURATION:PT1H
X-Robots-Tag:noindex
X-PUBLISHED-TTL:PT1H
BEGIN:VTIMEZONE
TZID:America/Chicago
BEGIN:DAYLIGHT
TZOFFSETFROM:-0600
TZOFFSETTO:-0500
TZNAME:CDT
DTSTART:20200308T080000
END:DAYLIGHT
BEGIN:STANDARD
TZOFFSETFROM:-0500
TZOFFSETTO:-0600
TZNAME:CST
DTSTART:20201101T070000
END:STANDARD
BEGIN:DAYLIGHT
TZOFFSETFROM:-0600
TZOFFSETTO:-0500
TZNAME:CDT
DTSTART:20210314T080000
END:DAYLIGHT
BEGIN:STANDARD
TZOFFSETFROM:-0500
TZOFFSETTO:-0600
TZNAME:CST
DTSTART:20211107T070000
END:STANDARD
BEGIN:DAYLIGHT
TZOFFSETFROM:-0600
TZOFFSETTO:-0500
TZNAME:CDT
DTSTART:20220313T080000
END:DAYLIGHT
BEGIN:STANDARD
TZOFFSETFROM:-0500
TZOFFSETTO:-0600
TZNAME:CST
DTSTART:20221106T070000
END:STANDARD
BEGIN:DAYLIGHT
TZOFFSETFROM:-0600
TZOFFSETTO:-0500
TZNAME:CDT
DTSTART:20230312T080000
END:DAYLIGHT
BEGIN:STANDARD
TZOFFSETFROM:-0500
TZOFFSETTO:-0600
TZNAME:CST
DTSTART:20231105T070000
END:STANDARD
END:VTIMEZONE
BEGIN:VEVENT
DTSTART;TZID=America/Chicago:20220223T200000
DTEND;TZID=America/Chicago:20220223T210000
DTSTAMP:20260424T171515
CREATED:20241003T164028Z
LAST-MODIFIED:20251027T160333Z
UID:10000029-1645646400-1645650000@lumenchristi.org
SUMMARY:Walker Percy on the Pursuit of Happiness in Apocalyptic Times
DESCRIPTION:This virtual event is free and open to the public. This virtual event will be livestreamed on Zoom. For more information about the in person event\, please contact us.\nThe in-person event will take place at Ruth Lake Country Club in Hinsdale\, Illinois. \nIn Walker Percy’s novel\, Love in the Ruins\, the narrator\, a wealthy and successful denizen of American suburbia\, admits that ” everyone is happy\, but our hearts broke with happiness.”  In this lecture\, Dr. Jennifer Frey will discuss what Percy’s novel can teach us about the pursuit of happiness in contemporary American life\, and why the novel’s biting satire is relevant to our contemporary political and religious moment.
URL:https://lumenchristi.org/event/2022-02-frey/
CATEGORIES:HYBRID EVENT
ATTACH;FMTTYPE=image/jpeg:https://lumenchristi.org/wp-content/uploads/2024/10/5-10-2018-Living-the-Truth-74-scaled.jpg
END:VEVENT
BEGIN:VEVENT
DTSTART;TZID=America/Chicago:20211117T180000
DTEND;TZID=America/Chicago:20211117T180000
DTSTAMP:20260424T171515
CREATED:20241003T164655Z
LAST-MODIFIED:20251027T155001Z
UID:10000210-1637172000-1637172000@lumenchristi.org
SUMMARY:Michelangelo's Women: Feminine Genius in the Frescoes of the Sistine Chapel
DESCRIPTION:Cosponsored by the Department of Art History.  \n\n\n\nThis convening is open to all invitees regardless of vaccination status and\, because of ongoing health risks\, particularly to the unvaccinated\, participants are expected to adopt the risk mitigation measures (masking and social distancing\, etc.) appropriate to their vaccination status as advised by public health officials or to their individual vulnerabilities as advised by a medical professional. Public convening may not be safe for all and carries a risk for contracting COVID-19\, particularly for those unvaccinated. Participants will not know the vaccination status of others and should follow appropriate risk mitigation measures. \n\nIf you are not currently affiliated with the University (enrolled student\, faculty\, or staff) it is expected that you review the University’s COVID mitigation efforts. The University expects every event attendee to adopt precautions designed to mitigate the risk of viral transmission.\n\nIf you have any questions\, please contact us.
URL:https://lumenchristi.org/event/2021-11-women-of-sistine-chapel-rethinking-michelangelo-elizabeth-lev/
LOCATION:Swift Hall\, First Floor Common Room\, 1025 E 58th St\,Chicago\, IL 60637\, Hyde Park\, IL
CATEGORIES:HYBRID EVENT
ATTACH;FMTTYPE=image/jpeg:https://lumenchristi.org/wp-content/uploads/2024/10/Michelangelo_-_Delphic_Sibyl-WIDE-CROP-scaled.jpeg
END:VEVENT
BEGIN:VEVENT
DTSTART;TZID=America/Chicago:20211021T170000
DTEND;TZID=America/Chicago:20211021T170000
DTSTAMP:20260424T171515
CREATED:20241003T164704Z
LAST-MODIFIED:20241023T143544Z
UID:10000216-1634835600-1634835600@lumenchristi.org
SUMMARY:The Salvific Power of the Inner Life of Christ: The Witness of the Ecumenical Councils
DESCRIPTION:Free and open to the public. Registration for in-person attendance is not required\, but requested. Contact us with any questions. Note the time for this event has been changed from 4:30 p.m. to 5:00 p.m. This event is cosponsored by the Harvard Catholic Forum. \nStandard accounts of salvation in both East and West typically do not include a consideration of how Christ’s inner life-his thoughts\, feelings\, and intentions- are salvific. Such an omission is inconsistent with the witness of both the Scriptures and the ecumenical councils. \nIn affirming the necessity for human salvation of Christ’s human mind and will\, the ecumenical councils implicitly affirmed the salvific value of Christ’s inner life without providing a description of its inner contents. On the basis of Scripture and both Eastern and Western traditions\, such a description can be summarized by the notion of Christ’s saving “doxological contrition”. \nFr. Anatolios will also lead a master class for students and faculty on Friday\, October 22 on The Doctrine of Salvation in Nicholas Cabasilas’s The Life in Christ. \n\n\nThis convening is open to all invitees regardless of vaccination status and\, because of ongoing health risks\, particularly to the unvaccinated\, participants are expected to adopt the risk mitigation measures (masking and social distancing\, etc.) appropriate to their vaccination status as advised by public health officials or to their individual vulnerabilities as advised by a medical professional. Public convening may not be safe for all and carries a risk for contracting COVID-19\, particularly for those unvaccinated. Participants will not know the vaccination status of others and should follow appropriate risk mitigation measures.\nIf you are not currently affiliated with the University (enrolled student\, faculty\, or staff) it is expected that you review the University’s COVID mitigation efforts. The University expects every event attendee to adopt precautions designed to mitigate the risk of viral transmission.\nIf you have any questions\, please contact us.
URL:https://lumenchristi.org/event/2021-10-salvific-power-of-inner-life-of-christ-witness-of-ecumenical-councils/
LOCATION:Swift Hall\, First Floor Common Room\, 1025 E 58th St\,Chicago\, IL 60637\, Hyde Park\, IL
CATEGORIES:HYBRID EVENT
ATTACH;FMTTYPE=image/jpeg:https://lumenchristi.org/wp-content/uploads/2024/10/AdobeStock_252005240-scaled.jpeg
END:VEVENT
BEGIN:VEVENT
DTSTART;TZID=America/Chicago:20211014T170000
DTEND;TZID=America/Chicago:20211014T170000
DTSTAMP:20260424T171515
CREATED:20241003T164707Z
LAST-MODIFIED:20260423T171446Z
UID:10000217-1634230800-1634230800@lumenchristi.org
SUMMARY:Conversation on "The Rage of Innocence"
DESCRIPTION:Free and open to the public. Presented by the Loyola University Chicago School of Law and the Catholic Criminal Justice Reform Network. Cosponsored by the Catholic Lawyers Guild of Chicago. \nA discussion of The Rage of Innocence: How America Criminalizes Black Youth with author and Professor Kris Henning in conversation with Pulitzer Prize winning author of Locking Up Our Own\, Professor James Forman\, Jr. \nIn January 2019\, Pope Francis told the detainees at a Panamanian youth prison: “You are part of [God’s] family; you have a lot to share with others.”  A fruitful society\, he said\, “is able to generate processes of inclusion and integration\, of caring and trying to create opportunities and alternatives that can offer new possibilities to the young\, to build a future through community\, education and employment. Such a community is healthy.”  Unfortunately\, our communities fail to offer a healthy\, inclusive\, and caring environment for court-involved youth–particularly youth of color–as Professor Kris Henning dramatically reveals. \nIn a searing and clear indictment of the juvenile and criminal legal system\, Kris Henning draws on her 25 years of representing young people accused of crimes to show the day-to-day brutalities endured by Black youth growing up under constant surveillance and persistent threat of physical and psychological abuse by police. Join Profs. Henning and Forman in a discussion of her critical and timely new book.
URL:https://lumenchristi.org/event/2021-10-rage-of-innocence-how-america-criminalizes-black-youth/
LOCATION:Loyola University Chicago Law School\, 25 East Pearson Street\, Chicago\, IL
CATEGORIES:HYBRID EVENT
ATTACH;FMTTYPE=image/png:https://lumenchristi.org/wp-content/uploads/2024/10/Rage-of-Innocence-Graphic.png
END:VEVENT
BEGIN:VEVENT
DTSTART;TZID=America/Chicago:20211008T173000
DTEND;TZID=America/Chicago:20211008T194500
DTSTAMP:20260424T171515
CREATED:20241003T164710Z
LAST-MODIFIED:20251027T154536Z
UID:10000218-1633714200-1633722300@lumenchristi.org
SUMMARY:A Life in Service of the Truth: The Legacy of Fr. Paul Mankowski\, SJ
DESCRIPTION:Fr. Paul Mankowski (1953 – 2020) was a brilliant essayist\, a singular wit\, and a devoted son of the Church. Born in South Bend\, Indiana\, he put himself through the University of Chicago while working summers in a steel mill. Called to a vocation with the Society of Jesus\, Fr. Paul entered the novitiate in 1976 before studying Classics at Oxford and Semitic languages at Harvard. \nThough lacking all instincts for self-promotion\, Fr. Paul quickly gained a reputation for his erudition and his razor-sharp intellect.  He suffered greatly for his loyalty to the Church before finding a home at the Lumen Christi Institute at the University of Chicago. Having returned to his alma mater\, he served as a fulcrum of intellectual and spiritual formation for countless students. In passing away unexpectedly on September 3\, 2020\, Fr. Paul Mankowski left a legacy of principled and courageous allegiance to the Church and her tradition of integrated intellectual and spiritual life. \nThis event will celebrate the life and legacy of Fr. Paul Mankowski through a conversation with Professor Gary Anderson (University of Notre Dame)\, who will comment on Fr. Paul’s work as a scholar. and Fr. Kevin Flannery\, SJ ( Pontifical Gregorian University)\, who will reflect on Fr. Paul’s life as a Jesuit (with Fr. Paul’s letters as a point of departure).
URL:https://lumenchristi.org/event/2021-10-a-life-in-service-of-truth-legacy-of-fr-paul-mankowski-sj-gary-a-anderson-kevin-flannery-s-j/
LOCATION:University Club of Chicago\, 76 E Monroe St\nChicago\, IL 60603\, Downtown\, IL
CATEGORIES:HYBRID EVENT
ATTACH;FMTTYPE=image/jpeg:https://lumenchristi.org/wp-content/uploads/2024/10/PaulMankowski19x_1.jpg
END:VEVENT
BEGIN:VEVENT
DTSTART;TZID=America/Chicago:20211007T170000
DTEND;TZID=America/Chicago:20211007T170000
DTSTAMP:20260424T171515
CREATED:20241003T164713Z
LAST-MODIFIED:20251027T153958Z
UID:10000220-1633626000-1633626000@lumenchristi.org
SUMMARY:Conscience and Human Rights in Thomas Aquinas and Some Predecessors
DESCRIPTION:Free and open to the public. Registration is required. Contact us with any questions. Note the time for this event has been changed from 4:30 p.m. to 5:00 p.m. \nIn discussions of the history of the philosophy of human rights\, typically a distinction is made between theories that understand rights as objective and those that understand them as subjective (or\, to use a more contemporary term\, more “personalistic”).  This talk relates this issue to the history of reflection\, especially by Christian thinkers leading up to the thirteenth century\, regarding conscience.  It argues ultimately that Thomas Aquinas’s understanding of conscience\, influenced as it is by Aristotle\, entails an understanding of human rights that is primarily objective.  It concludes with a few remarks about the advantages of such an understanding. \n\nThis convening is open to all invitees regardless of vaccination status and\, because of ongoing health risks\, particularly to the unvaccinated\, participants are expected to adopt the risk mitigation measures (masking and social distancing\, etc.) appropriate to their vaccination status as advised by public health officials or to their individual vulnerabilities as advised by a medical professional. Public convening may not be safe for all and carries a risk for contracting COVID-19\, particularly for those unvaccinated. Participants will not know the vaccination status of others and should follow appropriate risk mitigation measures.\nIf you are not currently affiliated with the University (enrolled student\, faculty\, or staff) it is expected that you review the University’s COVID mitigation efforts. The University expects every event attendee to adopt precautions designed to mitigate the risk of viral transmission.\nIf you have any questions\, please contact us.
URL:https://lumenchristi.org/event/2021-10-conscience-human-rights-in-thomas-aquinas-some-predecessors-kevin-flannery-s-j/
LOCATION:Swift Hall\, 3rd Floor Lecture\, 1025 E 58th St.\nChicago\, IL 60637\, Hyde Park\, IL
CATEGORIES:HYBRID EVENT
ATTACH;FMTTYPE=image/jpeg:https://lumenchristi.org/wp-content/uploads/2024/10/Aquinas-Crivelli-London-1200.jpg
END:VEVENT
END:VCALENDAR