BEGIN:VCALENDAR
VERSION:2.0
PRODID:-//Lumen Christi Institute - ECPv6.15.9//NONSGML v1.0//EN
CALSCALE:GREGORIAN
METHOD:PUBLISH
X-WR-CALNAME:Lumen Christi Institute
X-ORIGINAL-URL:https://lumenchristi.org
X-WR-CALDESC:Events for Lumen Christi Institute
REFRESH-INTERVAL;VALUE=DURATION:PT1H
X-Robots-Tag:noindex
X-PUBLISHED-TTL:PT1H
BEGIN:VTIMEZONE
TZID:America/Chicago
BEGIN:DAYLIGHT
TZOFFSETFROM:-0600
TZOFFSETTO:-0500
TZNAME:CDT
DTSTART:20250309T080000
END:DAYLIGHT
BEGIN:STANDARD
TZOFFSETFROM:-0500
TZOFFSETTO:-0600
TZNAME:CST
DTSTART:20251102T070000
END:STANDARD
BEGIN:DAYLIGHT
TZOFFSETFROM:-0600
TZOFFSETTO:-0500
TZNAME:CDT
DTSTART:20260308T080000
END:DAYLIGHT
BEGIN:STANDARD
TZOFFSETFROM:-0500
TZOFFSETTO:-0600
TZNAME:CST
DTSTART:20261101T070000
END:STANDARD
BEGIN:DAYLIGHT
TZOFFSETFROM:-0600
TZOFFSETTO:-0500
TZNAME:CDT
DTSTART:20270314T080000
END:DAYLIGHT
BEGIN:STANDARD
TZOFFSETFROM:-0500
TZOFFSETTO:-0600
TZNAME:CST
DTSTART:20271107T070000
END:STANDARD
END:VTIMEZONE
BEGIN:VEVENT
DTSTART;TZID=America/Chicago:20260424T100000
DTEND;TZID=America/Chicago:20260424T110000
DTSTAMP:20260424T015619
CREATED:20260312T214355Z
LAST-MODIFIED:20260401T012912Z
UID:10002060-1777024800-1777028400@lumenchristi.org
SUMMARY:Greek New Testament (Spring)
DESCRIPTION:REGISTER BELOW\n10:00 a.m. – 11:00 a.m. | Refreshments Provided \nThis event is designated for current University of Chicago graduate and undergraduate students. University of Chicago faculty and staff are also welcome to attend. Others interested in auditing should contact William Hurley at whurley@lumenchristi.org. Students will receive a copy of the texts. \n“In many and various ways God spoke of old to our fathers by the prophets; but in these last days he has spoken to us by a Son\, whom he appointed the heir of all things\, through whom also he created the world.” This dramatic opening salvo of the Letter to the Hebrews\, summarizing salvation history\, is one of the most famous and consequential one-liners in the New Testament. But who is this Son? How is he “appointed heir of all things”? What is the relationship between God’s message through him and His message through the prophets? In this reading group\, we will examine\, through careful study of the Koine Greek text\, how the Letter to the Hebrews answers these questions and more\, with an eye to the authorship\, audience\, and genre of this mysterious text. All levels of Greek proficiency are encouraged to join. Advance preparation is recommended but not required. \nSchedule:\n\n\nApril 9*: Hebrews 10.1–18 (Christ’s Sacrifice)\n\n\nApril 17: Hebrews 10.19–39 (Exhortation to Persevere)\n\n\nApril 24: Hebrews 11.1–22 (Examples of Faith Part I)\n\n\nMay 1: Hebrews 11.23–40 (Examples of Faith Part 2)\n\n\nMay 8: Hebrews 12\n\n\nMay 15: Hebrews 13\n\n\n*The first session takes place at the normal time but on Thursday. \nSeries Description:\nLanguage Reading Group \nEach quarter\, the Lumen Christi Institute hosts at least one classical language reading group at Gavin House (1220 E 58th St.). The reading groups are usually held over a shared meal and all participants are provided a copy of the text. Any student interested in working on his or her classical languages is welcome to join. No religious affiliation is necessary.
URL:https://lumenchristi.org/event/greek-new-testament-spring-continued/2026-04-24/
LOCATION:Gavin House\, 1220 E 58th St.\, Chicago\, IL\, 60637
CATEGORIES:Reading Groups
ATTACH;FMTTYPE=image/jpeg:https://lumenchristi.org/wp-content/uploads/2025/09/Papyrus_13_-_British_Library_Papyrus_1532_-_Epistle_to_the_Hebrews_-_2.jpg
END:VEVENT
BEGIN:VEVENT
DTSTART;TZID=America/Chicago:20260424T140000
DTEND;TZID=America/Chicago:20260424T153000
DTSTAMP:20260424T015619
CREATED:20260320T180453Z
LAST-MODIFIED:20260423T192439Z
UID:10002145-1777039200-1777044600@lumenchristi.org
SUMMARY:Being Human in the Digital Age: A Discussion
DESCRIPTION:The dominance of technology in our lives and the precipitous rise of artificial intelligence in the last few years has raised profound questions. We are being asked to think more deeply about what it means to be human\, how we should (and whether we can) live with our creations\, and what kind of life we can share together. How should we understand these new technologies? How does our use of digital technology form us? Is it changing society in fundamental ways? How should we think about the religious aspirations and dimensions of this new technology?  In this webinar\, professor of theology Jared Ortiz will interview philosopher Anton Barba-Kay about his new book\, A Web of Our Own Making: The Nature of Digital Formation.  \nThis event is being cosponsored by the COLLIS Institute for Catholic Thought and Culture\, the Saint Benedict Institute\, Fons Vitae at Duke Divinity School\, the Kateri Institute\, the Harvard Catholic Forum\, and the St. Kateri Institute.  \nFor more information contact Geoffrey Zokal at gzokal@lumenchristi.org \nThis projects is made possible through the support of In Lumine Tuo: Expanding and Sustaining the Catholic Intellectual Tradition Nationwide (grant #63614) from the John Templeton Foundation and the generous support of our donors.
URL:https://lumenchristi.org/event/being-human-in-the-digital-age-a-discussion/
LOCATION:IL
CATEGORIES:ONLINE
ATTACH;FMTTYPE=image/jpeg:https://lumenchristi.org/wp-content/uploads/2026/03/Webinar.jpg
END:VEVENT
END:VCALENDAR