BEGIN:VCALENDAR
VERSION:2.0
PRODID:-//Lumen Christi Institute - ECPv6.15.9//NONSGML v1.0//EN
CALSCALE:GREGORIAN
METHOD:PUBLISH
X-WR-CALNAME:Lumen Christi Institute
X-ORIGINAL-URL:https://lumenchristi.org
X-WR-CALDESC:Events for Lumen Christi Institute
REFRESH-INTERVAL;VALUE=DURATION:PT1H
X-Robots-Tag:noindex
X-PUBLISHED-TTL:PT1H
BEGIN:VTIMEZONE
TZID:America/Santiago
BEGIN:STANDARD
TZOFFSETFROM:-0300
TZOFFSETTO:-0400
TZNAME:-04
DTSTART:20240407T030000
END:STANDARD
BEGIN:DAYLIGHT
TZOFFSETFROM:-0400
TZOFFSETTO:-0300
TZNAME:-03
DTSTART:20240908T040000
END:DAYLIGHT
BEGIN:STANDARD
TZOFFSETFROM:-0300
TZOFFSETTO:-0400
TZNAME:-04
DTSTART:20250406T030000
END:STANDARD
BEGIN:DAYLIGHT
TZOFFSETFROM:-0400
TZOFFSETTO:-0300
TZNAME:-03
DTSTART:20250907T040000
END:DAYLIGHT
BEGIN:STANDARD
TZOFFSETFROM:-0300
TZOFFSETTO:-0400
TZNAME:-04
DTSTART:20260405T030000
END:STANDARD
BEGIN:DAYLIGHT
TZOFFSETFROM:-0400
TZOFFSETTO:-0300
TZNAME:-03
DTSTART:20260906T040000
END:DAYLIGHT
END:VTIMEZONE
BEGIN:VEVENT
DTSTART;VALUE=DATE:20250810
DTEND;VALUE=DATE:20250816
DTSTAMP:20260421T183958
CREATED:20251215T212511Z
LAST-MODIFIED:20251215T212902Z
UID:21095-1754784000-1755302399@lumenchristi.org
SUMMARY:Vocation of the Catholic Scholar
DESCRIPTION:The Vocation of the Catholic Scholar seminar was catalyzed by LCI’s Postdoctoral Fellows Program in Catholic Studies\, which launched this fall. For the inaugural cohort of fellows\, the institute was only able to accept two out of a pool of nearly seventy\, highly-qualified candidates. This week-long seminar was born out of the interest of so many talented young Catholic scholars\, seeking intellectual community and greater connection with the Church’s rich tradition. The seminar made it possible to bring an additional eleven of these young scholars for a week of formation\, friendship\, and discussion about the meaning of the role in the Church to which God has called them. \nEach morning\, Fr. Stephen Fields\, SJ (Georgetown University) led a conversation on the seminar’s primary text: St. John Henry Newman’s The Idea of a University. Each afternoon\, senior scholars shared their own reflections on research and teaching in the university in the light of their faith. They encouraged seminar participants to consider how the Catholic tradition enriches the scholarly vocation.
URL:https://lumenchristi.org/event/vocation-of-the-catholic-scholar/
LOCATION:Gavin House\, 1220 E 58th St.\, Chicago\, IL\, 60637
CATEGORIES:Summer Seminars
ATTACH;FMTTYPE=image/webp:https://lumenchristi.org/wp-content/uploads/2024/12/pontificia-universidad-catolica-de-chile-smapse8-scaled.webp
END:VEVENT
END:VCALENDAR