BEGIN:VCALENDAR
VERSION:2.0
PRODID:-//Lumen Christi Institute - ECPv6.15.9//NONSGML v1.0//EN
CALSCALE:GREGORIAN
METHOD:PUBLISH
X-WR-CALNAME:Lumen Christi Institute
X-ORIGINAL-URL:https://lumenchristi.org
X-WR-CALDESC:Events for Lumen Christi Institute
REFRESH-INTERVAL;VALUE=DURATION:PT1H
X-Robots-Tag:noindex
X-PUBLISHED-TTL:PT1H
BEGIN:VTIMEZONE
TZID:America/Chicago
BEGIN:DAYLIGHT
TZOFFSETFROM:-0600
TZOFFSETTO:-0500
TZNAME:CDT
DTSTART:20250309T080000
END:DAYLIGHT
BEGIN:STANDARD
TZOFFSETFROM:-0500
TZOFFSETTO:-0600
TZNAME:CST
DTSTART:20251102T070000
END:STANDARD
BEGIN:DAYLIGHT
TZOFFSETFROM:-0600
TZOFFSETTO:-0500
TZNAME:CDT
DTSTART:20260308T080000
END:DAYLIGHT
BEGIN:STANDARD
TZOFFSETFROM:-0500
TZOFFSETTO:-0600
TZNAME:CST
DTSTART:20261101T070000
END:STANDARD
BEGIN:DAYLIGHT
TZOFFSETFROM:-0600
TZOFFSETTO:-0500
TZNAME:CDT
DTSTART:20270314T080000
END:DAYLIGHT
BEGIN:STANDARD
TZOFFSETFROM:-0500
TZOFFSETTO:-0600
TZNAME:CST
DTSTART:20271107T070000
END:STANDARD
END:VTIMEZONE
BEGIN:VEVENT
DTSTART;VALUE=DATE:20260702
DTEND;VALUE=DATE:20260709
DTSTAMP:20260421T041438
CREATED:20251120T161505Z
LAST-MODIFIED:20260106T174024Z
UID:20515-1782950400-1783555199@lumenchristi.org
SUMMARY:The Thought of René Girard
DESCRIPTION:Apply here\nThe Thought of René Girard\nFor Undergraduate Students. \nOne of the most influential 20th century Catholic thinkers\, René Girard transformed our understanding of culture\, religion\, and human behavior. His “mimetic theory” builds on the demystifying power of the Old and New Testaments to illuminate the religious history of mankind. Through an intensive reading of his more accessible works\, in conjunction with the fiction of the greatest writers\, this five-day seminar for undergraduate students will explore Girard’s key insights into imitation\, conflict\, and scapegoating\, connecting them to central themes of Christian theology. \n  \nLocation and Format: \nThis seminar will be held at Gavin House in Chicago\, Illinois. \nParticipants will arrive on Thursday\, July 2 and depart on Wednesday\, July 8. \nThe seminar will comprise of  two 2.5-hour sessions each day (with only afternoon sessions on Sunday). Each session will have a seminar-style discussion of the text and the issues at hand. Students will be expected to prepare the readings carefully\, submit study questions in advance\, and participate actively in each session. The seminar will also include optional excursions within Chicago. \nAdmitted students will be granted a stipend of $350 to offset travel costs in addition to having their lodging and meals covered for the duration of the seminar. \nApplication Information: \nThis seminar is open to all undergraduate students (including 2026 graduates) interested in understanding the thought of one of the great modern Christian apologists. Applicants must be 18 by the time of the seminar. \nApplicants will be required to submit an online application form including: \nA list of completed coursework. \nAt least one and as many as two letter(s) of recommendation from a professor at the school in which the student is currently enrolled. \nA statement of interest no longer than 750 words\, which includes an explanation of how this seminar might bear on the student’s current intellectual interests. \nAll application materials can be submitted via the online application. Incomplete applications will not be considered. Fifteen applicants will be admitted to this seminar. \nApplication Deadline is February 2\, 2026. 
URL:https://lumenchristi.org/event/the-thought-of-rene-girard-2/
LOCATION:Gavin House\, 1220 E 58th St.\, Chicago\, IL\, 60637
CATEGORIES:Summer Seminars
ATTACH;FMTTYPE=image/jpeg:https://lumenchristi.org/wp-content/uploads/2024/10/Girard-scaled.jpg
END:VEVENT
END:VCALENDAR