BEGIN:VCALENDAR
VERSION:2.0
PRODID:-//Lumen Christi Institute - ECPv6.15.9//NONSGML v1.0//EN
CALSCALE:GREGORIAN
METHOD:PUBLISH
X-WR-CALNAME:Lumen Christi Institute
X-ORIGINAL-URL:https://lumenchristi.org
X-WR-CALDESC:Events for Lumen Christi Institute
REFRESH-INTERVAL;VALUE=DURATION:PT1H
X-Robots-Tag:noindex
X-PUBLISHED-TTL:PT1H
BEGIN:VTIMEZONE
TZID:America/Chicago
BEGIN:DAYLIGHT
TZOFFSETFROM:-0600
TZOFFSETTO:-0500
TZNAME:CDT
DTSTART:20250309T080000
END:DAYLIGHT
BEGIN:STANDARD
TZOFFSETFROM:-0500
TZOFFSETTO:-0600
TZNAME:CST
DTSTART:20251102T070000
END:STANDARD
BEGIN:DAYLIGHT
TZOFFSETFROM:-0600
TZOFFSETTO:-0500
TZNAME:CDT
DTSTART:20260308T080000
END:DAYLIGHT
BEGIN:STANDARD
TZOFFSETFROM:-0500
TZOFFSETTO:-0600
TZNAME:CST
DTSTART:20261101T070000
END:STANDARD
BEGIN:DAYLIGHT
TZOFFSETFROM:-0600
TZOFFSETTO:-0500
TZNAME:CDT
DTSTART:20270314T080000
END:DAYLIGHT
BEGIN:STANDARD
TZOFFSETFROM:-0500
TZOFFSETTO:-0600
TZNAME:CST
DTSTART:20271107T070000
END:STANDARD
END:VTIMEZONE
BEGIN:VEVENT
DTSTART;VALUE=DATE:20260621
DTEND;VALUE=DATE:20260626
DTSTAMP:20260421T041918
CREATED:20251120T160531Z
LAST-MODIFIED:20260317T175947Z
UID:20519-1782000000-1782431999@lumenchristi.org
SUMMARY:"Judgment in Rome: Art and Papal Teaching from John Paul II to Leo XIV."
DESCRIPTION:We are pleased to announce the inaugural summer seminar on Law in the Catholic Intellectual Tradition\, “Judgment in Rome: Art & Papal Teaching from John Paul II to Leo XIV.” During the seminar\, participants will engage in seminar discussions on papal teachings (writings\, speeches\, etc.) from Pope St. John Paul II to Pope Leo XIV on the topics of law\, justice\, judgment\, and related matters. Attendees will also encounter artistic works located throughout Rome that address the theme of judgment. Participants will be provided with a curated reader of papal teachings on seminar topics. One goal of the seminar is to equip participants to better incorporate Catholic teaching on judgment and jurisprudence into their teaching\, scholarship\, and service to the academic community and to the legal profession. \nThe seminar is co-organized by: The Center for The Constitution and the Catholic Intellectual Tradition at The Catholic University of America Columbus School of Law\, the Eleanor H. McCullen Center for Law\, Religion and Public Policy at Villanova University\, the Center for the Study of Liberal Democracy at the University of Wisconsin\, Madison\, The Catholic Criminal Justice Reform Network at the Lumen Christi Institute\, and Notre Dame Law School. \nLocation: The seminar sessions will take place in Rome\, with seminars held at the Pontifical University of the Holy Cross and the Augustinianum\, and artistic site visits taking place across Rome. \nParticipants will arrive on Sunday\, June 21 and depart on Thursday\, June 25. \n\n\nAll participants will be provided with accommodations and most meals as well as travel stipends of $750 \n\nThe seminar is by invitation only.\n\nElisabeth Lev – Duquesne University/University of Saint Thomas Aquinas (Angelicum) \nScott Roniger – Loyola Marymount University \nFr. Petar Popović – Pontificial University of the Holy Cross \nRalf van Bühren – Pontificial University of the Holy Cross
URL:https://lumenchristi.org/event/judgment-in-rome-art-and-papal-teaching-from-john-paul-ii-to-leo-xiv/
LOCATION:Pontifical University of the Holy Cross\, Rome\, Piazza Santa Apollinare\, 49\, 00186 Roma\, Italy\, Rome\, Italy
CATEGORIES:Summer Seminars
ATTACH;FMTTYPE=image/jpeg:https://lumenchristi.org/wp-content/uploads/2025/09/Rome-_Ruins_of_the_Forum_Looking_towards_the_Capitol.jpg
END:VEVENT
END:VCALENDAR