BEGIN:VCALENDAR
VERSION:2.0
PRODID:-//Lumen Christi Institute - ECPv6.15.9//NONSGML v1.0//EN
CALSCALE:GREGORIAN
METHOD:PUBLISH
X-WR-CALNAME:Lumen Christi Institute
X-ORIGINAL-URL:https://lumenchristi.org
X-WR-CALDESC:Events for Lumen Christi Institute
REFRESH-INTERVAL;VALUE=DURATION:PT1H
X-Robots-Tag:noindex
X-PUBLISHED-TTL:PT1H
BEGIN:VTIMEZONE
TZID:America/Toronto
BEGIN:DAYLIGHT
TZOFFSETFROM:-0500
TZOFFSETTO:-0400
TZNAME:EDT
DTSTART:20240310T070000
END:DAYLIGHT
BEGIN:STANDARD
TZOFFSETFROM:-0400
TZOFFSETTO:-0500
TZNAME:EST
DTSTART:20241103T060000
END:STANDARD
BEGIN:DAYLIGHT
TZOFFSETFROM:-0500
TZOFFSETTO:-0400
TZNAME:EDT
DTSTART:20250309T070000
END:DAYLIGHT
BEGIN:STANDARD
TZOFFSETFROM:-0400
TZOFFSETTO:-0500
TZNAME:EST
DTSTART:20251102T060000
END:STANDARD
BEGIN:DAYLIGHT
TZOFFSETFROM:-0500
TZOFFSETTO:-0400
TZNAME:EDT
DTSTART:20260308T070000
END:DAYLIGHT
BEGIN:STANDARD
TZOFFSETFROM:-0400
TZOFFSETTO:-0500
TZNAME:EST
DTSTART:20261101T060000
END:STANDARD
END:VTIMEZONE
BEGIN:VEVENT
DTSTART;VALUE=DATE:20250622
DTEND;VALUE=DATE:20250628
DTSTAMP:20260421T184249
CREATED:20241202T202951Z
LAST-MODIFIED:20251215T210356Z
UID:16802-1750550400-1751068799@lumenchristi.org
SUMMARY:Dionysius the Areopagite: The Corpus and Its Legacy
DESCRIPTION:Apply here\n\nCo-presented with the Sheptytsky Institute of Eastern Christian Studies at the University of St. Michael’s College\, University of Toronto. \nDionysius the Areopagite is a figure who is as elusive as his prose is powerful. The course will involve a close reading of his entire corpus and situating his writings in the intellectual and historical context of the first millennium. We will further outline the indelible marks he leaves on subsequent Christian theology\, liturgy\, and the broader philosophical tradition. \n\n\nLOCATION AND FORMAT\n\nThe seminar will be held at Sheptytsky House at the University of St. Michael’s College in the University of Toronto. Admitted students will be required to arrange their own travel to and from the seminar\nParticipants will receive a stipend of up to $350 to offset travel expenses.\nLodging will be provided to participants. \n\nMeals will also be provided\, although students will be responsible for meals when on their own outside the seminar\n\nParticipants will arrive on Sunday\, June 22 and depart on Friday\, June 27.\nParticipants will be provided with the relevant books.\nThere will be two sessions each day in the morning and in the afternoon. Each session will include lectures and seminar-style discussions. Students will be expected to prepare the readings carefully and participate in the discussions of the material.\n\nAPPLICATION INFORMATION \n\nThis seminar is open to graduate students. Working knowledge of relevant ancient languages will be helpful\, but not essential. Preference will be given to Ph.D. students in theology\, philosophy\, classics\, and other relevant fields of study\, though advanced M.A. students will be considered.\nApplicants will be required to submit an online application form including:\n\n\nA list of completed coursework.\nAt least one and as many as two letter(s) of recommendation from a professor at the school in which the student is currently enrolled.\nA statement of interest no longer than 750 words\, which includes an explanation of how this seminar might bear on the student’s current intellectual interests.\n\n\nAll application materials can be submitted through the online application interface. Incomplete applications will not be considered.\nFifteen applicants will be admitted to this seminar.\nApplication Deadline is February 2\, 2025\n\n\n\n\nThis seminar will be led by:\n\n\nLewis Ayres\, Pontifical University of St. Thomas Aquinas/Durham University\n\n\nPaul Blowers\, Milligan University\n\n\nFr. Andrew Summerson\, Sheptytsky Institute of Eastern Christian Studies
URL:https://lumenchristi.org/event/dionysius-the-areopagite-the-corpus-and-its-legacy/
LOCATION:University of St. Michael’s College\, 81 St. Mary's Street\nToronto\, ON M5S 1J4\, Toronto\, ON
CATEGORIES:Summer Seminars
ATTACH;FMTTYPE=image/jpeg:https://lumenchristi.org/wp-content/uploads/2024/11/Dionysius-web-e1732131510263.jpg
END:VEVENT
END:VCALENDAR