BEGIN:VCALENDAR
VERSION:2.0
PRODID:-//Lumen Christi Institute - ECPv6.15.9//NONSGML v1.0//EN
CALSCALE:GREGORIAN
METHOD:PUBLISH
X-WR-CALNAME:Lumen Christi Institute
X-ORIGINAL-URL:https://lumenchristi.org
X-WR-CALDESC:Events for Lumen Christi Institute
REFRESH-INTERVAL;VALUE=DURATION:PT1H
X-Robots-Tag:noindex
X-PUBLISHED-TTL:PT1H
BEGIN:VTIMEZONE
TZID:America/New_York
BEGIN:DAYLIGHT
TZOFFSETFROM:-0500
TZOFFSETTO:-0400
TZNAME:EDT
DTSTART:20240310T070000
END:DAYLIGHT
BEGIN:STANDARD
TZOFFSETFROM:-0400
TZOFFSETTO:-0500
TZNAME:EST
DTSTART:20241103T060000
END:STANDARD
BEGIN:DAYLIGHT
TZOFFSETFROM:-0500
TZOFFSETTO:-0400
TZNAME:EDT
DTSTART:20250309T070000
END:DAYLIGHT
BEGIN:STANDARD
TZOFFSETFROM:-0400
TZOFFSETTO:-0500
TZNAME:EST
DTSTART:20251102T060000
END:STANDARD
BEGIN:DAYLIGHT
TZOFFSETFROM:-0500
TZOFFSETTO:-0400
TZNAME:EDT
DTSTART:20260308T070000
END:DAYLIGHT
BEGIN:STANDARD
TZOFFSETFROM:-0400
TZOFFSETTO:-0500
TZNAME:EST
DTSTART:20261101T060000
END:STANDARD
END:VTIMEZONE
BEGIN:VEVENT
DTSTART;VALUE=DATE:20250616
DTEND;VALUE=DATE:20250620
DTSTAMP:20260422T095214
CREATED:20241202T203647Z
LAST-MODIFIED:20251215T210339Z
UID:16898-1750032000-1750377599@lumenchristi.org
SUMMARY:Catholic Social Thought in Business Education
DESCRIPTION:Apply here\nWe are pleased to announce the fifth annual seminar on “Business and Catholic Social Thought: A Primer.” During the seminar\, graduate students and faculty members in business schools will cover foundational principles in Catholic social thought and apply them to their own field of research and teaching. This seminar aims at widening epistemological preconceptions and showing practical implications of Catholic social thought for business in a way that affirms the goodness of business directed toward the common good. Participants will delve into social encyclicals\, secondary sources\, and relevant business texts that show the path for principled entrepreneurship in order to gain knowledge\, exchange experiences\, receive help with their syllabi and consider how best to integrate Catholic social thought into business education.\n\nThe seminar is co-sponsored by the Terrence J. Murphy Institute for Catholic Thought\, Law\, and Business\, the Mendoza College of Business at the University of Notre Dame; the Ciocca Center for Principled Entrepreneurship at the Catholic University of America; the Lumen Christi Institute; and the Markets\, Culture and Ethics Research Centre at the Pontifical University of the Holy Cross\, Rome.\n\nLocation: The seminar will take place at the University of Notre Dame between Monday June 16 (day of Arrival) and Thursday June 19 (Departure after lunch).\n\n\n\n\n\nA limited number of travel grants are available. To apply for financial assistance\, please complete and submit the attached request for funds to murphyinstit@stthomas.edu by May 5\, 2025\n\nClick for the Attachment\n\n\nAll participants will be provided with accommodations and meals.\n\n\n\nApplication Information\n\nThis seminar will be open to graduate students and faculty of any specialization in business schools.\n\nApplicants will be required to submit a completed online application\, including:\n\nAn updated CV/resume.\nA brief statement of research interest related to Catholic social thought no longer than 750 words.\nOne academic writing sample.\n\n\n\n\n\n\nAll application materials can be submitted via the online application interface. Incomplete applications will not be considered. Fifteen students will be admitted to this seminar. \n\n\nApplication materials are due March 16\, 2025.\n\n\n\n\nThis seminar will be led by:\n\n\nJames Otteson\, University of Notre Dame\n\n\nLloyd Sandelands\, University of Michigan\n\n\nMsgr. Martin Schlag\, University of St. Thomas\n\n\nAndreas Widmer\, The Catholic University of America
URL:https://lumenchristi.org/event/catholic-social-thought-in-business-education/
LOCATION:University of Notre Dame\, Notre Dame\, IN 46556\, Notre Dame\, IN
CATEGORIES:Summer Seminars
ATTACH;FMTTYPE=image/jpeg:https://lumenchristi.org/wp-content/uploads/2024/12/download-1.jpeg
END:VEVENT
END:VCALENDAR