BEGIN:VCALENDAR
VERSION:2.0
PRODID:-//Lumen Christi Institute - ECPv6.15.9//NONSGML v1.0//EN
CALSCALE:GREGORIAN
METHOD:PUBLISH
X-WR-CALNAME:Lumen Christi Institute
X-ORIGINAL-URL:https://lumenchristi.org
X-WR-CALDESC:Events for Lumen Christi Institute
REFRESH-INTERVAL;VALUE=DURATION:PT1H
X-Robots-Tag:noindex
X-PUBLISHED-TTL:PT1H
BEGIN:VTIMEZONE
TZID:America/New_York
BEGIN:DAYLIGHT
TZOFFSETFROM:-0500
TZOFFSETTO:-0400
TZNAME:EDT
DTSTART:20250309T070000
END:DAYLIGHT
BEGIN:STANDARD
TZOFFSETFROM:-0400
TZOFFSETTO:-0500
TZNAME:EST
DTSTART:20251102T060000
END:STANDARD
BEGIN:DAYLIGHT
TZOFFSETFROM:-0500
TZOFFSETTO:-0400
TZNAME:EDT
DTSTART:20260308T070000
END:DAYLIGHT
BEGIN:STANDARD
TZOFFSETFROM:-0400
TZOFFSETTO:-0500
TZNAME:EST
DTSTART:20261101T060000
END:STANDARD
BEGIN:DAYLIGHT
TZOFFSETFROM:-0500
TZOFFSETTO:-0400
TZNAME:EDT
DTSTART:20270314T070000
END:DAYLIGHT
BEGIN:STANDARD
TZOFFSETFROM:-0400
TZOFFSETTO:-0500
TZNAME:EST
DTSTART:20271107T060000
END:STANDARD
END:VTIMEZONE
BEGIN:VEVENT
DTSTART;VALUE=DATE:20260616
DTEND;VALUE=DATE:20260620
DTSTAMP:20260421T041448
CREATED:20251120T160059Z
LAST-MODIFIED:20260204T203457Z
UID:20046-1781568000-1781913599@lumenchristi.org
SUMMARY:Catholic Social Thought in Business Education
DESCRIPTION:Apply here\nWe are pleased to announce the sixth annual seminar on “Business and Catholic Social Thought: A Primer.” During the seminar\, graduate students and faculty members in business schools will cover foundational principles in Catholic social thought and apply them to their own field of research and teaching. This seminar aims at widening epistemological preconceptions and showing practical implications of Catholic social thought for business in a way that affirms the goodness of business directed toward the common good. Participants will delve into social encyclicals\, secondary sources\, and relevant business texts that show the path for principled entrepreneurship in order to gain knowledge\, exchange experiences\, receive help with their syllabi and consider how best to integrate Catholic social thought into business education.\nThe seminar is co-sponsored by the Terrence J. Murphy Institute for Catholic Thought\, Law\, and Business\, the Mendoza College of Business at the University of Notre Dame; the Ciocca Center for Principled Entrepreneurship at the Catholic University of America; the Lumen Christi Institute; and the Markets\, Culture and Ethics Research Centre at the Pontifical University of the Holy Cross\, Rome.\n\nLocation:\nThe seminar will take place at the Catholic University of America in Washington D.C. between Tuesday June 16 (day of Arrival) and Friday June 19 (Departure after lunch).\n\n\n\n\n\nA limited number of travel grants are available to all admitted applicants. \n\nTo apply for financial assistance\, please complete and submit the attached request for funds to murphyinstit@stthomas.edu by April 27\, 2026 – Click for the Attachment\n\n\n\nThere are no tuition/registration costs to attend the seminar. All participants will be provided with accommodations and meals.\n\n\n\nApplication Information\n\nThis seminar will be open to graduate students and faculty of any specialization in business schools.\n\nApplicants will be required to submit a completed online application\, including:\n\nAn updated CV/resume.\nA brief statement of research interest related to Catholic social thought no longer than 750 words.\nAll application materials can be submitted via the online application interface. Fifteen participants will be admitted to this seminar. \n\n\n\n\n\n\nApplication materials are due March 2\, 2026.\n\n\n\n\nThis seminar will be led by:\n\n\nDavid Cloutier\, University of Notre Dame\n\n\nMsgr. Martin Schlag\, University of St. Thomas\nNicholas Schmitz\, The Catholic University of America\n\n\nAndreas Widmer\, The Catholic University of America
URL:https://lumenchristi.org/event/catholic-social-thought-in-business-education-2/
LOCATION:Catholic University of America\, 620 Michigan Ave NE\, Washington\, DC 20064\, Washington\, DC
CATEGORIES:Summer Seminars
ATTACH;FMTTYPE=image/webp:https://lumenchristi.org/wp-content/uploads/2025/10/Catholic-University-of-America.webp
END:VEVENT
END:VCALENDAR