BEGIN:VCALENDAR
VERSION:2.0
PRODID:-//Lumen Christi Institute - ECPv6.15.9//NONSGML v1.0//EN
CALSCALE:GREGORIAN
METHOD:PUBLISH
X-WR-CALNAME:Lumen Christi Institute
X-ORIGINAL-URL:https://lumenchristi.org
X-WR-CALDESC:Events for Lumen Christi Institute
REFRESH-INTERVAL;VALUE=DURATION:PT1H
X-Robots-Tag:noindex
X-PUBLISHED-TTL:PT1H
BEGIN:VTIMEZONE
TZID:America/Chicago
BEGIN:DAYLIGHT
TZOFFSETFROM:-0600
TZOFFSETTO:-0500
TZNAME:CDT
DTSTART:20230312T080000
END:DAYLIGHT
BEGIN:STANDARD
TZOFFSETFROM:-0500
TZOFFSETTO:-0600
TZNAME:CST
DTSTART:20231105T070000
END:STANDARD
BEGIN:DAYLIGHT
TZOFFSETFROM:-0600
TZOFFSETTO:-0500
TZNAME:CDT
DTSTART:20240310T080000
END:DAYLIGHT
BEGIN:STANDARD
TZOFFSETFROM:-0500
TZOFFSETTO:-0600
TZNAME:CST
DTSTART:20241103T070000
END:STANDARD
BEGIN:DAYLIGHT
TZOFFSETFROM:-0600
TZOFFSETTO:-0500
TZNAME:CDT
DTSTART:20250309T080000
END:DAYLIGHT
BEGIN:STANDARD
TZOFFSETFROM:-0500
TZOFFSETTO:-0600
TZNAME:CST
DTSTART:20251102T070000
END:STANDARD
END:VTIMEZONE
BEGIN:VEVENT
DTSTART;TZID=America/Chicago:20240602T000000
DTEND;TZID=America/Chicago:20240608T000000
DTSTAMP:20260423T183346
CREATED:20241006T235453Z
LAST-MODIFIED:20260115T191919Z
UID:15205-1717286400-1717804800@lumenchristi.org
SUMMARY:What is Social Science? Charles Taylor’s Catholic Vision of Human Behavior
DESCRIPTION:Are the social sciences properly scientific? Will we one day discover a social physics—perhaps a blend of psychology\, economics\, and algorithms—that allows us to predict and engineer our common life? No one has done more intellectual work to cast doubt on these techno-utopian claims than Catholic philosopher Charles Taylor. In this seminar we will explore Taylor’s argument that the study of human behavior should be closer to history and literature than biology and statistics. Is the human mind no more than a wet computer\, or does selfhood possess moral and artistic dimensions? Can we understand politics by calculating large-scale voter behavior\, or must we study cultural traditions like the “ethic of authenticity”? Taylor’s paradigm shift promises to transform 21st century social theory much as Max Weber or Emile Durkheim shaped theirs. For Taylor\, secular modernity is not only a story of disenchantment and fading values\, but an opportunity for increased spiritual intensity—what he calls a “Catholic modernity.”s \nThis seminar is organized by the Nova Forum for Catholic Thought and will be held at the University of Southern California in Los Angeles. There will be two 2.5-hour sessions on Monday\, Tuesday\, and Thursday. On Wednesday and Friday\, the morning session will be followed by a post-lunch excursion. Each session will be a seminar-style discussion of the text and the issues at hand. Students will be expected to carefully prepare the readings\, submit study questions in advance\, and participate actively in each session. \nApplication Information \nThis seminar is open to all undergraduate students (including 2024 graduates) interested in understanding the thought of one of the greatest Catholic thinkers of our century. The seminar will be of interest to a wide variety of students regardless of major. \nApplicants will be required to submit an online application form including: \n\nA list of completed coursework.\nAt least one and as many as two letter(s) of recommendation from a professor at the school in which the student is currently enrolled.\nA statement of interest no longer than 750 words\, which includes an explanation of how this seminar might bear on the student’s current intellectual interests.\nAll application materials can be submitted via the online application. Incomplete applications will not be considered. Fifteen applicants will be admitted to this seminar.\n\nAdmitted students will receive lodging and meals for the duration of the seminar and a $350 travel stipend. \nApplication materials are due February 25. \nContact us with any questions at seminars@lumenchristi.org.
URL:https://lumenchristi.org/event/2024-what-is-social-science-charles-taylors-catholic-vision-of-human-behavior/
LOCATION:University of Southern California\, University Park Campus 3551 Trousdale Pkwy\, Los Angeles\, CA\, 90007
CATEGORIES:Summer Seminars
ATTACH;FMTTYPE=image/jpeg:https://lumenchristi.org/wp-content/uploads/2024/10/UoSC.jpeg
END:VEVENT
END:VCALENDAR