BEGIN:VCALENDAR
VERSION:2.0
PRODID:-//Lumen Christi Institute - ECPv6.15.9//NONSGML v1.0//EN
CALSCALE:GREGORIAN
METHOD:PUBLISH
X-WR-CALNAME:Lumen Christi Institute
X-ORIGINAL-URL:https://lumenchristi.org
X-WR-CALDESC:Events for Lumen Christi Institute
REFRESH-INTERVAL;VALUE=DURATION:PT1H
X-Robots-Tag:noindex
X-PUBLISHED-TTL:PT1H
BEGIN:VTIMEZONE
TZID:America/Chicago
BEGIN:DAYLIGHT
TZOFFSETFROM:-0600
TZOFFSETTO:-0500
TZNAME:CDT
DTSTART:20230312T080000
END:DAYLIGHT
BEGIN:STANDARD
TZOFFSETFROM:-0500
TZOFFSETTO:-0600
TZNAME:CST
DTSTART:20231105T070000
END:STANDARD
BEGIN:DAYLIGHT
TZOFFSETFROM:-0600
TZOFFSETTO:-0500
TZNAME:CDT
DTSTART:20240310T080000
END:DAYLIGHT
BEGIN:STANDARD
TZOFFSETFROM:-0500
TZOFFSETTO:-0600
TZNAME:CST
DTSTART:20241103T070000
END:STANDARD
BEGIN:DAYLIGHT
TZOFFSETFROM:-0600
TZOFFSETTO:-0500
TZNAME:CDT
DTSTART:20250309T080000
END:DAYLIGHT
BEGIN:STANDARD
TZOFFSETFROM:-0500
TZOFFSETTO:-0600
TZNAME:CST
DTSTART:20251102T070000
END:STANDARD
END:VTIMEZONE
BEGIN:VEVENT
DTSTART;TZID=America/Chicago:20240616T000000
DTEND;TZID=America/Chicago:20240623T000000
DTSTAMP:20260424T082051
CREATED:20241006T235450Z
LAST-MODIFIED:20251215T213927Z
UID:15200-1718496000-1719100800@lumenchristi.org
SUMMARY:St. Thomas Aquinas on Free Choice
DESCRIPTION:This seminar will be a five-day\, intensive discussion aimed at understanding and evaluating St. Thomas Aquinas’ account of liberum arbitrium and of the psychological and metaphysical principles that underlie it. The sessions will center on passages from the Summa Theologiae\, but we will also refer to other works of Aquinas\, such as the De Malo and the Commentary on Aristotle’s Metaphysics\, and to pertinent texts from other philosophers such as Plato\, Aristotle\, Kant\, and Anscombe. We will want to address some of the more controversial questions about Thomas’ views\, such as the following: Does he differ from Aristotle on the will\, and if so\, how? Did he change his own mind about the will? To what extent\, in Aquinas’ account\, does the freedom of the will depend upon the distinction between the will and the intellect? Does St. Thomas’ apparent intellectualism commit him to some kind of determinism with regard to choice?  Does he offer an adequate account of the choice of evil? In comparison with modern thinkers\, does he sufficiently appreciate the value of freedom? \nLOCATION AND FORMAT\nFormat: There will be two 2 ½ hour sessions each day. Each session will include an opening lecture and seminar-style discussion of the text and the issues at hand. Students will be expected to prepare the readings carefully and participate in the discussions of the material. \nLocation: The seminar will take place at the Gavin House. Students will be provided with lodging\, most meals (some on their own)\, and a travel stipend of up to $350. \nApplication Information: This seminar will be open to PhD students in the humanities and relevant fields (such as philosophy\, theology\, english\, classics\, & history). \nApplicants will be required to submit: \n\nA completed online application form.\nAn updated CV.\nAt least one and as many as two letter(s) of recommendation from a member of the program in which the student is currently enrolled.\nA statement of research interest no longer than 750 words\, which includes an explanation of how this seminar might bear on the student’s current or future research plans.\nOne academic writing sample (30 pages maximum).\n\nAll application materials can be submitted via the online application. Incomplete applications will not be considered. Fiften students will be admitted to this seminar. \nTHE APPLICATION DEADLINE IS FEBRUARY 25\, 2024. \nContact us with any questions at seminars@lumenchristi.org.
URL:https://lumenchristi.org/event/2024-thomas-aquinas-on-free-choice/
LOCATION:Gavin House\, 1220 E 58th St.\, Chicago\, IL\, 60637
CATEGORIES:Summer Seminars
ATTACH;FMTTYPE=image/jpeg:https://lumenchristi.org/wp-content/uploads/2024/09/about-gavin-house.jpg
END:VEVENT
END:VCALENDAR