BEGIN:VCALENDAR
VERSION:2.0
PRODID:-//Lumen Christi Institute - ECPv6.15.9//NONSGML v1.0//EN
CALSCALE:GREGORIAN
METHOD:PUBLISH
X-WR-CALNAME:Lumen Christi Institute
X-ORIGINAL-URL:https://lumenchristi.org
X-WR-CALDESC:Events for Lumen Christi Institute
REFRESH-INTERVAL;VALUE=DURATION:PT1H
X-Robots-Tag:noindex
X-PUBLISHED-TTL:PT1H
BEGIN:VTIMEZONE
TZID:America/Chicago
BEGIN:DAYLIGHT
TZOFFSETFROM:-0600
TZOFFSETTO:-0500
TZNAME:CDT
DTSTART:20230312T080000
END:DAYLIGHT
BEGIN:STANDARD
TZOFFSETFROM:-0500
TZOFFSETTO:-0600
TZNAME:CST
DTSTART:20231105T070000
END:STANDARD
BEGIN:DAYLIGHT
TZOFFSETFROM:-0600
TZOFFSETTO:-0500
TZNAME:CDT
DTSTART:20240310T080000
END:DAYLIGHT
BEGIN:STANDARD
TZOFFSETFROM:-0500
TZOFFSETTO:-0600
TZNAME:CST
DTSTART:20241103T070000
END:STANDARD
BEGIN:DAYLIGHT
TZOFFSETFROM:-0600
TZOFFSETTO:-0500
TZNAME:CDT
DTSTART:20250309T080000
END:DAYLIGHT
BEGIN:STANDARD
TZOFFSETFROM:-0500
TZOFFSETTO:-0600
TZNAME:CST
DTSTART:20251102T070000
END:STANDARD
END:VTIMEZONE
BEGIN:VEVENT
DTSTART;TZID=America/Chicago:20240721T000000
DTEND;TZID=America/Chicago:20240727T000000
DTSTAMP:20260424T071000
CREATED:20241006T235452Z
LAST-MODIFIED:20251215T213454Z
UID:15203-1721520000-1722038400@lumenchristi.org
SUMMARY:Eudaimonia: Philosophical\, Theological\, and Psychological Perspectives
DESCRIPTION:What is a good human life? What are the virtues and community types that enable us to live well?  This seminar will explore the nature of virtue and happiness by putting philosophical and theological perspectives on eudaimonia in dialogue with the empirical findings and theoretical frameworks of contemporary psychology\, especially the field of positive psychology situated at Penn. Possible topics to be explored include: (1) eudaimonia and its relation to subjective well-being\, (2) virtue in the context of community and social institutions\, (3) the significance of religion and transcendence for human flourishing\, (4) interdisciplinary perspectives on concepts like (a) freedom and grace\, conditioning and constraint; (b) acquired virtue and infused virtues\, or (c) sin / failure and forgiveness / resilience. \nThis Magi Summer Seminar is presented by the Collegium Institute and the Lumen Christi Institute\, and will feature lectures by Martin E.P. Seligman (University of Pennsylvania)\, Candace Vogler (University of Chicago)\, Kristján Kristjánsson (University of Birmingham)\, Darcia Narvaez (University of Notre Dame)\, David Cloutier (Catholic University of America)\, and Sarah Schnitker (Baylor University). \nLOCATION AND FORMAT \n\nThe seminar will take place at University of Pennsylvania. Admitted students will be required to arrange their own travel to and from the seminar.\nAdmitted students will be granted a stipend of $350 to offset travel costs in addition to having their lodging and most meals covered for the duration of the seminar.\nParticipants will arrive in Pennsylvania on Sunday\, July 21 and depart on Saturday\, July 27. The seminar will take place from Monday to Friday\, with a lecture and discussion session each morning and afternoon.\nParticipants will be required to read the assigned materials in preparation for the seminar.\nIn order to receive the $350 stipend\, students must participate fully in all seminar activities and complete a survey at the end of the seminar.\n\nAPPLICATION INFORMATION \n\nOpen to graduate students and postdoctoral fellows in STEM fields\, medicine\, the history of science\, philosophy\, theology\, and relevant fields.\nApplicants must submit an online application\, including details on their course of study\, a statement of interest\, and a letter of recommendation (optional).\nApplication Deadline is February 2.\n15 applicants will be admitted to the seminar.\n\nContact us with any questions at seminars@lumenchristi.org. \nThe Application Deadline is Friday February 2. \nThis seminar is made possible through the support of grant #62372 from the John Templeton Foundation\, “In Lumine: Promoting the Catholic Intellectual Tradition on Campuses Nationwide.”
URL:https://lumenchristi.org/event/2024-eudaimonia-philosophical-theological-and-psychological-perspectives/
LOCATION:University of Pennsylvania\, 34th & Spruce Street\, Philadelphia\, PA\, 19104
CATEGORIES:Summer Seminars
ATTACH;FMTTYPE=image/jpeg:https://lumenchristi.org/wp-content/uploads/2024/10/Collegium.jpeg
END:VEVENT
END:VCALENDAR