BEGIN:VCALENDAR
VERSION:2.0
PRODID:-//Lumen Christi Institute - ECPv6.15.9//NONSGML v1.0//EN
CALSCALE:GREGORIAN
METHOD:PUBLISH
X-WR-CALNAME:Lumen Christi Institute
X-ORIGINAL-URL:https://lumenchristi.org
X-WR-CALDESC:Events for Lumen Christi Institute
REFRESH-INTERVAL;VALUE=DURATION:PT1H
X-Robots-Tag:noindex
X-PUBLISHED-TTL:PT1H
BEGIN:VTIMEZONE
TZID:America/Chicago
BEGIN:DAYLIGHT
TZOFFSETFROM:-0600
TZOFFSETTO:-0500
TZNAME:CDT
DTSTART:20230312T080000
END:DAYLIGHT
BEGIN:STANDARD
TZOFFSETFROM:-0500
TZOFFSETTO:-0600
TZNAME:CST
DTSTART:20231105T070000
END:STANDARD
BEGIN:DAYLIGHT
TZOFFSETFROM:-0600
TZOFFSETTO:-0500
TZNAME:CDT
DTSTART:20240310T080000
END:DAYLIGHT
BEGIN:STANDARD
TZOFFSETFROM:-0500
TZOFFSETTO:-0600
TZNAME:CST
DTSTART:20241103T070000
END:STANDARD
BEGIN:DAYLIGHT
TZOFFSETFROM:-0600
TZOFFSETTO:-0500
TZNAME:CDT
DTSTART:20250309T080000
END:DAYLIGHT
BEGIN:STANDARD
TZOFFSETFROM:-0500
TZOFFSETTO:-0600
TZNAME:CST
DTSTART:20251102T070000
END:STANDARD
END:VTIMEZONE
BEGIN:VEVENT
DTSTART;TZID=America/Chicago:20240623T000000
DTEND;TZID=America/Chicago:20240629T000000
DTSTAMP:20260424T123554
CREATED:20241006T235453Z
LAST-MODIFIED:20251215T213405Z
UID:15206-1719100800-1719619200@lumenchristi.org
SUMMARY:Artificial Intelligence\, Ethics and Catholic Thought
DESCRIPTION:The last few years have seen the rapid advance of artificial intelligence (AI)\, bearing potentially great benefits for the common good but also many dangers. AI applications are shaping society and individual life\, leaving governments\, businesses\, and individuals struggling to address the effects of this powerful technology. This five-day seminar will explore how the Catholic intellectual tradition can help contemporary society develop an ethics for AI. Possible topics that will be addressed include: virtue ethics and AI-driven applications’ effects on character; arguments over the personhood of AI; the resources of Catholic Social Thought for confronting dangerous social effects of AI on society\, such as those emanating from algorithmic bias; AI’s influence on work\, especially in the caring professions; potential tools for AI governance. Participants will engage a range of theological and secular sources on the questions of AI. \nLOCATION AND FORMAT \n\n\nThe seminar will take place at Duke University in Durham\, NC. Admitted students will be required to arrange their own travel to and from the seminar. \n\n\nAdmitted students will be granted a stipend of $350 to offset travel costs \n\n\nLodging and most meals (some on their own) will be provided for the students for the duration of the seminar. \n\n\nParticipants will arrive in Durham\, NC on Sunday\, June 23 and depart on Saturday\, June 29. The seminar will take place from Monday to Friday\, with a lecture and discussion session each morning and afternoon. \n\n\nParticipants will be required to read the assigned materials in preparation for the seminar. \n\n\nIn order to receive the $350 stipend\, students must participate fully in all seminar activities and complete a survey at the end of the seminar. \n\n\nAPPLICATION INFORMATION \n\n\nOpen to Ph.D. students in theology\, philosophy\, computer science\, and other relevant fields of study. Limited spots open to professionals within the field. \n\n\nApplicants must submit an online application\, including details on their course of study\, a statement of interest\, and a letter of recommendation (strongly encouraged). \n\n\nApplications Deadline is February 2. \n\n\n15 applicants will be admitted to the seminar. \n\n\nContact us with any questions at seminars@lumenchristi.org. \nThis seminar is made possible through the support of grant #62372 from the John Templeton Foundation\, “In Lumine: Promoting the Catholic Intellectual Tradition on Campuses Nationwide.” This program is copresented by the Lumen Christi Institute at University of Chicago and Fons Vitae at Duke Divinity School. This program is cosponsored by institutes of the In Lumine Network: the Collegium Institute\, the Harvard Catholic Forum\, COLLIS\, and the Saint Anselm Institute.
URL:https://lumenchristi.org/event/2024-artificial-intelligence-ethics-and-catholic-thought/
LOCATION:Duke University\, Chapel Drive\nDurham \, NC 27708\, Durham\, NC
CATEGORIES:Summer Seminars
ATTACH;FMTTYPE=image/jpeg:https://lumenchristi.org/wp-content/uploads/2024/10/Duke-University-Duke-Chapel-1-1.jpeg
END:VEVENT
END:VCALENDAR