BEGIN:VCALENDAR
VERSION:2.0
PRODID:-//Lumen Christi Institute - ECPv6.15.9//NONSGML v1.0//EN
CALSCALE:GREGORIAN
METHOD:PUBLISH
X-WR-CALNAME:Lumen Christi Institute
X-ORIGINAL-URL:https://lumenchristi.org
X-WR-CALDESC:Events for Lumen Christi Institute
REFRESH-INTERVAL;VALUE=DURATION:PT1H
X-Robots-Tag:noindex
X-PUBLISHED-TTL:PT1H
BEGIN:VTIMEZONE
TZID:America/Chicago
BEGIN:DAYLIGHT
TZOFFSETFROM:-0600
TZOFFSETTO:-0500
TZNAME:CDT
DTSTART:20220313T080000
END:DAYLIGHT
BEGIN:STANDARD
TZOFFSETFROM:-0500
TZOFFSETTO:-0600
TZNAME:CST
DTSTART:20221106T070000
END:STANDARD
BEGIN:DAYLIGHT
TZOFFSETFROM:-0600
TZOFFSETTO:-0500
TZNAME:CDT
DTSTART:20230312T080000
END:DAYLIGHT
BEGIN:STANDARD
TZOFFSETFROM:-0500
TZOFFSETTO:-0600
TZNAME:CST
DTSTART:20231105T070000
END:STANDARD
BEGIN:DAYLIGHT
TZOFFSETFROM:-0600
TZOFFSETTO:-0500
TZNAME:CDT
DTSTART:20240310T080000
END:DAYLIGHT
BEGIN:STANDARD
TZOFFSETFROM:-0500
TZOFFSETTO:-0600
TZNAME:CST
DTSTART:20241103T070000
END:STANDARD
END:VTIMEZONE
BEGIN:VEVENT
DTSTART;TZID=America/Chicago:20230625T000000
DTEND;TZID=America/Chicago:20230701T000000
DTSTAMP:20260423T003556
CREATED:20241006T235447Z
LAST-MODIFIED:20251217T185146Z
UID:15188-1687651200-1688169600@lumenchristi.org
SUMMARY:Gregory Nazianzen’s Five Theological Orations
DESCRIPTION:APPLY HERE\nProfessor Lewis Ayres and Fr. Andrew Summerson will lead a summer seminar of graduate students in a close reading of Gregory Nazianzen’s Theological Orations. A difficult character who for a time presided over the Council of Constantinople in 381\, Gregory (c.330 – 390) was one of the most well-educated among fourth-century Christian thinkers. His five Theological Orations\, delivered during his tenure in Constantinople between 379 and 381\, are works of high art\, as well as complex theology\, and generated extensive commentary throughout later Byzantine history. The Orations are sometimes enigmatic\, lacking the prolixity of Basil of Caesarea and Gregory of Nyssa’s works\, but the attack on Eunomius (and others) to defend the Nicene faith found in the Orations is no less fascinating or profound. Gregory’s Orations constitute one of the key works that define pro-Nicene theology and shape the orthodox Trinitarian faith. \nLOCATION AND FORMAT\n· The seminar will be held at Windle House\, hosted by the Sheptytsky Institute of Eastern Christian Studies at the University of St. Michael’s College in the University of Toronto. \n· Meals and lodging will be provided. \n· Participants will receive a stipend of up to $350 to offset travel expenses. \n· Participants will arrive on Sunday\, June 25 and depart on Friday\, July 1. \n· Participants will be provided with a copy of On God and Christ: The Five Theological Orations and two Letters to Cledonius\, trans. L. Wickham and R. Norris (Crestwood: SVS Press\, 2002). \n· Fifteen applicants will be admitted to the seminar. \nWorking knowledge of relevant ancient languages will be helpful\, but not essential. Preference will be given to Ph.D. students in theology\, philosophy\, classics\, and other relevant fields of study\, though advanced M.A. students will be considered. \nThere will be two sessions each day in the morning and in the afternoon. Each session will include lectures and seminar-style discussions working through all five orations\, and parallel texts from Gregory\, other Cappadocian theologians\, and select passages from Maximus the Confessor’s principal commentary on Gregory\, the Ambigua. Students will be expected to prepare the readings carefully and participate in the discussions of the material. \nThe application deadline is March 13\, 2023. Contact us with any questions at seminars@lumenchristi.org.
URL:https://lumenchristi.org/event/2023-toronto-gregory-seminar/
LOCATION:University of St. Michael’s College\, 81 St. Mary's Street\nToronto\, ON M5S 1J4\, Toronto\, ON
CATEGORIES:Summer Seminars
ATTACH;FMTTYPE=image/jpeg:https://lumenchristi.org/wp-content/uploads/2024/10/get-image-thumbnail.jpg
END:VEVENT
END:VCALENDAR