BEGIN:VCALENDAR
VERSION:2.0
PRODID:-//Lumen Christi Institute - ECPv6.15.9//NONSGML v1.0//EN
CALSCALE:GREGORIAN
METHOD:PUBLISH
X-WR-CALNAME:Lumen Christi Institute
X-ORIGINAL-URL:https://lumenchristi.org
X-WR-CALDESC:Events for Lumen Christi Institute
REFRESH-INTERVAL;VALUE=DURATION:PT1H
X-Robots-Tag:noindex
X-PUBLISHED-TTL:PT1H
BEGIN:VTIMEZONE
TZID:America/Chicago
BEGIN:DAYLIGHT
TZOFFSETFROM:-0600
TZOFFSETTO:-0500
TZNAME:CDT
DTSTART:20220313T080000
END:DAYLIGHT
BEGIN:STANDARD
TZOFFSETFROM:-0500
TZOFFSETTO:-0600
TZNAME:CST
DTSTART:20221106T070000
END:STANDARD
BEGIN:DAYLIGHT
TZOFFSETFROM:-0600
TZOFFSETTO:-0500
TZNAME:CDT
DTSTART:20230312T080000
END:DAYLIGHT
BEGIN:STANDARD
TZOFFSETFROM:-0500
TZOFFSETTO:-0600
TZNAME:CST
DTSTART:20231105T070000
END:STANDARD
BEGIN:DAYLIGHT
TZOFFSETFROM:-0600
TZOFFSETTO:-0500
TZNAME:CDT
DTSTART:20240310T080000
END:DAYLIGHT
BEGIN:STANDARD
TZOFFSETFROM:-0500
TZOFFSETTO:-0600
TZNAME:CST
DTSTART:20241103T070000
END:STANDARD
END:VTIMEZONE
BEGIN:VEVENT
DTSTART;TZID=America/Chicago:20230605T000000
DTEND;TZID=America/Chicago:20230611T000000
DTSTAMP:20260423T003555
CREATED:20241006T235446Z
LAST-MODIFIED:20251217T185207Z
UID:15187-1685923200-1686441600@lumenchristi.org
SUMMARY:Monastic Wisdom Seminar: "The Schola Caritatis"
DESCRIPTION:APPLY HERE\nThe Lumen Christi Institute\, the St. Anselm Institute and Our Lady of the Angels Monastery\, a Trappistine monastery located near Crozet\, Virginia are partnering for the first time to organize a retreat that explores the monastic wisdom tradition. The Trappistine Community at Crozet\, Virginia lives according to a continual tradition of Christian monasticism with its roots in the Cistercian Tradition. This seminar will offer the possibility of not only learning the guiding principles that foster a good and balanced life according to the monastic tradition\, but of putting them into practice\, since it is experience alone that leads not only to correct understanding but to real wisdom. \nAfter reading some core texts in the monastic tradition in advance\, participants will then spend a week praying\, working\, reading\, and learning from the Sisters during two daily conferences and other times of sharing and mutual exchange. \nThe goals of the seminar are fourfold: \n1. Introduce participants to monastic life and the history and theology of monasticism. \n2. Introduce participants to monastic practices\, including community life\, lectio divina\, the Divine Office\, the discipline of silence\, and manual labor\, and see how these practices form a balanced whole that fosters human and spiritual growth. \n3. Provide an opportunity for participants to learn more about the longstanding ascetical and mystical guidelines that support prayer in the Catholic monastic tradition. \n4. Study texts of major figures of the monastic tradition and see how their teaching can illuminate and enrich our human experience. \nPRINCIPAL TEXTS FOR DISCUSSION\n\nEvagrius Ponticus\, Praktikos and Chapters on Prayer\, trans. John Eudes Bamberger\, CS 4 (Cistercian Publications\, 1972).\nBenedict of Nursia\, RB 1980: The Rule of St. Benedict (Liturgical Press\, 1981).\nMichael Casey\, The Road to Eternal Life: Reflections on the Prologue of Benedict’s Rule\, (Liturgical Press\, 2010).\nBernard of Clairvaux\, Sermons on the Song of Songs I\, trans. Kilian Walsh\, CF 4 (Cistercian Publications\, 1971).\nWilliam of St Thierry\, The Mirror of Faith\, trans. Thomas X Davis\, CF 15 (Cistercian Publications\, 1979)\nBeatrice of Nazareth\, The Seven Modes of Love\n\nHow to read the texts: Besides taking advantage of the introductions to be found in these books\, slow reading is the best approach to these texts. It’s also helpful to bear in mind Bernard McGinn’s advice in his introduction to the Sermons of Isaac of Stella (Cistercian Publications\, 1979). Dr. McGinn encourages the reader to be challenged by the texts instead of attempting to fit them into the confines of their own horizons. Doing this implies being prepared to bracket our spontaneous critical reactions\, and renouncing the attitude of picking out what seems useful and rejecting the rest. It’s precisely by the effort to appreciate this “strangeness” in the texts that we will come away from our reading richer than when we began\, our horizons widened\, our world expanded. \nLOCATION AND FORMAT\n\nThe seminar will take place at Our Lady of the Angels Monastery in Crozet\, Virginia.\nThe seminar sessions will be led by the Sisters of the monastery.\nTravel stipends will be available for currently enrolled students.\nLodging\, meals\, and books will be provided.\nParticipants will arrive at Our Lady of the Angels Monastery on Monday\, June 5 (before 5 pm)\, and depart on Sunday\, June 11 (after 9:30 am).\nParticipants will be required to read the assigned materials in preparation for the seminar.\n\nAPPLICATION INFORMATION\n\nOpen to women age 18 through 40. Catholics and non-Catholics are invited to apply.\nApplicants must submit an online application including a statement of interest\, a CV or resume\, and a letter of recommendation from a professor or pastor.\nApplication materials are due February 21\, 2023\nAPPLICATION DEADLINE HAS BEEN EXTENDED TO MARCH 8\, 2023.
URL:https://lumenchristi.org/event/2023-monastic-wisdom-seminar/
LOCATION:Our Lady of the Angels Monastery\, 3365 Monastery Drive\nCrozet\, VA 22932\, Crozet\, VA
CATEGORIES:Summer Seminars
ATTACH;FMTTYPE=image/jpeg:https://lumenchristi.org/wp-content/uploads/2024/10/IMG_6205-scaled.jpg
END:VEVENT
END:VCALENDAR