BEGIN:VCALENDAR
VERSION:2.0
PRODID:-//Lumen Christi Institute - ECPv6.15.9//NONSGML v1.0//EN
CALSCALE:GREGORIAN
METHOD:PUBLISH
X-WR-CALNAME:Lumen Christi Institute
X-ORIGINAL-URL:https://lumenchristi.org
X-WR-CALDESC:Events for Lumen Christi Institute
REFRESH-INTERVAL;VALUE=DURATION:PT1H
X-Robots-Tag:noindex
X-PUBLISHED-TTL:PT1H
BEGIN:VTIMEZONE
TZID:America/Chicago
BEGIN:DAYLIGHT
TZOFFSETFROM:-0600
TZOFFSETTO:-0500
TZNAME:CDT
DTSTART:20220313T080000
END:DAYLIGHT
BEGIN:STANDARD
TZOFFSETFROM:-0500
TZOFFSETTO:-0600
TZNAME:CST
DTSTART:20221106T070000
END:STANDARD
BEGIN:DAYLIGHT
TZOFFSETFROM:-0600
TZOFFSETTO:-0500
TZNAME:CDT
DTSTART:20230312T080000
END:DAYLIGHT
BEGIN:STANDARD
TZOFFSETFROM:-0500
TZOFFSETTO:-0600
TZNAME:CST
DTSTART:20231105T070000
END:STANDARD
BEGIN:DAYLIGHT
TZOFFSETFROM:-0600
TZOFFSETTO:-0500
TZNAME:CDT
DTSTART:20240310T080000
END:DAYLIGHT
BEGIN:STANDARD
TZOFFSETFROM:-0500
TZOFFSETTO:-0600
TZNAME:CST
DTSTART:20241103T070000
END:STANDARD
END:VTIMEZONE
BEGIN:VEVENT
DTSTART;TZID=America/Chicago:20230807T000000
DTEND;TZID=America/Chicago:20230811T000000
DTSTAMP:20260423T020126
CREATED:20241006T235448Z
LAST-MODIFIED:20251217T194155Z
UID:15192-1691366400-1691712000@lumenchristi.org
SUMMARY:Religion and Human Flourishing
DESCRIPTION:APPLY HERE\nChristianity\, like other great spiritual traditions\, is centrally concerned with the good life\, with that “perfect peace” promised to those who trust in God (Isa. 26:3)\, or that “life abundant” which Christ came to offer (Jn. 10:10). Christian thinkers in every generation have reflected on the nature of human flourishing\, the evils that threaten it\, and the complex relationships among the temporal and eternal goods that comprise it. \nUntil recently\, by contrast\, the younger social sciences tended to focus myopically on understanding and preventing human illness and suffering\, seeking (in Freud’s words) to “turn hysterical misery into ordinary unhappiness.” That has begun to change\, with the rise of fields such as “positive psychology” and even “positive epidemiology\,” which have sought instead to understand and promote human flourishing. Moreover\, scholars from these fields have increasingly emphasized that religious participation promotes many aspects of well-being. \nCo-sponsored by the Lumen Christi Institute\, the Harvard Catholic Forum\, and the Human Flourishing Program at Harvard University\, and with generous support from the John Templeton Foundation\, this seminar will consider the relationship between religion and human flourishing from the perspective both of the Christian theological tradition and contemporary social science. The seminar will be led by Dr. Brendan Case\, a theologian and Associate Director for Research of the Human Flourishing Program at Harvard University\, and will include instruction by notable social scientists and humanists\, including Dr. Tyler VanderWeele (Harvard University)\, Dr. Jennifer Frey (University of Tulsa)\, and the interdisciplinary research team at the Human Flourishing Program. \nTopics to be considered include 1) the nature and interrelation of theology and the social sciences; 2) the nature of human flourishing\, and especially the relationship of temporal and eternal goods; 3) the nature of “religion” as a sociological category\, and its relationship both to Christianity and to flourishing; 4) the significance of death and suffering for a flourishing life; 5) the nature and distribution of the moral virtues and vices; and 6) the role of interpersonal love in a flourishing life. \nApplication Information\nApplications are welcome from doctoral students in theology\, philosophy\, psychology\, sociology\, anthropology\, public health\, or related fields. Please submit the following: \n\nA completed online application form.\nAn updated CV.\nAt least one and no more than two letter(s) of recommendation.\nA statement of research interest no longer than 750 words\, which includes an explanation of how this seminar might bear on the student’s current or future research plans.\nOne academic writing sample (30 pages maximum).\n\nAll application materials can be submitted via the online application. Incomplete applications will not be considered. Admitted students will receive lodging and meals for the duration of the seminar and a $350 travel stipend. \nFor full consideration\, applications should be submitted by May 14. \nThis seminar is made possible through the support of grant #62372 from the John Templeton Foundation\, “In Lumine: Promoting the Catholic Intellectual Tradition on Campuses Nationwide.” This event is cosponsored by the Human Flourishing Program at Harvard’s Institute for Quantitative Social Science and member institutes of the In Lumine Network\, including the Harvard Catholic Forum\, the Nova Forum\, the Collegium Institute\, COLLIS\, the St. Anselm Institute\, and the Lumen Christi Institute.
URL:https://lumenchristi.org/event/2023-harvard-human-flourishing-seminar/
LOCATION:Harvard University\, Mount Auburn Street\, Cambridge\, MA
CATEGORIES:Summer Seminars
ATTACH;FMTTYPE=image/jpeg:https://lumenchristi.org/wp-content/uploads/2024/10/AdobeStock_357497291_Editorial_Use_Only-scaled.jpeg
END:VEVENT
END:VCALENDAR