BEGIN:VCALENDAR
VERSION:2.0
PRODID:-//Lumen Christi Institute - ECPv6.15.9//NONSGML v1.0//EN
CALSCALE:GREGORIAN
METHOD:PUBLISH
X-WR-CALNAME:Lumen Christi Institute
X-ORIGINAL-URL:https://lumenchristi.org
X-WR-CALDESC:Events for Lumen Christi Institute
REFRESH-INTERVAL;VALUE=DURATION:PT1H
X-Robots-Tag:noindex
X-PUBLISHED-TTL:PT1H
BEGIN:VTIMEZONE
TZID:America/Chicago
BEGIN:DAYLIGHT
TZOFFSETFROM:-0600
TZOFFSETTO:-0500
TZNAME:CDT
DTSTART:20220313T080000
END:DAYLIGHT
BEGIN:STANDARD
TZOFFSETFROM:-0500
TZOFFSETTO:-0600
TZNAME:CST
DTSTART:20221106T070000
END:STANDARD
BEGIN:DAYLIGHT
TZOFFSETFROM:-0600
TZOFFSETTO:-0500
TZNAME:CDT
DTSTART:20230312T080000
END:DAYLIGHT
BEGIN:STANDARD
TZOFFSETFROM:-0500
TZOFFSETTO:-0600
TZNAME:CST
DTSTART:20231105T070000
END:STANDARD
BEGIN:DAYLIGHT
TZOFFSETFROM:-0600
TZOFFSETTO:-0500
TZNAME:CDT
DTSTART:20240310T080000
END:DAYLIGHT
BEGIN:STANDARD
TZOFFSETFROM:-0500
TZOFFSETTO:-0600
TZNAME:CST
DTSTART:20241103T070000
END:STANDARD
END:VTIMEZONE
BEGIN:VEVENT
DTSTART;TZID=America/Chicago:20230503T180000
DTEND;TZID=America/Chicago:20230503T193000
DTSTAMP:20260422T031030
CREATED:20241003T162637Z
LAST-MODIFIED:20241023T194501Z
UID:11648-1683136800-1683142200@lumenchristi.org
SUMMARY:Lust\, Friendship\, and Eternity in the Epic of Gilgamesh
DESCRIPTION:Open to current undergraduate students at the University of Chicago. Registration is capped at 20. Students who register after capacity has been reached will be put on a waitlist. All registrants will be provided with a free copy of the text. \nThe Epic of Gilgamesh has been called the oldest surviving book in the history of Earth. Originating thousands of years ago\, the story continues to offer profound insights for modern readers about essential human desires for love\, power\, and everlasting life. Whether you are encountering the book for the first time or re-visiting it\, the tale of Gilgamesh promises to teach you something new about your life. \n\nThis event is part of Lumen Christi’s Fundamental Questions seminar\, a quarterly reading group designed for undergraduate students at the University of Chicago. By fostering intellectually rigorous conversation around culturally resonant texts\, we aim to allow students to experience the force of the deep existential concerns which animate our lives: “Where do my values come from? What is the good life? How can I become happy?” Our aim is not to answer such fundamental questions\, but rather to equip students with the intellectual skills needed to recognize and articulate them for themselves. \nThis fundamental questions seminar meets three times during the quarter. For each session\, we will meet and discuss over dinner.  Dinner is served at 6:00pm. Discussion begins at 6:15. \nSCHEDULE \n6:00 PM Dinner | 6:15 PM Discussion \nWeek 3 : Wednesday\, April 5: Is power the most fundamental human desire? (Prologue-Book II) \nWeek 5 : Wednesday\, April 19: What qualities make a true friend? (Books III-IV) \nWeek 7 : Wednesday\, May 3: What can humans hope for after death? (Books V-VII) \nImage: “Alte Flagge Aramäer” by TruthWin47 via Wikimedia Commons is licensed under Creative Commons Attribution-Share Alike 4.0 International
URL:https://lumenchristi.org/event/2023-04-spring-2023-fundamental-questions-seminar-epic-of-gilgamesh-daniel-wasserman-soler/
LOCATION:Gavin House\, 1220 E 58th St.\, Chicago\, IL\, 60637
ATTACH;FMTTYPE=image/jpeg:https://lumenchristi.org/wp-content/uploads/2024/10/Alte_Flagge_Aramäer.jpeg
END:VEVENT
END:VCALENDAR