BEGIN:VCALENDAR
VERSION:2.0
PRODID:-//Lumen Christi Institute - ECPv6.15.9//NONSGML v1.0//EN
CALSCALE:GREGORIAN
METHOD:PUBLISH
X-WR-CALNAME:Lumen Christi Institute
X-ORIGINAL-URL:https://lumenchristi.org
X-WR-CALDESC:Events for Lumen Christi Institute
REFRESH-INTERVAL;VALUE=DURATION:PT1H
X-Robots-Tag:noindex
X-PUBLISHED-TTL:PT1H
BEGIN:VTIMEZONE
TZID:America/Chicago
BEGIN:DAYLIGHT
TZOFFSETFROM:-0600
TZOFFSETTO:-0500
TZNAME:CDT
DTSTART:20210314T080000
END:DAYLIGHT
BEGIN:STANDARD
TZOFFSETFROM:-0500
TZOFFSETTO:-0600
TZNAME:CST
DTSTART:20211107T070000
END:STANDARD
BEGIN:DAYLIGHT
TZOFFSETFROM:-0600
TZOFFSETTO:-0500
TZNAME:CDT
DTSTART:20220313T080000
END:DAYLIGHT
BEGIN:STANDARD
TZOFFSETFROM:-0500
TZOFFSETTO:-0600
TZNAME:CST
DTSTART:20221106T070000
END:STANDARD
BEGIN:DAYLIGHT
TZOFFSETFROM:-0600
TZOFFSETTO:-0500
TZNAME:CDT
DTSTART:20230312T080000
END:DAYLIGHT
BEGIN:STANDARD
TZOFFSETFROM:-0500
TZOFFSETTO:-0600
TZNAME:CST
DTSTART:20231105T070000
END:STANDARD
END:VTIMEZONE
BEGIN:VEVENT
DTSTART;TZID=America/Chicago:20220620T000000
DTEND;TZID=America/Chicago:20220626T000000
DTSTAMP:20260424T010448
CREATED:20241006T235439Z
LAST-MODIFIED:20251217T185231Z
UID:15174-1655683200-1656201600@lumenchristi.org
SUMMARY:Monastic Wisdom Seminar
DESCRIPTION:APPLY HERE\nDo not be daunted immediately by fear and run away from the road that leads to salvation. It is bound to be narrow at the outset. But as we progress in this way of life and faith\, we shall run on the path of God’s commandments\, our hearts overflowing with the inexpressible delight of love.” \n“My words are meant for you\, whoever you are\, who laying aside your own will\, take up the all-powerful and righteous arms of obedience to fight under the true King\, the Lord Jesus Christ.” \n– St. Benedict of Nursia\, Rule\, Prologue \nThe Lumen Christi Institute and Our Lady of Dallas Cistercian Abbey are partnering to organize a retreat that explores the monastic wisdom tradition. The Cistercian community at Irving\, Texas lives according to a continual tradition of Christian monasticism with roots in the early Church. \nStudents with an interest in theology or spirituality may be familiar with some of the tradition’s major figures—St. Anthony of Egypt\, St. John Cassian\, St. Benedict of Nursia\, St. Bernard of Clairvaux. It is less likely they have spent time putting into practice the lessons of prayer\, spiritual reading\, and silence in an organized manner. \nMonastic disciplines must be practiced to be understood. The seminar proposes such an experience. After reading some core texts in the monastic tradition in advance\, participants will then spend a week praying\, conferencing\, reading and recreating with the monks of Our Lady of Dallas. \nThe goals of the retreat are fourfold: \n\nIntroduce participants to monastic life\, the Divine Office\, and the history and theology of monasticism.\nIntroduce participants to monastic practices\, including the discipline of silence\, community life and lectio divina.\nProvide an opportunity for participants to reflect on Catholic practices of daily prayer and their relation to monastic life.\nStudy of texts of major figures of the monastic tradition.\n\n  \nPRINCIPAL TEXTS FOR DISCUSSION \n\nSt. Athanasius\, “Life of Antony\,” in Early Christian Lives\, trans. Carolinne White (Penguin Classics\, 1998).\nThe Desert Fathers: Sayings of the Early Christian Monks\, trans. Benedicta Ward (Penguin Classics\, 2003).\nSt. Benedict of Nursia\, RB 1980: The Rule of St. Benedict (Liturgical Press\, 1981).\nSt. Bernard of Clairvaux\, “On the Steps of Humility and Pride” in Bernard of Clairvaux: Selected Works\, trans. G.R. Evans\, Classics of Western Spirituality (Paulist Press\, 1987).\nSt. Bernard of Clairvaux\, “On Conversion” in Bernard of Clairvaux: Selected Works\, trans. G.R. Evans\, Classics of Western Spirituality (Paulist Press\, 1987).\nJohn Cassian\, Institutes\, trans. Boniface Ramsey\, Ancient Christian Writers 58 (New York\, NY: The Newman Press\, 2000). Read especially the preface and Books V-XII on the eight vices.\nOPTIONAL: Jean Leclercq\, The Love of Learning and the Desire for God\, trans. Catharine Misrahi (New York: Fordham University Press\, 1982).\n\n  \nLOCATION AND FORMAT \n\nThe seminar will take place at Our Lady of Dallas Cistercian Abbey in Irving\, Texas.\nThe seminar sessions will be led by the monks of the monastery.\nTravel stipends will be available for currently enrolled students.\nLodging\, meals\, and books will be provided.\nParticipants will arrive at Our Lady of Dallas on Monday\, June 20 (morning)\,and depart on Sunday\, June 26 (afternoon).\nParticipants will be required to read the assigned materials in preparation for the seminar.\n\n  \nAPPLICATION INFORMATION \n\nOpen to men aged 18 through 35. Catholics and non-Catholics are invited to apply.\nApplicants must submit an online application including a statement of interest\, a CV or resume\, and a letter of recommendation from a professor or pastor.\nApplications will be evaluated on a rolling basis. Apply no later than May 17th to receive full consideration. \nA maximum of 15 applicants will be admitted to the seminar.
URL:https://lumenchristi.org/event/2022-monastic-wisdom/
LOCATION:Our Lady of Dallas Cistercian Abbey\, 3550 Cistercian Rd\, Dallas\, TX
CATEGORIES:Summer Seminars
ATTACH;FMTTYPE=image/jpeg:https://lumenchristi.org/wp-content/uploads/2024/10/AdobeStock_76986096-scaled.jpeg
END:VEVENT
END:VCALENDAR