BEGIN:VCALENDAR
VERSION:2.0
PRODID:-//Lumen Christi Institute - ECPv6.15.9//NONSGML v1.0//EN
CALSCALE:GREGORIAN
METHOD:PUBLISH
X-WR-CALNAME:Lumen Christi Institute
X-ORIGINAL-URL:https://lumenchristi.org
X-WR-CALDESC:Events for Lumen Christi Institute
REFRESH-INTERVAL;VALUE=DURATION:PT1H
X-Robots-Tag:noindex
X-PUBLISHED-TTL:PT1H
BEGIN:VTIMEZONE
TZID:America/Chicago
BEGIN:DAYLIGHT
TZOFFSETFROM:-0600
TZOFFSETTO:-0500
TZNAME:CDT
DTSTART:20210314T080000
END:DAYLIGHT
BEGIN:STANDARD
TZOFFSETFROM:-0500
TZOFFSETTO:-0600
TZNAME:CST
DTSTART:20211107T070000
END:STANDARD
BEGIN:DAYLIGHT
TZOFFSETFROM:-0600
TZOFFSETTO:-0500
TZNAME:CDT
DTSTART:20220313T080000
END:DAYLIGHT
BEGIN:STANDARD
TZOFFSETFROM:-0500
TZOFFSETTO:-0600
TZNAME:CST
DTSTART:20221106T070000
END:STANDARD
BEGIN:DAYLIGHT
TZOFFSETFROM:-0600
TZOFFSETTO:-0500
TZNAME:CDT
DTSTART:20230312T080000
END:DAYLIGHT
BEGIN:STANDARD
TZOFFSETFROM:-0500
TZOFFSETTO:-0600
TZNAME:CST
DTSTART:20231105T070000
END:STANDARD
END:VTIMEZONE
BEGIN:VEVENT
DTSTART;TZID=America/Chicago:20220609T090000
DTEND;TZID=America/Chicago:20220611T170000
DTSTAMP:20260424T010514
CREATED:20241006T235435Z
LAST-MODIFIED:20251217T185045Z
UID:15166-1654765200-1654966800@lumenchristi.org
SUMMARY:Catholic Social Thought in Business Education
DESCRIPTION:APPLY HERE\nWe are pleased to announce the fourth annual seminar on “Business and Catholic Social Thought: A Primer.” During the seminar\, graduate students and faculty members in business schools will cover foundational principles in Catholic social thought and apply them to their own field of research and teaching. This seminar aims at widening epistemological preconceptions and showing practical implications of Catholic social thought for business in a way that affirms the goodness of business directed toward the common good. Participants will delve into social encyclicals\, secondary sources\, and relevant business texts that show the path for principled entrepreneurship in order to gain knowledge\, exchange experiences\, receive help with their syllabi and consider how best to integrate Catholic social thought into business education. \nThis seminar is cosponsored by the John A. Ryan Institute for Catholic Social Thought at the University of St. Thomas (MN); the Mendoza College of Business at the University of Notre Dame; the Ciocca Center for Principled Entrepreneurship at the Catholic University of America; the Lumen Christi Institute; and the Markets\, Culture and Ethics Research Centre at the Pontifical University of the Holy Cross\, Rome. \n\nLocation: The seminar will take place at the Mendoza School of Business at the University of Notre Dame in South Bend\, Indiana. A limited number of travel stipends are available on a per need basis (see the application form). All participants will be provided with accommodations and meals. \nApplication Information: This seminar will be open to graduate students and faculty of any specialization in business schools. \nApplicants will be required to submit a completed online application\, including: \n\nAn updated CV/resume.\nA brief statement of research interest related to Catholic social thought no longer than 750 words.\nOne academic writing sample.\n\nAll application materials can be submitted via the online application. Incomplete applications will not be considered. Fifteen students will be admitted to this seminar. The application deadline is February 14. 2022. \nPlease direct any further questions HERE
URL:https://lumenchristi.org/event/2022-business-and-cst/
LOCATION:University of Notre Dame\, Notre Dame\, IN 46556\, Notre Dame\, IN
CATEGORIES:Summer Seminars
ATTACH;FMTTYPE=image/jpeg:https://lumenchristi.org/wp-content/uploads/2024/10/Budget-1_notre_dame-e1750807513975.jpg
END:VEVENT
END:VCALENDAR