BEGIN:VCALENDAR
VERSION:2.0
PRODID:-//Lumen Christi Institute - ECPv6.15.9//NONSGML v1.0//EN
CALSCALE:GREGORIAN
METHOD:PUBLISH
X-WR-CALNAME:Lumen Christi Institute
X-ORIGINAL-URL:https://lumenchristi.org
X-WR-CALDESC:Events for Lumen Christi Institute
REFRESH-INTERVAL;VALUE=DURATION:PT1H
X-Robots-Tag:noindex
X-PUBLISHED-TTL:PT1H
BEGIN:VTIMEZONE
TZID:America/Chicago
BEGIN:DAYLIGHT
TZOFFSETFROM:-0600
TZOFFSETTO:-0500
TZNAME:CDT
DTSTART:20210314T080000
END:DAYLIGHT
BEGIN:STANDARD
TZOFFSETFROM:-0500
TZOFFSETTO:-0600
TZNAME:CST
DTSTART:20211107T070000
END:STANDARD
BEGIN:DAYLIGHT
TZOFFSETFROM:-0600
TZOFFSETTO:-0500
TZNAME:CDT
DTSTART:20220313T080000
END:DAYLIGHT
BEGIN:STANDARD
TZOFFSETFROM:-0500
TZOFFSETTO:-0600
TZNAME:CST
DTSTART:20221106T070000
END:STANDARD
BEGIN:DAYLIGHT
TZOFFSETFROM:-0600
TZOFFSETTO:-0500
TZNAME:CDT
DTSTART:20230312T080000
END:DAYLIGHT
BEGIN:STANDARD
TZOFFSETFROM:-0500
TZOFFSETTO:-0600
TZNAME:CST
DTSTART:20231105T070000
END:STANDARD
END:VTIMEZONE
BEGIN:VEVENT
DTSTART;TZID=America/Chicago:20220626T000000
DTEND;TZID=America/Chicago:20220702T000000
DTSTAMP:20260424T010459
CREATED:20241006T235432Z
LAST-MODIFIED:20251217T195157Z
UID:15164-1656201600-1656720000@lumenchristi.org
SUMMARY:Aquinas’s Five Ways and Where they Lead
DESCRIPTION:APPLY HERE\nThis intensive seminar will discuss St. Thomas Aquinas’s Five Ways of proving the existence of a God and the conception that he thinks they yield: that of a God who is at once utterly simple and utterly perfect\, and therefore utterly beyond our comprehension. The sessions will center on Summa theologiae\, I\, qq. 2-4—especially\, of course\, I\, q. 2\, a. 3\, which contains the Five Ways themselves—and on selected texts from I\, qq. 12 & 13.  Participants will also discuss relevant passages from other works of St. Thomas\, as well as his historical influences and some related contemporary issues. \n\nLOCATION AND FORMAT \n\nThe seminar will be held at Gavin House\, home of the Lumen Christi Institute in Hyde Park\, Chicago.\nBreakfast and lunch on the days of the seminar sessions along with several dinners will be provided.\nParticipants will be responsible for securing your own lodging for the seminar. We can assist and provide information on nearby accommodations. Participants will receive a stipend of up to $850 to offset travel and lodging expenses.\nParticipants should arrive on Sunday\, June 26 and depart on Saturday\, July 2 after the final session.\nParticipants will be required to read the assigned texts in preparation for the seminar.\nThis seminar was defered in 2020. As a result only a limited number of available spaces are available to new applicants.\n\nQUALIFICATIONS AND APPLICATION  \nThis seminar is open to Ph.D. students in theology\, philosophy\, classics\, and other relevant fields of study. \n\nA completed online application form.\nAn updated CV.\nAt least one and no more than two letter(s) of recommendation.\nA statement of research interest no longer than 750 words\, which includes an explanation of how this seminar might bear on the student’s current or future research plans.\nOne academic writing sample (30 pages maximum).\nAll application materials can be submitted via the online application. Incomplete applications will not be considered\n\n\nTHE APPLICATION DEADLINE IS FEBRUARY 15\, 2022. \nContact us with any questions.
URL:https://lumenchristi.org/event/2022-aquinas-five-ways/
LOCATION:Gavin House\, 1220 E 58th St.\, Chicago\, IL\, 60637
CATEGORIES:Summer Seminars
ATTACH;FMTTYPE=image/jpeg:https://lumenchristi.org/wp-content/uploads/2024/10/DSC_0219-1-1-scaled.jpg
END:VEVENT
END:VCALENDAR