BEGIN:VCALENDAR
VERSION:2.0
PRODID:-//Lumen Christi Institute - ECPv6.15.9//NONSGML v1.0//EN
CALSCALE:GREGORIAN
METHOD:PUBLISH
X-WR-CALNAME:Lumen Christi Institute
X-ORIGINAL-URL:https://lumenchristi.org
X-WR-CALDESC:Events for Lumen Christi Institute
REFRESH-INTERVAL;VALUE=DURATION:PT1H
X-Robots-Tag:noindex
X-PUBLISHED-TTL:PT1H
BEGIN:VTIMEZONE
TZID:America/Chicago
BEGIN:DAYLIGHT
TZOFFSETFROM:-0600
TZOFFSETTO:-0500
TZNAME:CDT
DTSTART:20180311T080000
END:DAYLIGHT
BEGIN:STANDARD
TZOFFSETFROM:-0500
TZOFFSETTO:-0600
TZNAME:CST
DTSTART:20181104T070000
END:STANDARD
BEGIN:DAYLIGHT
TZOFFSETFROM:-0600
TZOFFSETTO:-0500
TZNAME:CDT
DTSTART:20190310T080000
END:DAYLIGHT
BEGIN:STANDARD
TZOFFSETFROM:-0500
TZOFFSETTO:-0600
TZNAME:CST
DTSTART:20191103T070000
END:STANDARD
BEGIN:DAYLIGHT
TZOFFSETFROM:-0600
TZOFFSETTO:-0500
TZNAME:CDT
DTSTART:20200308T080000
END:DAYLIGHT
BEGIN:STANDARD
TZOFFSETFROM:-0500
TZOFFSETTO:-0600
TZNAME:CST
DTSTART:20201101T070000
END:STANDARD
END:VTIMEZONE
BEGIN:VEVENT
DTSTART;TZID=America/Chicago:20190706T000000
DTEND;TZID=America/Chicago:20190713T000000
DTSTAMP:20260424T104809
CREATED:20241006T235421Z
LAST-MODIFIED:20260115T180429Z
UID:15151-1562371200-1562976000@lumenchristi.org
SUMMARY:The Thought of John Henry Newman
DESCRIPTION:APPLICATIONS ARE CLOSED FOR THIS SEMINAR \nNow in its seventh consecutive year\, this intensive seminar will examine the achievements of Blessed John Henry Newman as a theologian\, philosopher\, educator\, preacher\, and writer. Remarkably\, in each of these areas Newman produced works that have come to be recognized as classics: An Essay on the Development of Christian Doctrine\, The Grammar of Assent\, The Idea of a University\, The Parochial and Plain Sermons\, and the Apologia Pro Vita Sua. This seminar will approach Newman’s thought through a critical engagement with these texts. \nFormat: There will be two 2-hour sessions each day. The seminar will include presentations by Professor Ker and by participants on the readings assigned\, followed by seminar-style discussion. \nLocation: The seminar will take place at Merton College at the University of Oxford. Participants will be provided with lodging and most meals for the duration of the seminar\, and a travel stipend of up to $700. \nApplication Information: This seminar is open to PhD students\, post docs\, and junior faculty in the humanities and relevant fields. \nApplicants will be required to submit: \n\nA completed online application form.\nAn updated CV.\nAt least one and as many as two letter(s) of recommendation from a member of the program in which the applicant is currently enrolled.\nA statement of research interest no longer than 750 words\, which includes an explanation of how this seminar might bear on the student’s current or future research plans.\nOne academic writing sample (30 pages maximum).\n\nAll application materials can be submitted via the online application. Incomplete applications will not be considered. Fifteen applicants will be admitted to this seminar. Application materials are due March 15. \n\nFREQUENTLY ASKED QUESTIONS \nCan I apply for more than one seminar? Yes. You may apply for multiple seminars. Please indicate your order of preference in your statement of purpose for each application. Each applicant may only be admitted to one seminar. \nI am a PhD student graduating this academic year. Can I still apply? Yes! \nI am currently an undergraduate or masters student\, but have been admitted to a PhD program for the next academic year. Can I still apply?\nYes\, please indicate this somehwere in your application. \nI have attended a Lumen Christi Institute seminar in the past. May I still apply? Yes! \nDo I have to be Catholic to apply? No. The Lumen Christi Institute exists to promotes the Catholic intellectual tradition and is committed to the integration of the intellectual and spiritual life. The Institute welcomes seminar participants of all or no religious affiliation\, and wants to assure all applicants that the opportunities to participate in devotional activities are optional. \nIn addition to the travel stipend\, are there other funding possibilities? Seminar participation includes an opportunity to give a formal presentation and inclusion in the official program and schedule. We encourage participants to seek funding from their home institutions or other sources to supplement the travel stipend offered by the Lumen Christi Institute. \nWhen do I get my Travel Stipend? Stipends are distributed as a refund after successful completion of the seminar and seminar evaluations. Exceptions can be made on case by case basis. \nContact us with any further questions.
URL:https://lumenchristi.org/event/2019-newman-seminar-ker/
LOCATION:Merton College\, Oxford\, Merton St\, Oxford OX1 4JD\, UK\, Oxford\, United Kingdom
CATEGORIES:Summer Seminars
ATTACH;FMTTYPE=image/jpeg:https://lumenchristi.org/wp-content/uploads/2024/10/Oxford-4_1-1-scaled.jpg
END:VEVENT
END:VCALENDAR