BEGIN:VCALENDAR
VERSION:2.0
PRODID:-//Lumen Christi Institute - ECPv6.15.9//NONSGML v1.0//EN
CALSCALE:GREGORIAN
METHOD:PUBLISH
X-WR-CALNAME:Lumen Christi Institute
X-ORIGINAL-URL:https://lumenchristi.org
X-WR-CALDESC:Events for Lumen Christi Institute
REFRESH-INTERVAL;VALUE=DURATION:PT1H
X-Robots-Tag:noindex
X-PUBLISHED-TTL:PT1H
BEGIN:VTIMEZONE
TZID:America/Chicago
BEGIN:DAYLIGHT
TZOFFSETFROM:-0600
TZOFFSETTO:-0500
TZNAME:CDT
DTSTART:20180311T080000
END:DAYLIGHT
BEGIN:STANDARD
TZOFFSETFROM:-0500
TZOFFSETTO:-0600
TZNAME:CST
DTSTART:20181104T070000
END:STANDARD
BEGIN:DAYLIGHT
TZOFFSETFROM:-0600
TZOFFSETTO:-0500
TZNAME:CDT
DTSTART:20190310T080000
END:DAYLIGHT
BEGIN:STANDARD
TZOFFSETFROM:-0500
TZOFFSETTO:-0600
TZNAME:CST
DTSTART:20191103T070000
END:STANDARD
BEGIN:DAYLIGHT
TZOFFSETFROM:-0600
TZOFFSETTO:-0500
TZNAME:CDT
DTSTART:20200308T080000
END:DAYLIGHT
BEGIN:STANDARD
TZOFFSETFROM:-0500
TZOFFSETTO:-0600
TZNAME:CST
DTSTART:20201101T070000
END:STANDARD
END:VTIMEZONE
BEGIN:VEVENT
DTSTART;TZID=America/Chicago:20190602T000000
DTEND;TZID=America/Chicago:20190605T000000
DTSTAMP:20260424T120931
CREATED:20241006T235421Z
LAST-MODIFIED:20260115T191456Z
UID:15149-1559433600-1559692800@lumenchristi.org
SUMMARY:Business and Catholic Social Thought: A Primer
DESCRIPTION:APPLICATIONS FOR THIS SEMINAR ARE CLOSED \nWe are excited to announce our newly created seminar designed as an introduction and immersion into Catholic social thought for graduate students and faculty in business schools. Participants will cover foundational principles in Catholic social thought and apply them to their own field of research and teaching. This seminar aims at widening epistemological preconceptions and showing practical implications of Catholic social thought for business in a way that affirms the goodness of business directed toward the common good. Participants will delve into social encyclicals\, secondary sources\, and relevant business texts that show the path for principled entrepreneurship. \nThis seminar is cosponsored by the John A. Ryan Institute for Catholic Social Thought at the University of St. Thomas (MN); the Mendoza College of Business at the University of Notre Dame; the Ciocca Center for Principled Entrepreneurship at the Catholic University of America; the Lumen Christi Institute; and the Markets\, Culture and Ethics Research Centre at the Pontifical University of the Holy Cross\, Rome. \n\nFormat: There will be four sessions each day\, featuring a different instructor. Each instructor will open with a lecture\, and then we will turn to a seminar-style discussion of the texts and issues at hand. \nLocation: The seminar will take place at the University of Notre Dame in South Bend\, Indiana. A limited number of travel stipends are available on a per need basis (see the application form). All participants will be provided with accommodations and meals. \nApplication Information: This seminar will be open to graduate students and faculty of any specialization in business schools. \nApplicants will be required to submit a completed online application\, including: \n\nAn updated CV/resume.\nA brief statement of research interest related to Catholic social thought no longer than 750 words.\nOne academic writing sample.\n\nAll application materials can be submitted via the online application. Incomplete applications will not be considered. Fifteen students will be admitted to this seminar. Application materials are due March 1. \nPlease direct any further questions HERE
URL:https://lumenchristi.org/event/2019-business-and-cst/
LOCATION:University of Notre Dame\, Notre Dame\, IN 46556\, Notre Dame\, IN
CATEGORIES:Summer Seminars
ATTACH;FMTTYPE=image/jpeg:https://lumenchristi.org/wp-content/uploads/2024/10/Budget-1_notre_dame-e1750807513975.jpg
END:VEVENT
END:VCALENDAR