BEGIN:VCALENDAR
VERSION:2.0
PRODID:-//Lumen Christi Institute - ECPv6.15.9//NONSGML v1.0//EN
CALSCALE:GREGORIAN
METHOD:PUBLISH
X-WR-CALNAME:Lumen Christi Institute
X-ORIGINAL-URL:https://lumenchristi.org
X-WR-CALDESC:Events for Lumen Christi Institute
REFRESH-INTERVAL;VALUE=DURATION:PT1H
X-Robots-Tag:noindex
X-PUBLISHED-TTL:PT1H
BEGIN:VTIMEZONE
TZID:America/Chicago
BEGIN:DAYLIGHT
TZOFFSETFROM:-0600
TZOFFSETTO:-0500
TZNAME:CDT
DTSTART:20120311T080000
END:DAYLIGHT
BEGIN:STANDARD
TZOFFSETFROM:-0500
TZOFFSETTO:-0600
TZNAME:CST
DTSTART:20121104T070000
END:STANDARD
BEGIN:DAYLIGHT
TZOFFSETFROM:-0600
TZOFFSETTO:-0500
TZNAME:CDT
DTSTART:20130310T080000
END:DAYLIGHT
BEGIN:STANDARD
TZOFFSETFROM:-0500
TZOFFSETTO:-0600
TZNAME:CST
DTSTART:20131103T070000
END:STANDARD
BEGIN:DAYLIGHT
TZOFFSETFROM:-0600
TZOFFSETTO:-0500
TZNAME:CDT
DTSTART:20140309T080000
END:DAYLIGHT
BEGIN:STANDARD
TZOFFSETFROM:-0500
TZOFFSETTO:-0600
TZNAME:CST
DTSTART:20141102T070000
END:STANDARD
END:VTIMEZONE
BEGIN:VEVENT
DTSTART;TZID=America/Chicago:20130605T163000
DTEND;TZID=America/Chicago:20130605T163000
DTSTAMP:20260424T010940
CREATED:20241003T165835Z
LAST-MODIFIED:20241023T165519Z
UID:12714-1370449800-1370449800@lumenchristi.org
SUMMARY:The Spiritual Nature of Man
DESCRIPTION:“The Spiritual Nature of Man”\nAnselm Muller\, University of Trier \nCosponsored by the Department of Philosophy \nAre human beings essentially spiritual creatures or can human life be explained entirely by material principles? The great twentieth century philosopher\, Elizabeth Anscombe\, suggests that we are essentially spiritual beings because we are naturally and consciously oriented beyond our material life toward transcendent norms of truth and goodness.  This is the ground of our dignity and value over other\, non-spiritual animals.
URL:https://lumenchristi.org/event/2013-06-spiritual-nature-of-man-anselm-muller/
LOCATION:Classics 110\, 1010 E 59th St.\nChicago\, IL 60637\, Hyde Park\, IL
ATTACH;FMTTYPE=image/jpeg:https://lumenchristi.org/wp-content/uploads/2024/10/anscombe.jpg
END:VEVENT
END:VCALENDAR